BEGIN:VCALENDAR
VERSION:2.0
PRODID:-//Portico Healthnet - ECPv6.15.20//NONSGML v1.0//EN
CALSCALE:GREGORIAN
METHOD:PUBLISH
X-ORIGINAL-URL:https://porticohealthnet.org
X-WR-CALDESC:Events for Portico Healthnet
REFRESH-INTERVAL;VALUE=DURATION:PT1H
X-Robots-Tag:noindex
X-PUBLISHED-TTL:PT1H
BEGIN:VTIMEZONE
TZID:America/Chicago
BEGIN:DAYLIGHT
TZOFFSETFROM:-0600
TZOFFSETTO:-0500
TZNAME:CDT
DTSTART:20230312T080000
END:DAYLIGHT
BEGIN:STANDARD
TZOFFSETFROM:-0500
TZOFFSETTO:-0600
TZNAME:CST
DTSTART:20231105T070000
END:STANDARD
BEGIN:DAYLIGHT
TZOFFSETFROM:-0600
TZOFFSETTO:-0500
TZNAME:CDT
DTSTART:20240310T080000
END:DAYLIGHT
BEGIN:STANDARD
TZOFFSETFROM:-0500
TZOFFSETTO:-0600
TZNAME:CST
DTSTART:20241103T070000
END:STANDARD
BEGIN:DAYLIGHT
TZOFFSETFROM:-0600
TZOFFSETTO:-0500
TZNAME:CDT
DTSTART:20250309T080000
END:DAYLIGHT
BEGIN:STANDARD
TZOFFSETFROM:-0500
TZOFFSETTO:-0600
TZNAME:CST
DTSTART:20251102T070000
END:STANDARD
END:VTIMEZONE
BEGIN:VEVENT
DTSTART;TZID=America/Chicago:20240513T100000
DTEND;TZID=America/Chicago:20240513T140000
DTSTAMP:20260424T001905
CREATED:20240408T195900Z
LAST-MODIFIED:20240418T163205Z
UID:10000788-1715594400-1715608800@porticohealthnet.org
SUMMARY:Wilder Foundation Pop-up Event
DESCRIPTION:Meet with Portico’s experienced MNsure Navigators for free health insurance enrollment and renewal assistance in partnership with Ramsey County at the Wilder Foundation! \nRegister for this event by clicking the link below. \nREGISTER NOW
URL:https://porticohealthnet.org/event/wilder-foundation-pop-up-event/
LOCATION:Wilder Foundation\, 451 Lexington Pkwy N\, St. Paul\, Minnesota\, 55104
END:VEVENT
END:VCALENDAR