BEGIN:VCALENDAR
VERSION:2.0
PRODID:-//Portico Healthnet - ECPv6.15.13//NONSGML v1.0//EN
CALSCALE:GREGORIAN
METHOD:PUBLISH
X-WR-CALNAME:Portico Healthnet
X-ORIGINAL-URL:https://porticohealthnet.org
X-WR-CALDESC:Events for Portico Healthnet
REFRESH-INTERVAL;VALUE=DURATION:PT1H
X-Robots-Tag:noindex
X-PUBLISHED-TTL:PT1H
BEGIN:VTIMEZONE
TZID:America/Chicago
BEGIN:DAYLIGHT
TZOFFSETFROM:-0600
TZOFFSETTO:-0500
TZNAME:CDT
DTSTART:20240310T080000
END:DAYLIGHT
BEGIN:STANDARD
TZOFFSETFROM:-0500
TZOFFSETTO:-0600
TZNAME:CST
DTSTART:20241103T070000
END:STANDARD
BEGIN:DAYLIGHT
TZOFFSETFROM:-0600
TZOFFSETTO:-0500
TZNAME:CDT
DTSTART:20250309T080000
END:DAYLIGHT
BEGIN:STANDARD
TZOFFSETFROM:-0500
TZOFFSETTO:-0600
TZNAME:CST
DTSTART:20251102T070000
END:STANDARD
BEGIN:DAYLIGHT
TZOFFSETFROM:-0600
TZOFFSETTO:-0500
TZNAME:CDT
DTSTART:20260308T080000
END:DAYLIGHT
BEGIN:STANDARD
TZOFFSETFROM:-0500
TZOFFSETTO:-0600
TZNAME:CST
DTSTART:20261101T070000
END:STANDARD
BEGIN:DAYLIGHT
TZOFFSETFROM:-0600
TZOFFSETTO:-0500
TZNAME:CDT
DTSTART:20270314T080000
END:DAYLIGHT
BEGIN:STANDARD
TZOFFSETFROM:-0500
TZOFFSETTO:-0600
TZNAME:CST
DTSTART:20271107T070000
END:STANDARD
END:VTIMEZONE
BEGIN:VEVENT
DTSTART;TZID=America/Chicago:20260122T123000
DTEND;TZID=America/Chicago:20260122T163000
DTSTAMP:20260421T002933
CREATED:20260108T144508Z
LAST-MODIFIED:20260224T170536Z
UID:10002011-1769085000-1769099400@porticohealthnet.org
SUMMARY:Richfield Health Resource Center
DESCRIPTION:Portico’s experienced MNsure Navigators offer in-person appointments at several community locations. Appointments can be scheduled online through the links below or by calling us at 651.489.CARE (2273). Please schedule an appointment to ensure navigator availability. \n\nSchedule An Appointment \nPortico’s on-site services are made possible through a grant by the: \n\n  \n 
URL:https://porticohealthnet.org/event/richfield-health-resource-center-2-2/2026-01-22/
LOCATION:Richfield Health Resource Center at Richfield High School\, 7001 Harriet Avenue\, Door 13A\, Richfield\, MN\, 55423\, United States
CATEGORIES:Enrollment Events
END:VEVENT
BEGIN:VEVENT
DTSTART;TZID=America/Chicago:20260115T123000
DTEND;TZID=America/Chicago:20260115T163000
DTSTAMP:20260421T002933
CREATED:20260108T144508Z
LAST-MODIFIED:20260224T170536Z
UID:10002010-1768480200-1768494600@porticohealthnet.org
SUMMARY:Richfield Health Resource Center
DESCRIPTION:Portico’s experienced MNsure Navigators offer in-person appointments at several community locations. Appointments can be scheduled online through the links below or by calling us at 651.489.CARE (2273). Please schedule an appointment to ensure navigator availability. \n\nSchedule An Appointment \nPortico’s on-site services are made possible through a grant by the: \n\n  \n 
URL:https://porticohealthnet.org/event/richfield-health-resource-center-2-2/2026-01-15/
LOCATION:Richfield Health Resource Center at Richfield High School\, 7001 Harriet Avenue\, Door 13A\, Richfield\, MN\, 55423\, United States
CATEGORIES:Enrollment Events
END:VEVENT
BEGIN:VEVENT
DTSTART;TZID=America/Chicago:20260101T123000
DTEND;TZID=America/Chicago:20260101T163000
DTSTAMP:20260421T002933
CREATED:20250311T163554Z
LAST-MODIFIED:20250311T163554Z
UID:10002008-1767270600-1767285000@porticohealthnet.org
SUMMARY:Richfield Health Resource Center
DESCRIPTION:Portico’s experienced MNsure Navigators offer in-person appointments at several community locations. Appointments can be scheduled online through the links below or by calling us at 651.489.CARE (2273). Please schedule an appointment to ensure navigator availability. \n\nSchedule An Appointment \nPortico’s on-site services are made possible through a grant by the: \n\n  \n 
URL:https://porticohealthnet.org/event/richfield-health-resource-center-2/2026-01-01/
LOCATION:Richfield Health Resource Center at Richfield High School\, 7001 Harriet Avenue\, Door 13A\, Richfield\, MN\, 55423\, United States
CATEGORIES:Enrollment Events
END:VEVENT
BEGIN:VEVENT
DTSTART;TZID=America/Chicago:20251225T123000
DTEND;TZID=America/Chicago:20251225T163000
DTSTAMP:20260421T002933
CREATED:20250311T163554Z
LAST-MODIFIED:20250311T163554Z
UID:10002007-1766665800-1766680200@porticohealthnet.org
SUMMARY:Richfield Health Resource Center
DESCRIPTION:Portico’s experienced MNsure Navigators offer in-person appointments at several community locations. Appointments can be scheduled online through the links below or by calling us at 651.489.CARE (2273). Please schedule an appointment to ensure navigator availability. \n\nSchedule An Appointment \nPortico’s on-site services are made possible through a grant by the: \n\n  \n 
URL:https://porticohealthnet.org/event/richfield-health-resource-center-2/2025-12-25/
LOCATION:Richfield Health Resource Center at Richfield High School\, 7001 Harriet Avenue\, Door 13A\, Richfield\, MN\, 55423\, United States
CATEGORIES:Enrollment Events
END:VEVENT
BEGIN:VEVENT
DTSTART;TZID=America/Chicago:20251218T123000
DTEND;TZID=America/Chicago:20251218T163000
DTSTAMP:20260421T002933
CREATED:20250311T163554Z
LAST-MODIFIED:20250311T163554Z
UID:10002006-1766061000-1766075400@porticohealthnet.org
SUMMARY:Richfield Health Resource Center
DESCRIPTION:Portico’s experienced MNsure Navigators offer in-person appointments at several community locations. Appointments can be scheduled online through the links below or by calling us at 651.489.CARE (2273). Please schedule an appointment to ensure navigator availability. \n\nSchedule An Appointment \nPortico’s on-site services are made possible through a grant by the: \n\n  \n 
URL:https://porticohealthnet.org/event/richfield-health-resource-center-2/2025-12-18/
LOCATION:Richfield Health Resource Center at Richfield High School\, 7001 Harriet Avenue\, Door 13A\, Richfield\, MN\, 55423\, United States
CATEGORIES:Enrollment Events
END:VEVENT
BEGIN:VEVENT
DTSTART;TZID=America/Chicago:20251211T123000
DTEND;TZID=America/Chicago:20251211T163000
DTSTAMP:20260421T002933
CREATED:20250311T163554Z
LAST-MODIFIED:20250311T163554Z
UID:10002005-1765456200-1765470600@porticohealthnet.org
SUMMARY:Richfield Health Resource Center
DESCRIPTION:Portico’s experienced MNsure Navigators offer in-person appointments at several community locations. Appointments can be scheduled online through the links below or by calling us at 651.489.CARE (2273). Please schedule an appointment to ensure navigator availability. \n\nSchedule An Appointment \nPortico’s on-site services are made possible through a grant by the: \n\n  \n 
URL:https://porticohealthnet.org/event/richfield-health-resource-center-2/2025-12-11/
LOCATION:Richfield Health Resource Center at Richfield High School\, 7001 Harriet Avenue\, Door 13A\, Richfield\, MN\, 55423\, United States
CATEGORIES:Enrollment Events
END:VEVENT
BEGIN:VEVENT
DTSTART;TZID=America/Chicago:20251204T123000
DTEND;TZID=America/Chicago:20251204T163000
DTSTAMP:20260421T002933
CREATED:20250311T163554Z
LAST-MODIFIED:20250311T163554Z
UID:10002004-1764851400-1764865800@porticohealthnet.org
SUMMARY:Richfield Health Resource Center
DESCRIPTION:Portico’s experienced MNsure Navigators offer in-person appointments at several community locations. Appointments can be scheduled online through the links below or by calling us at 651.489.CARE (2273). Please schedule an appointment to ensure navigator availability. \n\nSchedule An Appointment \nPortico’s on-site services are made possible through a grant by the: \n\n  \n 
URL:https://porticohealthnet.org/event/richfield-health-resource-center-2/2025-12-04/
LOCATION:Richfield Health Resource Center at Richfield High School\, 7001 Harriet Avenue\, Door 13A\, Richfield\, MN\, 55423\, United States
CATEGORIES:Enrollment Events
END:VEVENT
BEGIN:VEVENT
DTSTART;TZID=America/Chicago:20251127T123000
DTEND;TZID=America/Chicago:20251127T163000
DTSTAMP:20260421T002933
CREATED:20250311T163554Z
LAST-MODIFIED:20250311T163554Z
UID:10002003-1764246600-1764261000@porticohealthnet.org
SUMMARY:Richfield Health Resource Center
DESCRIPTION:Portico’s experienced MNsure Navigators offer in-person appointments at several community locations. Appointments can be scheduled online through the links below or by calling us at 651.489.CARE (2273). Please schedule an appointment to ensure navigator availability. \n\nSchedule An Appointment \nPortico’s on-site services are made possible through a grant by the: \n\n  \n 
URL:https://porticohealthnet.org/event/richfield-health-resource-center-2/2025-11-27/
LOCATION:Richfield Health Resource Center at Richfield High School\, 7001 Harriet Avenue\, Door 13A\, Richfield\, MN\, 55423\, United States
CATEGORIES:Enrollment Events
END:VEVENT
BEGIN:VEVENT
DTSTART;TZID=America/Chicago:20251120T123000
DTEND;TZID=America/Chicago:20251120T163000
DTSTAMP:20260421T002933
CREATED:20250311T163554Z
LAST-MODIFIED:20250311T163554Z
UID:10002002-1763641800-1763656200@porticohealthnet.org
SUMMARY:Richfield Health Resource Center
DESCRIPTION:Portico’s experienced MNsure Navigators offer in-person appointments at several community locations. Appointments can be scheduled online through the links below or by calling us at 651.489.CARE (2273). Please schedule an appointment to ensure navigator availability. \n\nSchedule An Appointment \nPortico’s on-site services are made possible through a grant by the: \n\n  \n 
URL:https://porticohealthnet.org/event/richfield-health-resource-center-2/2025-11-20/
LOCATION:Richfield Health Resource Center at Richfield High School\, 7001 Harriet Avenue\, Door 13A\, Richfield\, MN\, 55423\, United States
CATEGORIES:Enrollment Events
END:VEVENT
BEGIN:VEVENT
DTSTART;TZID=America/Chicago:20251113T123000
DTEND;TZID=America/Chicago:20251113T163000
DTSTAMP:20260421T002933
CREATED:20250311T163554Z
LAST-MODIFIED:20250311T163554Z
UID:10002001-1763037000-1763051400@porticohealthnet.org
SUMMARY:Richfield Health Resource Center
DESCRIPTION:Portico’s experienced MNsure Navigators offer in-person appointments at several community locations. Appointments can be scheduled online through the links below or by calling us at 651.489.CARE (2273). Please schedule an appointment to ensure navigator availability. \n\nSchedule An Appointment \nPortico’s on-site services are made possible through a grant by the: \n\n  \n 
URL:https://porticohealthnet.org/event/richfield-health-resource-center-2/2025-11-13/
LOCATION:Richfield Health Resource Center at Richfield High School\, 7001 Harriet Avenue\, Door 13A\, Richfield\, MN\, 55423\, United States
CATEGORIES:Enrollment Events
END:VEVENT
BEGIN:VEVENT
DTSTART;TZID=America/Chicago:20251106T123000
DTEND;TZID=America/Chicago:20251106T163000
DTSTAMP:20260421T002933
CREATED:20250311T163554Z
LAST-MODIFIED:20250311T163554Z
UID:10002000-1762432200-1762446600@porticohealthnet.org
SUMMARY:Richfield Health Resource Center
DESCRIPTION:Portico’s experienced MNsure Navigators offer in-person appointments at several community locations. Appointments can be scheduled online through the links below or by calling us at 651.489.CARE (2273). Please schedule an appointment to ensure navigator availability. \n\nSchedule An Appointment \nPortico’s on-site services are made possible through a grant by the: \n\n  \n 
URL:https://porticohealthnet.org/event/richfield-health-resource-center-2/2025-11-06/
LOCATION:Richfield Health Resource Center at Richfield High School\, 7001 Harriet Avenue\, Door 13A\, Richfield\, MN\, 55423\, United States
CATEGORIES:Enrollment Events
END:VEVENT
BEGIN:VEVENT
DTSTART;TZID=America/Chicago:20251030T123000
DTEND;TZID=America/Chicago:20251030T163000
DTSTAMP:20260421T002933
CREATED:20250311T163554Z
LAST-MODIFIED:20250311T163554Z
UID:10001999-1761827400-1761841800@porticohealthnet.org
SUMMARY:Richfield Health Resource Center
DESCRIPTION:Portico’s experienced MNsure Navigators offer in-person appointments at several community locations. Appointments can be scheduled online through the links below or by calling us at 651.489.CARE (2273). Please schedule an appointment to ensure navigator availability. \n\nSchedule An Appointment \nPortico’s on-site services are made possible through a grant by the: \n\n  \n 
URL:https://porticohealthnet.org/event/richfield-health-resource-center-2/2025-10-30/
LOCATION:Richfield Health Resource Center at Richfield High School\, 7001 Harriet Avenue\, Door 13A\, Richfield\, MN\, 55423\, United States
CATEGORIES:Enrollment Events
END:VEVENT
BEGIN:VEVENT
DTSTART;TZID=America/Chicago:20251023T123000
DTEND;TZID=America/Chicago:20251023T163000
DTSTAMP:20260421T002933
CREATED:20250311T163554Z
LAST-MODIFIED:20250311T163554Z
UID:10001998-1761222600-1761237000@porticohealthnet.org
SUMMARY:Richfield Health Resource Center
DESCRIPTION:Portico’s experienced MNsure Navigators offer in-person appointments at several community locations. Appointments can be scheduled online through the links below or by calling us at 651.489.CARE (2273). Please schedule an appointment to ensure navigator availability. \n\nSchedule An Appointment \nPortico’s on-site services are made possible through a grant by the: \n\n  \n 
URL:https://porticohealthnet.org/event/richfield-health-resource-center-2/2025-10-23/
LOCATION:Richfield Health Resource Center at Richfield High School\, 7001 Harriet Avenue\, Door 13A\, Richfield\, MN\, 55423\, United States
CATEGORIES:Enrollment Events
END:VEVENT
BEGIN:VEVENT
DTSTART;TZID=America/Chicago:20251016T123000
DTEND;TZID=America/Chicago:20251016T163000
DTSTAMP:20260421T002933
CREATED:20250311T163554Z
LAST-MODIFIED:20250311T163554Z
UID:10001997-1760617800-1760632200@porticohealthnet.org
SUMMARY:Richfield Health Resource Center
DESCRIPTION:Portico’s experienced MNsure Navigators offer in-person appointments at several community locations. Appointments can be scheduled online through the links below or by calling us at 651.489.CARE (2273). Please schedule an appointment to ensure navigator availability. \n\nSchedule An Appointment \nPortico’s on-site services are made possible through a grant by the: \n\n  \n 
URL:https://porticohealthnet.org/event/richfield-health-resource-center-2/2025-10-16/
LOCATION:Richfield Health Resource Center at Richfield High School\, 7001 Harriet Avenue\, Door 13A\, Richfield\, MN\, 55423\, United States
CATEGORIES:Enrollment Events
END:VEVENT
BEGIN:VEVENT
DTSTART;TZID=America/Chicago:20251009T123000
DTEND;TZID=America/Chicago:20251009T163000
DTSTAMP:20260421T002933
CREATED:20250311T163554Z
LAST-MODIFIED:20250311T163554Z
UID:10001996-1760013000-1760027400@porticohealthnet.org
SUMMARY:Richfield Health Resource Center
DESCRIPTION:Portico’s experienced MNsure Navigators offer in-person appointments at several community locations. Appointments can be scheduled online through the links below or by calling us at 651.489.CARE (2273). Please schedule an appointment to ensure navigator availability. \n\nSchedule An Appointment \nPortico’s on-site services are made possible through a grant by the: \n\n  \n 
URL:https://porticohealthnet.org/event/richfield-health-resource-center-2/2025-10-09/
LOCATION:Richfield Health Resource Center at Richfield High School\, 7001 Harriet Avenue\, Door 13A\, Richfield\, MN\, 55423\, United States
CATEGORIES:Enrollment Events
END:VEVENT
BEGIN:VEVENT
DTSTART;TZID=America/Chicago:20251002T123000
DTEND;TZID=America/Chicago:20251002T163000
DTSTAMP:20260421T002933
CREATED:20250311T163554Z
LAST-MODIFIED:20250311T163554Z
UID:10001995-1759408200-1759422600@porticohealthnet.org
SUMMARY:Richfield Health Resource Center
DESCRIPTION:Portico’s experienced MNsure Navigators offer in-person appointments at several community locations. Appointments can be scheduled online through the links below or by calling us at 651.489.CARE (2273). Please schedule an appointment to ensure navigator availability. \n\nSchedule An Appointment \nPortico’s on-site services are made possible through a grant by the: \n\n  \n 
URL:https://porticohealthnet.org/event/richfield-health-resource-center-2/2025-10-02/
LOCATION:Richfield Health Resource Center at Richfield High School\, 7001 Harriet Avenue\, Door 13A\, Richfield\, MN\, 55423\, United States
CATEGORIES:Enrollment Events
END:VEVENT
BEGIN:VEVENT
DTSTART;TZID=America/Chicago:20250925T123000
DTEND;TZID=America/Chicago:20250925T163000
DTSTAMP:20260421T002933
CREATED:20250311T163554Z
LAST-MODIFIED:20250311T163554Z
UID:10001994-1758803400-1758817800@porticohealthnet.org
SUMMARY:Richfield Health Resource Center
DESCRIPTION:Portico’s experienced MNsure Navigators offer in-person appointments at several community locations. Appointments can be scheduled online through the links below or by calling us at 651.489.CARE (2273). Please schedule an appointment to ensure navigator availability. \n\nSchedule An Appointment \nPortico’s on-site services are made possible through a grant by the: \n\n  \n 
URL:https://porticohealthnet.org/event/richfield-health-resource-center-2/2025-09-25/
LOCATION:Richfield Health Resource Center at Richfield High School\, 7001 Harriet Avenue\, Door 13A\, Richfield\, MN\, 55423\, United States
CATEGORIES:Enrollment Events
END:VEVENT
BEGIN:VEVENT
DTSTART;TZID=America/Chicago:20250918T123000
DTEND;TZID=America/Chicago:20250918T163000
DTSTAMP:20260421T002933
CREATED:20250311T163554Z
LAST-MODIFIED:20250311T163554Z
UID:10001993-1758198600-1758213000@porticohealthnet.org
SUMMARY:Richfield Health Resource Center
DESCRIPTION:Portico’s experienced MNsure Navigators offer in-person appointments at several community locations. Appointments can be scheduled online through the links below or by calling us at 651.489.CARE (2273). Please schedule an appointment to ensure navigator availability. \n\nSchedule An Appointment \nPortico’s on-site services are made possible through a grant by the: \n\n  \n 
URL:https://porticohealthnet.org/event/richfield-health-resource-center-2/2025-09-18/
LOCATION:Richfield Health Resource Center at Richfield High School\, 7001 Harriet Avenue\, Door 13A\, Richfield\, MN\, 55423\, United States
CATEGORIES:Enrollment Events
END:VEVENT
BEGIN:VEVENT
DTSTART;TZID=America/Chicago:20250911T123000
DTEND;TZID=America/Chicago:20250911T163000
DTSTAMP:20260421T002933
CREATED:20250311T163554Z
LAST-MODIFIED:20250311T163554Z
UID:10001992-1757593800-1757608200@porticohealthnet.org
SUMMARY:Richfield Health Resource Center
DESCRIPTION:Portico’s experienced MNsure Navigators offer in-person appointments at several community locations. Appointments can be scheduled online through the links below or by calling us at 651.489.CARE (2273). Please schedule an appointment to ensure navigator availability. \n\nSchedule An Appointment \nPortico’s on-site services are made possible through a grant by the: \n\n  \n 
URL:https://porticohealthnet.org/event/richfield-health-resource-center-2/2025-09-11/
LOCATION:Richfield Health Resource Center at Richfield High School\, 7001 Harriet Avenue\, Door 13A\, Richfield\, MN\, 55423\, United States
CATEGORIES:Enrollment Events
END:VEVENT
BEGIN:VEVENT
DTSTART;TZID=America/Chicago:20250904T123000
DTEND;TZID=America/Chicago:20250904T163000
DTSTAMP:20260421T002933
CREATED:20250311T163554Z
LAST-MODIFIED:20250311T163554Z
UID:10001991-1756989000-1757003400@porticohealthnet.org
SUMMARY:Richfield Health Resource Center
DESCRIPTION:Portico’s experienced MNsure Navigators offer in-person appointments at several community locations. Appointments can be scheduled online through the links below or by calling us at 651.489.CARE (2273). Please schedule an appointment to ensure navigator availability. \n\nSchedule An Appointment \nPortico’s on-site services are made possible through a grant by the: \n\n  \n 
URL:https://porticohealthnet.org/event/richfield-health-resource-center-2/2025-09-04/
LOCATION:Richfield Health Resource Center at Richfield High School\, 7001 Harriet Avenue\, Door 13A\, Richfield\, MN\, 55423\, United States
CATEGORIES:Enrollment Events
END:VEVENT
BEGIN:VEVENT
DTSTART;TZID=America/Chicago:20250828T123000
DTEND;TZID=America/Chicago:20250828T163000
DTSTAMP:20260421T002933
CREATED:20250311T163554Z
LAST-MODIFIED:20250311T163554Z
UID:10001990-1756384200-1756398600@porticohealthnet.org
SUMMARY:Richfield Health Resource Center
DESCRIPTION:Portico’s experienced MNsure Navigators offer in-person appointments at several community locations. Appointments can be scheduled online through the links below or by calling us at 651.489.CARE (2273). Please schedule an appointment to ensure navigator availability. \n\nSchedule An Appointment \nPortico’s on-site services are made possible through a grant by the: \n\n  \n 
URL:https://porticohealthnet.org/event/richfield-health-resource-center-2/2025-08-28/
LOCATION:Richfield Health Resource Center at Richfield High School\, 7001 Harriet Avenue\, Door 13A\, Richfield\, MN\, 55423\, United States
CATEGORIES:Enrollment Events
END:VEVENT
BEGIN:VEVENT
DTSTART;TZID=America/Chicago:20250821T123000
DTEND;TZID=America/Chicago:20250821T163000
DTSTAMP:20260421T002933
CREATED:20250311T163554Z
LAST-MODIFIED:20250311T163554Z
UID:10001989-1755779400-1755793800@porticohealthnet.org
SUMMARY:Richfield Health Resource Center
DESCRIPTION:Portico’s experienced MNsure Navigators offer in-person appointments at several community locations. Appointments can be scheduled online through the links below or by calling us at 651.489.CARE (2273). Please schedule an appointment to ensure navigator availability. \n\nSchedule An Appointment \nPortico’s on-site services are made possible through a grant by the: \n\n  \n 
URL:https://porticohealthnet.org/event/richfield-health-resource-center-2/2025-08-21/
LOCATION:Richfield Health Resource Center at Richfield High School\, 7001 Harriet Avenue\, Door 13A\, Richfield\, MN\, 55423\, United States
CATEGORIES:Enrollment Events
END:VEVENT
BEGIN:VEVENT
DTSTART;TZID=America/Chicago:20250814T123000
DTEND;TZID=America/Chicago:20250814T163000
DTSTAMP:20260421T002933
CREATED:20250311T163554Z
LAST-MODIFIED:20250311T163554Z
UID:10001988-1755174600-1755189000@porticohealthnet.org
SUMMARY:Richfield Health Resource Center
DESCRIPTION:Portico’s experienced MNsure Navigators offer in-person appointments at several community locations. Appointments can be scheduled online through the links below or by calling us at 651.489.CARE (2273). Please schedule an appointment to ensure navigator availability. \n\nSchedule An Appointment \nPortico’s on-site services are made possible through a grant by the: \n\n  \n 
URL:https://porticohealthnet.org/event/richfield-health-resource-center-2/2025-08-14/
LOCATION:Richfield Health Resource Center at Richfield High School\, 7001 Harriet Avenue\, Door 13A\, Richfield\, MN\, 55423\, United States
CATEGORIES:Enrollment Events
END:VEVENT
BEGIN:VEVENT
DTSTART;TZID=America/Chicago:20250807T123000
DTEND;TZID=America/Chicago:20250807T163000
DTSTAMP:20260421T002933
CREATED:20250311T163554Z
LAST-MODIFIED:20250311T163554Z
UID:10001987-1754569800-1754584200@porticohealthnet.org
SUMMARY:Richfield Health Resource Center
DESCRIPTION:Portico’s experienced MNsure Navigators offer in-person appointments at several community locations. Appointments can be scheduled online through the links below or by calling us at 651.489.CARE (2273). Please schedule an appointment to ensure navigator availability. \n\nSchedule An Appointment \nPortico’s on-site services are made possible through a grant by the: \n\n  \n 
URL:https://porticohealthnet.org/event/richfield-health-resource-center-2/2025-08-07/
LOCATION:Richfield Health Resource Center at Richfield High School\, 7001 Harriet Avenue\, Door 13A\, Richfield\, MN\, 55423\, United States
CATEGORIES:Enrollment Events
END:VEVENT
BEGIN:VEVENT
DTSTART;TZID=America/Chicago:20250731T123000
DTEND;TZID=America/Chicago:20250731T163000
DTSTAMP:20260421T002933
CREATED:20250311T163554Z
LAST-MODIFIED:20250311T163554Z
UID:10001986-1753965000-1753979400@porticohealthnet.org
SUMMARY:Richfield Health Resource Center
DESCRIPTION:Portico’s experienced MNsure Navigators offer in-person appointments at several community locations. Appointments can be scheduled online through the links below or by calling us at 651.489.CARE (2273). Please schedule an appointment to ensure navigator availability. \n\nSchedule An Appointment \nPortico’s on-site services are made possible through a grant by the: \n\n  \n 
URL:https://porticohealthnet.org/event/richfield-health-resource-center-2/2025-07-31/
LOCATION:Richfield Health Resource Center at Richfield High School\, 7001 Harriet Avenue\, Door 13A\, Richfield\, MN\, 55423\, United States
CATEGORIES:Enrollment Events
END:VEVENT
BEGIN:VEVENT
DTSTART;TZID=America/Chicago:20250724T123000
DTEND;TZID=America/Chicago:20250724T163000
DTSTAMP:20260421T002933
CREATED:20250311T163554Z
LAST-MODIFIED:20250311T163554Z
UID:10001985-1753360200-1753374600@porticohealthnet.org
SUMMARY:Richfield Health Resource Center
DESCRIPTION:Portico’s experienced MNsure Navigators offer in-person appointments at several community locations. Appointments can be scheduled online through the links below or by calling us at 651.489.CARE (2273). Please schedule an appointment to ensure navigator availability. \n\nSchedule An Appointment \nPortico’s on-site services are made possible through a grant by the: \n\n  \n 
URL:https://porticohealthnet.org/event/richfield-health-resource-center-2/2025-07-24/
LOCATION:Richfield Health Resource Center at Richfield High School\, 7001 Harriet Avenue\, Door 13A\, Richfield\, MN\, 55423\, United States
CATEGORIES:Enrollment Events
END:VEVENT
BEGIN:VEVENT
DTSTART;TZID=America/Chicago:20250717T123000
DTEND;TZID=America/Chicago:20250717T163000
DTSTAMP:20260421T002933
CREATED:20250311T163554Z
LAST-MODIFIED:20250311T163554Z
UID:10001984-1752755400-1752769800@porticohealthnet.org
SUMMARY:Richfield Health Resource Center
DESCRIPTION:Portico’s experienced MNsure Navigators offer in-person appointments at several community locations. Appointments can be scheduled online through the links below or by calling us at 651.489.CARE (2273). Please schedule an appointment to ensure navigator availability. \n\nSchedule An Appointment \nPortico’s on-site services are made possible through a grant by the: \n\n  \n 
URL:https://porticohealthnet.org/event/richfield-health-resource-center-2/2025-07-17/
LOCATION:Richfield Health Resource Center at Richfield High School\, 7001 Harriet Avenue\, Door 13A\, Richfield\, MN\, 55423\, United States
CATEGORIES:Enrollment Events
END:VEVENT
BEGIN:VEVENT
DTSTART;TZID=America/Chicago:20250710T123000
DTEND;TZID=America/Chicago:20250710T163000
DTSTAMP:20260421T002933
CREATED:20250311T163554Z
LAST-MODIFIED:20250311T163554Z
UID:10001983-1752150600-1752165000@porticohealthnet.org
SUMMARY:Richfield Health Resource Center
DESCRIPTION:Portico’s experienced MNsure Navigators offer in-person appointments at several community locations. Appointments can be scheduled online through the links below or by calling us at 651.489.CARE (2273). Please schedule an appointment to ensure navigator availability. \n\nSchedule An Appointment \nPortico’s on-site services are made possible through a grant by the: \n\n  \n 
URL:https://porticohealthnet.org/event/richfield-health-resource-center-2/2025-07-10/
LOCATION:Richfield Health Resource Center at Richfield High School\, 7001 Harriet Avenue\, Door 13A\, Richfield\, MN\, 55423\, United States
CATEGORIES:Enrollment Events
END:VEVENT
BEGIN:VEVENT
DTSTART;TZID=America/Chicago:20250703T123000
DTEND;TZID=America/Chicago:20250703T163000
DTSTAMP:20260421T002933
CREATED:20250311T163554Z
LAST-MODIFIED:20250311T163554Z
UID:10001982-1751545800-1751560200@porticohealthnet.org
SUMMARY:Richfield Health Resource Center
DESCRIPTION:Portico’s experienced MNsure Navigators offer in-person appointments at several community locations. Appointments can be scheduled online through the links below or by calling us at 651.489.CARE (2273). Please schedule an appointment to ensure navigator availability. \n\nSchedule An Appointment \nPortico’s on-site services are made possible through a grant by the: \n\n  \n 
URL:https://porticohealthnet.org/event/richfield-health-resource-center-2/2025-07-03/
LOCATION:Richfield Health Resource Center at Richfield High School\, 7001 Harriet Avenue\, Door 13A\, Richfield\, MN\, 55423\, United States
CATEGORIES:Enrollment Events
END:VEVENT
BEGIN:VEVENT
DTSTART;TZID=America/Chicago:20250626T123000
DTEND;TZID=America/Chicago:20250626T163000
DTSTAMP:20260421T002933
CREATED:20250311T163554Z
LAST-MODIFIED:20250311T163554Z
UID:10001981-1750941000-1750955400@porticohealthnet.org
SUMMARY:Richfield Health Resource Center
DESCRIPTION:Portico’s experienced MNsure Navigators offer in-person appointments at several community locations. Appointments can be scheduled online through the links below or by calling us at 651.489.CARE (2273). Please schedule an appointment to ensure navigator availability. \n\nSchedule An Appointment \nPortico’s on-site services are made possible through a grant by the: \n\n  \n 
URL:https://porticohealthnet.org/event/richfield-health-resource-center-2/2025-06-26/
LOCATION:Richfield Health Resource Center at Richfield High School\, 7001 Harriet Avenue\, Door 13A\, Richfield\, MN\, 55423\, United States
CATEGORIES:Enrollment Events
END:VEVENT
END:VCALENDAR