BEGIN:VCALENDAR
VERSION:2.0
PRODID:-//Portico Healthnet - ECPv6.15.20//NONSGML v1.0//EN
CALSCALE:GREGORIAN
METHOD:PUBLISH
X-ORIGINAL-URL:https://porticohealthnet.org
X-WR-CALDESC:Events for Portico Healthnet
REFRESH-INTERVAL;VALUE=DURATION:PT1H
X-Robots-Tag:noindex
X-PUBLISHED-TTL:PT1H
BEGIN:VTIMEZONE
TZID:America/Chicago
BEGIN:DAYLIGHT
TZOFFSETFROM:-0600
TZOFFSETTO:-0500
TZNAME:CDT
DTSTART:20230312T080000
END:DAYLIGHT
BEGIN:STANDARD
TZOFFSETFROM:-0500
TZOFFSETTO:-0600
TZNAME:CST
DTSTART:20231105T070000
END:STANDARD
BEGIN:DAYLIGHT
TZOFFSETFROM:-0600
TZOFFSETTO:-0500
TZNAME:CDT
DTSTART:20240310T080000
END:DAYLIGHT
BEGIN:STANDARD
TZOFFSETFROM:-0500
TZOFFSETTO:-0600
TZNAME:CST
DTSTART:20241103T070000
END:STANDARD
BEGIN:DAYLIGHT
TZOFFSETFROM:-0600
TZOFFSETTO:-0500
TZNAME:CDT
DTSTART:20250309T080000
END:DAYLIGHT
BEGIN:STANDARD
TZOFFSETFROM:-0500
TZOFFSETTO:-0600
TZNAME:CST
DTSTART:20251102T070000
END:STANDARD
END:VTIMEZONE
BEGIN:VEVENT
DTSTART;TZID=America/Chicago:20240430T100000
DTEND;TZID=America/Chicago:20240430T140000
DTSTAMP:20260423T185055
CREATED:20240327T155602Z
LAST-MODIFIED:20240327T155618Z
UID:10000786-1714471200-1714485600@porticohealthnet.org
SUMMARY:Shakir Consulting Pop-up Event
DESCRIPTION:Portico’s experienced MNsure Navigators offer in-person enrollment and renewal events in partnership with several community partners\, including Ramsey County Financial Workers and Shakir Consulting! Pre-register for this event online through the link below. \nREGISTER NOW
URL:https://porticohealthnet.org/event/shakir-consulting-and-ramsey-county-pop-up-event/
LOCATION:Community Action Partnerships of Ramsey and Washington County\, 450 Syndicate St N Suite 315\, St. Paul\, MN\, 55104\, United States
CATEGORIES:Enrollment Events
END:VEVENT
END:VCALENDAR