BEGIN:VCALENDAR
VERSION:2.0
PRODID:-//Portico Healthnet - ECPv6.15.13//NONSGML v1.0//EN
CALSCALE:GREGORIAN
METHOD:PUBLISH
X-WR-CALNAME:Portico Healthnet
X-ORIGINAL-URL:https://porticohealthnet.org
X-WR-CALDESC:Events for Portico Healthnet
REFRESH-INTERVAL;VALUE=DURATION:PT1H
X-Robots-Tag:noindex
X-PUBLISHED-TTL:PT1H
BEGIN:VTIMEZONE
TZID:America/Chicago
BEGIN:DAYLIGHT
TZOFFSETFROM:-0600
TZOFFSETTO:-0500
TZNAME:CDT
DTSTART:20240310T080000
END:DAYLIGHT
BEGIN:STANDARD
TZOFFSETFROM:-0500
TZOFFSETTO:-0600
TZNAME:CST
DTSTART:20241103T070000
END:STANDARD
BEGIN:DAYLIGHT
TZOFFSETFROM:-0600
TZOFFSETTO:-0500
TZNAME:CDT
DTSTART:20250309T080000
END:DAYLIGHT
BEGIN:STANDARD
TZOFFSETFROM:-0500
TZOFFSETTO:-0600
TZNAME:CST
DTSTART:20251102T070000
END:STANDARD
BEGIN:DAYLIGHT
TZOFFSETFROM:-0600
TZOFFSETTO:-0500
TZNAME:CDT
DTSTART:20260308T080000
END:DAYLIGHT
BEGIN:STANDARD
TZOFFSETFROM:-0500
TZOFFSETTO:-0600
TZNAME:CST
DTSTART:20261101T070000
END:STANDARD
END:VTIMEZONE
BEGIN:VEVENT
DTSTART;TZID=America/Chicago:20250519T080000
DTEND;TZID=America/Chicago:20250519T160000
DTSTAMP:20260422T022035
CREATED:20250115T182717Z
LAST-MODIFIED:20250415T173559Z
UID:10001475-1747641600-1747670400@porticohealthnet.org
SUMMARY:Worthington - Head Start Enrollment and Renewal Support
DESCRIPTION:Meet with Portico’s experienced MNsure Navigator for free health insurance enrollment and renewal assistance in partnership with MN Seeds of Justice and SMOC – Worthington\, MN! Register for this event by clicking the link below. Portico’s on-site services are funded in part by MNsure & the Blue Cross Blue Shield of Minnesota Foundation. \nREGISTER
URL:https://porticohealthnet.org/event/worthington-head-start-enrollment-and-renewal-support/2025-05-19/
LOCATION:Headstart\, 713 10th St.\, Worthington\, 56187\, United States
END:VEVENT
BEGIN:VEVENT
DTSTART;TZID=America/Chicago:20250516T080000
DTEND;TZID=America/Chicago:20250516T160000
DTSTAMP:20260422T022035
CREATED:20250115T182717Z
LAST-MODIFIED:20250415T173559Z
UID:10001474-1747382400-1747411200@porticohealthnet.org
SUMMARY:Worthington - Head Start Enrollment and Renewal Support
DESCRIPTION:Meet with Portico’s experienced MNsure Navigator for free health insurance enrollment and renewal assistance in partnership with MN Seeds of Justice and SMOC – Worthington\, MN! Register for this event by clicking the link below. Portico’s on-site services are funded in part by MNsure & the Blue Cross Blue Shield of Minnesota Foundation. \nREGISTER
URL:https://porticohealthnet.org/event/worthington-head-start-enrollment-and-renewal-support/2025-05-16/
LOCATION:Headstart\, 713 10th St.\, Worthington\, 56187\, United States
END:VEVENT
BEGIN:VEVENT
DTSTART;TZID=America/Chicago:20250513T093000
DTEND;TZID=America/Chicago:20250513T160000
DTSTAMP:20260422T022035
CREATED:20250421T150630Z
LAST-MODIFIED:20250421T150630Z
UID:10002260-1747128600-1747152000@porticohealthnet.org
SUMMARY:Keystone Community Food Center - Enrollment and Renewal Event
DESCRIPTION:Meet with Portico’s experienced MNsure Navigators for a free health insurance enrollment and renewal assistance in partnership with Keystone Community Center — St. Paul! Register for this event by clicking the link below. \nREGISTER \n  \nPortico’s on-site services are funded in part by Ramsey County\, Minnesota & the St. Paul Children’s Collaborative.
URL:https://porticohealthnet.org/event/keystone-community-food-center-enrollment-and-renewal-event-2/
LOCATION:Keystone Community Food Center\, 1800 University Ave W\, St Paul\, 55104\, United States
END:VEVENT
BEGIN:VEVENT
DTSTART;TZID=America/Chicago:20250512T100000
DTEND;TZID=America/Chicago:20250512T160000
DTSTAMP:20260422T022035
CREATED:20250421T150408Z
LAST-MODIFIED:20250421T150408Z
UID:10002259-1747044000-1747065600@porticohealthnet.org
SUMMARY:Urban Ventures - Enrollment and Renewal Event
DESCRIPTION:Meet with Portico’s experienced MNsure Navigators for a free health insurance enrollment and renewal assistance in partnership with Urban Ventures! Register for this event by clicking the link below. \nREGISTER
URL:https://porticohealthnet.org/event/urban-ventures-enrollment-and-renewal-event-4/
LOCATION:Urban Ventures\, 3023 4th Ave S\, Minneapolis\, MN\, 55408\, United States
END:VEVENT
BEGIN:VEVENT
DTSTART;TZID=America/Chicago:20250512T100000
DTEND;TZID=America/Chicago:20250512T160000
DTSTAMP:20260422T022035
CREATED:20241113T191824Z
LAST-MODIFIED:20241114T145847Z
UID:10001151-1747044000-1747065600@porticohealthnet.org
SUMMARY:Ramsey County-Maplewood Service Center
DESCRIPTION:Ramsey County-Maplewood Service Center 3001 White Bear Avenue N.\, Suite 1034 Suite 1034 Maplewood\, Minnesota 55109. The closest parking lot to the Service Center entrance is between Macy’s and Barnes & Noble. \nPortico’s experienced MNsure Navigators offer in-person appointments at several community locations. Appointments can be scheduled online through the links below or by calling us at 651.489.CARE (2273). Please schedule an appointment to ensure navigator availability. \nSCHEDULE AN APPOINTMENT  \n  \n\n  \n  \nPortico’s on-site services are funded in part by Ramsey County\, Minnesota.
URL:https://porticohealthnet.org/event/ramsey-county-maplewood-service-center/2025-05-12/
LOCATION:Ramsey County-Maplewood Service Center\, 3001 White Bear Avenue N.\, Suite 1034 Suite 1034\, Maplewood\, MN\, 55109\, United States
END:VEVENT
BEGIN:VEVENT
DTSTART;TZID=America/Chicago:20250512T080000
DTEND;TZID=America/Chicago:20250512T160000
DTSTAMP:20260422T022035
CREATED:20250115T182717Z
LAST-MODIFIED:20250415T173559Z
UID:10001473-1747036800-1747065600@porticohealthnet.org
SUMMARY:Worthington - Head Start Enrollment and Renewal Support
DESCRIPTION:Meet with Portico’s experienced MNsure Navigator for free health insurance enrollment and renewal assistance in partnership with MN Seeds of Justice and SMOC – Worthington\, MN! Register for this event by clicking the link below. Portico’s on-site services are funded in part by MNsure & the Blue Cross Blue Shield of Minnesota Foundation. \nREGISTER
URL:https://porticohealthnet.org/event/worthington-head-start-enrollment-and-renewal-support/2025-05-12/
LOCATION:Headstart\, 713 10th St.\, Worthington\, 56187\, United States
END:VEVENT
BEGIN:VEVENT
DTSTART;TZID=America/Chicago:20250509T080000
DTEND;TZID=America/Chicago:20250509T160000
DTSTAMP:20260422T022035
CREATED:20250115T182717Z
LAST-MODIFIED:20250415T173559Z
UID:10001472-1746777600-1746806400@porticohealthnet.org
SUMMARY:Worthington - Head Start Enrollment and Renewal Support
DESCRIPTION:Meet with Portico’s experienced MNsure Navigator for free health insurance enrollment and renewal assistance in partnership with MN Seeds of Justice and SMOC – Worthington\, MN! Register for this event by clicking the link below. Portico’s on-site services are funded in part by MNsure & the Blue Cross Blue Shield of Minnesota Foundation. \nREGISTER
URL:https://porticohealthnet.org/event/worthington-head-start-enrollment-and-renewal-support/2025-05-09/
LOCATION:Headstart\, 713 10th St.\, Worthington\, 56187\, United States
END:VEVENT
BEGIN:VEVENT
DTSTART;TZID=America/Chicago:20250505T100000
DTEND;TZID=America/Chicago:20250505T160000
DTSTAMP:20260422T022035
CREATED:20241113T191824Z
LAST-MODIFIED:20241114T145847Z
UID:10001150-1746439200-1746460800@porticohealthnet.org
SUMMARY:Ramsey County-Maplewood Service Center
DESCRIPTION:Ramsey County-Maplewood Service Center 3001 White Bear Avenue N.\, Suite 1034 Suite 1034 Maplewood\, Minnesota 55109. The closest parking lot to the Service Center entrance is between Macy’s and Barnes & Noble. \nPortico’s experienced MNsure Navigators offer in-person appointments at several community locations. Appointments can be scheduled online through the links below or by calling us at 651.489.CARE (2273). Please schedule an appointment to ensure navigator availability. \nSCHEDULE AN APPOINTMENT  \n  \n\n  \n  \nPortico’s on-site services are funded in part by Ramsey County\, Minnesota.
URL:https://porticohealthnet.org/event/ramsey-county-maplewood-service-center/2025-05-05/
LOCATION:Ramsey County-Maplewood Service Center\, 3001 White Bear Avenue N.\, Suite 1034 Suite 1034\, Maplewood\, MN\, 55109\, United States
END:VEVENT
BEGIN:VEVENT
DTSTART;TZID=America/Chicago:20250505T080000
DTEND;TZID=America/Chicago:20250505T160000
DTSTAMP:20260422T022035
CREATED:20250115T182717Z
LAST-MODIFIED:20250415T173559Z
UID:10001471-1746432000-1746460800@porticohealthnet.org
SUMMARY:Worthington - Head Start Enrollment and Renewal Support
DESCRIPTION:Meet with Portico’s experienced MNsure Navigator for free health insurance enrollment and renewal assistance in partnership with MN Seeds of Justice and SMOC – Worthington\, MN! Register for this event by clicking the link below. Portico’s on-site services are funded in part by MNsure & the Blue Cross Blue Shield of Minnesota Foundation. \nREGISTER
URL:https://porticohealthnet.org/event/worthington-head-start-enrollment-and-renewal-support/2025-05-05/
LOCATION:Headstart\, 713 10th St.\, Worthington\, 56187\, United States
END:VEVENT
BEGIN:VEVENT
DTSTART;TZID=America/Chicago:20250502T080000
DTEND;TZID=America/Chicago:20250502T160000
DTSTAMP:20260422T022036
CREATED:20250115T182717Z
LAST-MODIFIED:20250415T173559Z
UID:10001470-1746172800-1746201600@porticohealthnet.org
SUMMARY:Worthington - Head Start Enrollment and Renewal Support
DESCRIPTION:Meet with Portico’s experienced MNsure Navigator for free health insurance enrollment and renewal assistance in partnership with MN Seeds of Justice and SMOC – Worthington\, MN! Register for this event by clicking the link below. Portico’s on-site services are funded in part by MNsure & the Blue Cross Blue Shield of Minnesota Foundation. \nREGISTER
URL:https://porticohealthnet.org/event/worthington-head-start-enrollment-and-renewal-support/2025-05-02/
LOCATION:Headstart\, 713 10th St.\, Worthington\, 56187\, United States
END:VEVENT
BEGIN:VEVENT
DTSTART;TZID=America/Chicago:20250428T100000
DTEND;TZID=America/Chicago:20250428T160000
DTSTAMP:20260422T022036
CREATED:20241113T191824Z
LAST-MODIFIED:20241114T145847Z
UID:10001149-1745834400-1745856000@porticohealthnet.org
SUMMARY:Ramsey County-Maplewood Service Center
DESCRIPTION:Ramsey County-Maplewood Service Center 3001 White Bear Avenue N.\, Suite 1034 Suite 1034 Maplewood\, Minnesota 55109. The closest parking lot to the Service Center entrance is between Macy’s and Barnes & Noble. \nPortico’s experienced MNsure Navigators offer in-person appointments at several community locations. Appointments can be scheduled online through the links below or by calling us at 651.489.CARE (2273). Please schedule an appointment to ensure navigator availability. \nSCHEDULE AN APPOINTMENT  \n  \n\n  \n  \nPortico’s on-site services are funded in part by Ramsey County\, Minnesota.
URL:https://porticohealthnet.org/event/ramsey-county-maplewood-service-center/2025-04-28/
LOCATION:Ramsey County-Maplewood Service Center\, 3001 White Bear Avenue N.\, Suite 1034 Suite 1034\, Maplewood\, MN\, 55109\, United States
END:VEVENT
BEGIN:VEVENT
DTSTART;TZID=America/Chicago:20250428T080000
DTEND;TZID=America/Chicago:20250428T160000
DTSTAMP:20260422T022036
CREATED:20250115T182717Z
LAST-MODIFIED:20250415T173559Z
UID:10001469-1745827200-1745856000@porticohealthnet.org
SUMMARY:Worthington - Head Start Enrollment and Renewal Support
DESCRIPTION:Meet with Portico’s experienced MNsure Navigator for free health insurance enrollment and renewal assistance in partnership with MN Seeds of Justice and SMOC – Worthington\, MN! Register for this event by clicking the link below. Portico’s on-site services are funded in part by MNsure & the Blue Cross Blue Shield of Minnesota Foundation. \nREGISTER
URL:https://porticohealthnet.org/event/worthington-head-start-enrollment-and-renewal-support/2025-04-28/
LOCATION:Headstart\, 713 10th St.\, Worthington\, 56187\, United States
END:VEVENT
BEGIN:VEVENT
DTSTART;TZID=America/Chicago:20250425T080000
DTEND;TZID=America/Chicago:20250425T160000
DTSTAMP:20260422T022036
CREATED:20250115T182717Z
LAST-MODIFIED:20250415T173559Z
UID:10001468-1745568000-1745596800@porticohealthnet.org
SUMMARY:Worthington - Head Start Enrollment and Renewal Support
DESCRIPTION:Meet with Portico’s experienced MNsure Navigator for free health insurance enrollment and renewal assistance in partnership with MN Seeds of Justice and SMOC – Worthington\, MN! Register for this event by clicking the link below. Portico’s on-site services are funded in part by MNsure & the Blue Cross Blue Shield of Minnesota Foundation. \nREGISTER
URL:https://porticohealthnet.org/event/worthington-head-start-enrollment-and-renewal-support/2025-04-25/
LOCATION:Headstart\, 713 10th St.\, Worthington\, 56187\, United States
END:VEVENT
BEGIN:VEVENT
DTSTART;TZID=America/Chicago:20250421T100000
DTEND;TZID=America/Chicago:20250421T160000
DTSTAMP:20260422T022036
CREATED:20250401T143352Z
LAST-MODIFIED:20250401T143352Z
UID:10002231-1745229600-1745251200@porticohealthnet.org
SUMMARY:Urban Ventures - Enrollment and Renewal Event
DESCRIPTION:Meet with Portico’s experienced MNsure Navigators for a free health insurance enrollment and renewal assistance in partnership with Urban Ventures! Register for this event by clicking the link below. \nREGISTER
URL:https://porticohealthnet.org/event/urban-ventures-enrollment-and-renewal-event-3/
LOCATION:Urban Ventures\, 3023 4th Ave S\, Minneapolis\, MN\, 55408\, United States
END:VEVENT
BEGIN:VEVENT
DTSTART;TZID=America/Chicago:20250421T100000
DTEND;TZID=America/Chicago:20250421T160000
DTSTAMP:20260422T022036
CREATED:20241113T191824Z
LAST-MODIFIED:20241114T145847Z
UID:10001148-1745229600-1745251200@porticohealthnet.org
SUMMARY:Ramsey County-Maplewood Service Center
DESCRIPTION:Ramsey County-Maplewood Service Center 3001 White Bear Avenue N.\, Suite 1034 Suite 1034 Maplewood\, Minnesota 55109. The closest parking lot to the Service Center entrance is between Macy’s and Barnes & Noble. \nPortico’s experienced MNsure Navigators offer in-person appointments at several community locations. Appointments can be scheduled online through the links below or by calling us at 651.489.CARE (2273). Please schedule an appointment to ensure navigator availability. \nSCHEDULE AN APPOINTMENT  \n  \n\n  \n  \nPortico’s on-site services are funded in part by Ramsey County\, Minnesota.
URL:https://porticohealthnet.org/event/ramsey-county-maplewood-service-center/2025-04-21/
LOCATION:Ramsey County-Maplewood Service Center\, 3001 White Bear Avenue N.\, Suite 1034 Suite 1034\, Maplewood\, MN\, 55109\, United States
END:VEVENT
BEGIN:VEVENT
DTSTART;TZID=America/Chicago:20250421T080000
DTEND;TZID=America/Chicago:20250421T160000
DTSTAMP:20260422T022036
CREATED:20250115T182717Z
LAST-MODIFIED:20250415T173559Z
UID:10001467-1745222400-1745251200@porticohealthnet.org
SUMMARY:Worthington - Head Start Enrollment and Renewal Support
DESCRIPTION:Meet with Portico’s experienced MNsure Navigator for free health insurance enrollment and renewal assistance in partnership with MN Seeds of Justice and SMOC – Worthington\, MN! Register for this event by clicking the link below. Portico’s on-site services are funded in part by MNsure & the Blue Cross Blue Shield of Minnesota Foundation. \nREGISTER
URL:https://porticohealthnet.org/event/worthington-head-start-enrollment-and-renewal-support/2025-04-21/
LOCATION:Headstart\, 713 10th St.\, Worthington\, 56187\, United States
END:VEVENT
BEGIN:VEVENT
DTSTART;TZID=America/Chicago:20250418T080000
DTEND;TZID=America/Chicago:20250418T160000
DTSTAMP:20260422T022036
CREATED:20250115T182717Z
LAST-MODIFIED:20250415T173559Z
UID:10001466-1744963200-1744992000@porticohealthnet.org
SUMMARY:Worthington - Head Start Enrollment and Renewal Support
DESCRIPTION:Meet with Portico’s experienced MNsure Navigator for free health insurance enrollment and renewal assistance in partnership with MN Seeds of Justice and SMOC – Worthington\, MN! Register for this event by clicking the link below. Portico’s on-site services are funded in part by MNsure & the Blue Cross Blue Shield of Minnesota Foundation. \nREGISTER
URL:https://porticohealthnet.org/event/worthington-head-start-enrollment-and-renewal-support/2025-04-18/
LOCATION:Headstart\, 713 10th St.\, Worthington\, 56187\, United States
END:VEVENT
BEGIN:VEVENT
DTSTART;TZID=America/Chicago:20250416T100000
DTEND;TZID=America/Chicago:20250416T160000
DTSTAMP:20260422T022036
CREATED:20250321T161716Z
LAST-MODIFIED:20250321T161716Z
UID:10002230-1744797600-1744819200@porticohealthnet.org
SUMMARY:Diamondhead Education Center - Enrollment and Renewal Event
DESCRIPTION:Meet with Portico’s experienced MNsure Navigators for a free health insurance enrollment and renewal assistance in partnership with the Diamondhead Education Center — Burnsville! Register for this event by clicking the link below. \nREGISTER
URL:https://porticohealthnet.org/event/diamondhead-education-center-enrollment-and-renewal-event/
LOCATION:Diamondhead Education Center\, 200 Burnsville Pkwy Suite 1023\, Burnsville\, MN\, 55337\, United States
END:VEVENT
BEGIN:VEVENT
DTSTART;TZID=America/Chicago:20250416T100000
DTEND;TZID=America/Chicago:20250416T160000
DTSTAMP:20260422T022036
CREATED:20250317T161719Z
LAST-MODIFIED:20250317T161719Z
UID:10002228-1744797600-1744819200@porticohealthnet.org
SUMMARY:Enrollment and Renewal Event - Diamondhead Education Center
DESCRIPTION:Meet with Portico’s experienced MNsure Navigators for a free health insurance enrollment and renewal assistance in partnership with the Diamondhead Education Center! Register for this event by clicking the link below. \nREGISTER
URL:https://porticohealthnet.org/event/enrollment-and-renewal-event-diamondhead-education-center/
LOCATION:Diamondhead Education Center\, 200 Burnsville Pkwy Suite 1023\, Burnsville\, MN\, 55337\, United States
END:VEVENT
BEGIN:VEVENT
DTSTART;TZID=America/Chicago:20250414T100000
DTEND;TZID=America/Chicago:20250414T160000
DTSTAMP:20260422T022036
CREATED:20250321T160716Z
LAST-MODIFIED:20250321T160716Z
UID:10002229-1744624800-1744646400@porticohealthnet.org
SUMMARY:Raices Latinas/Brookdale Library - Enrollment and Renewal Event
DESCRIPTION:Meet with Portico’s experienced MNsure Navigators for a free health insurance enrollment and renewal assistance in partnership with Raices Latinas — Brooklyn Center! Register for this event by clicking the link below. \nREGISTER
URL:https://porticohealthnet.org/event/raices-latinas-brookdale-library-enrollment-and-renewal-event/
LOCATION:Brookdale Library\, 6125 Shingle Creek Pkwy Suite 800\, Brooklyn Center\, 55430\, United States
END:VEVENT
BEGIN:VEVENT
DTSTART;TZID=America/Chicago:20250414T100000
DTEND;TZID=America/Chicago:20250414T160000
DTSTAMP:20260422T022036
CREATED:20250317T160556Z
LAST-MODIFIED:20250317T160556Z
UID:10002227-1744624800-1744646400@porticohealthnet.org
SUMMARY:Enrollment and Renewal Event - Raices Latinas and Brooklyn Center Library
DESCRIPTION:Meet with Portico’s experienced MNsure Navigators for a free health insurance enrollment and renewal assistance in partnership with Raices Latinas! Register for this event by clicking the link below. \nREGISTER
URL:https://porticohealthnet.org/event/enrollment-and-renewal-event-raices-latinas-and-brooklyn-center-library/
LOCATION:Brooklyn Center Library\, 6125 Shingle Creek Pkwy Suite 800\, Brooklyn Center\, MN\, 55430\, United States
END:VEVENT
BEGIN:VEVENT
DTSTART;TZID=America/Chicago:20250414T100000
DTEND;TZID=America/Chicago:20250414T160000
DTSTAMP:20260422T022036
CREATED:20241113T191824Z
LAST-MODIFIED:20241114T145847Z
UID:10001147-1744624800-1744646400@porticohealthnet.org
SUMMARY:Ramsey County-Maplewood Service Center
DESCRIPTION:Ramsey County-Maplewood Service Center 3001 White Bear Avenue N.\, Suite 1034 Suite 1034 Maplewood\, Minnesota 55109. The closest parking lot to the Service Center entrance is between Macy’s and Barnes & Noble. \nPortico’s experienced MNsure Navigators offer in-person appointments at several community locations. Appointments can be scheduled online through the links below or by calling us at 651.489.CARE (2273). Please schedule an appointment to ensure navigator availability. \nSCHEDULE AN APPOINTMENT  \n  \n\n  \n  \nPortico’s on-site services are funded in part by Ramsey County\, Minnesota.
URL:https://porticohealthnet.org/event/ramsey-county-maplewood-service-center/2025-04-14/
LOCATION:Ramsey County-Maplewood Service Center\, 3001 White Bear Avenue N.\, Suite 1034 Suite 1034\, Maplewood\, MN\, 55109\, United States
END:VEVENT
BEGIN:VEVENT
DTSTART;TZID=America/Chicago:20250414T080000
DTEND;TZID=America/Chicago:20250414T160000
DTSTAMP:20260422T022036
CREATED:20250115T182717Z
LAST-MODIFIED:20250415T173559Z
UID:10001465-1744617600-1744646400@porticohealthnet.org
SUMMARY:Worthington - Head Start Enrollment and Renewal Support
DESCRIPTION:Meet with Portico’s experienced MNsure Navigator for free health insurance enrollment and renewal assistance in partnership with MN Seeds of Justice and SMOC – Worthington\, MN! Register for this event by clicking the link below. Portico’s on-site services are funded in part by MNsure & the Blue Cross Blue Shield of Minnesota Foundation. \nREGISTER
URL:https://porticohealthnet.org/event/worthington-head-start-enrollment-and-renewal-support/2025-04-14/
LOCATION:Headstart\, 713 10th St.\, Worthington\, 56187\, United States
END:VEVENT
BEGIN:VEVENT
DTSTART;TZID=America/Chicago:20250411T080000
DTEND;TZID=America/Chicago:20250411T160000
DTSTAMP:20260422T022036
CREATED:20250115T182717Z
LAST-MODIFIED:20250415T173559Z
UID:10001464-1744358400-1744387200@porticohealthnet.org
SUMMARY:Worthington - Head Start Enrollment and Renewal Support
DESCRIPTION:Meet with Portico’s experienced MNsure Navigator for free health insurance enrollment and renewal assistance in partnership with MN Seeds of Justice and SMOC – Worthington\, MN! Register for this event by clicking the link below. Portico’s on-site services are funded in part by MNsure & the Blue Cross Blue Shield of Minnesota Foundation. \nREGISTER
URL:https://porticohealthnet.org/event/worthington-head-start-enrollment-and-renewal-support/2025-04-11/
LOCATION:Headstart\, 713 10th St.\, Worthington\, 56187\, United States
END:VEVENT
BEGIN:VEVENT
DTSTART;TZID=America/Chicago:20250407T100000
DTEND;TZID=America/Chicago:20250407T160000
DTSTAMP:20260422T022036
CREATED:20241113T191824Z
LAST-MODIFIED:20241114T145847Z
UID:10001146-1744020000-1744041600@porticohealthnet.org
SUMMARY:Ramsey County-Maplewood Service Center
DESCRIPTION:Ramsey County-Maplewood Service Center 3001 White Bear Avenue N.\, Suite 1034 Suite 1034 Maplewood\, Minnesota 55109. The closest parking lot to the Service Center entrance is between Macy’s and Barnes & Noble. \nPortico’s experienced MNsure Navigators offer in-person appointments at several community locations. Appointments can be scheduled online through the links below or by calling us at 651.489.CARE (2273). Please schedule an appointment to ensure navigator availability. \nSCHEDULE AN APPOINTMENT  \n  \n\n  \n  \nPortico’s on-site services are funded in part by Ramsey County\, Minnesota.
URL:https://porticohealthnet.org/event/ramsey-county-maplewood-service-center/2025-04-07/
LOCATION:Ramsey County-Maplewood Service Center\, 3001 White Bear Avenue N.\, Suite 1034 Suite 1034\, Maplewood\, MN\, 55109\, United States
END:VEVENT
BEGIN:VEVENT
DTSTART;TZID=America/Chicago:20250407T080000
DTEND;TZID=America/Chicago:20250407T160000
DTSTAMP:20260422T022036
CREATED:20250115T182717Z
LAST-MODIFIED:20250415T173559Z
UID:10001463-1744012800-1744041600@porticohealthnet.org
SUMMARY:Worthington - Head Start Enrollment and Renewal Support
DESCRIPTION:Meet with Portico’s experienced MNsure Navigator for free health insurance enrollment and renewal assistance in partnership with MN Seeds of Justice and SMOC – Worthington\, MN! Register for this event by clicking the link below. Portico’s on-site services are funded in part by MNsure & the Blue Cross Blue Shield of Minnesota Foundation. \nREGISTER
URL:https://porticohealthnet.org/event/worthington-head-start-enrollment-and-renewal-support/2025-04-07/
LOCATION:Headstart\, 713 10th St.\, Worthington\, 56187\, United States
END:VEVENT
BEGIN:VEVENT
DTSTART;TZID=America/Chicago:20250404T080000
DTEND;TZID=America/Chicago:20250404T160000
DTSTAMP:20260422T022036
CREATED:20250115T182717Z
LAST-MODIFIED:20250415T173559Z
UID:10001462-1743753600-1743782400@porticohealthnet.org
SUMMARY:Worthington - Head Start Enrollment and Renewal Support
DESCRIPTION:Meet with Portico’s experienced MNsure Navigator for free health insurance enrollment and renewal assistance in partnership with MN Seeds of Justice and SMOC – Worthington\, MN! Register for this event by clicking the link below. Portico’s on-site services are funded in part by MNsure & the Blue Cross Blue Shield of Minnesota Foundation. \nREGISTER
URL:https://porticohealthnet.org/event/worthington-head-start-enrollment-and-renewal-support/2025-04-04/
LOCATION:Headstart\, 713 10th St.\, Worthington\, 56187\, United States
END:VEVENT
BEGIN:VEVENT
DTSTART;TZID=America/Chicago:20250331T100000
DTEND;TZID=America/Chicago:20250331T160000
DTSTAMP:20260422T022036
CREATED:20241113T191824Z
LAST-MODIFIED:20241114T145847Z
UID:10001145-1743415200-1743436800@porticohealthnet.org
SUMMARY:Ramsey County-Maplewood Service Center
DESCRIPTION:Ramsey County-Maplewood Service Center 3001 White Bear Avenue N.\, Suite 1034 Suite 1034 Maplewood\, Minnesota 55109. The closest parking lot to the Service Center entrance is between Macy’s and Barnes & Noble. \nPortico’s experienced MNsure Navigators offer in-person appointments at several community locations. Appointments can be scheduled online through the links below or by calling us at 651.489.CARE (2273). Please schedule an appointment to ensure navigator availability. \nSCHEDULE AN APPOINTMENT  \n  \n\n  \n  \nPortico’s on-site services are funded in part by Ramsey County\, Minnesota.
URL:https://porticohealthnet.org/event/ramsey-county-maplewood-service-center/2025-03-31/
LOCATION:Ramsey County-Maplewood Service Center\, 3001 White Bear Avenue N.\, Suite 1034 Suite 1034\, Maplewood\, MN\, 55109\, United States
END:VEVENT
BEGIN:VEVENT
DTSTART;TZID=America/Chicago:20250331T080000
DTEND;TZID=America/Chicago:20250331T160000
DTSTAMP:20260422T022036
CREATED:20250115T182717Z
LAST-MODIFIED:20250415T173559Z
UID:10001461-1743408000-1743436800@porticohealthnet.org
SUMMARY:Worthington - Head Start Enrollment and Renewal Support
DESCRIPTION:Meet with Portico’s experienced MNsure Navigator for free health insurance enrollment and renewal assistance in partnership with MN Seeds of Justice and SMOC – Worthington\, MN! Register for this event by clicking the link below. Portico’s on-site services are funded in part by MNsure & the Blue Cross Blue Shield of Minnesota Foundation. \nREGISTER
URL:https://porticohealthnet.org/event/worthington-head-start-enrollment-and-renewal-support/2025-03-31/
LOCATION:Headstart\, 713 10th St.\, Worthington\, 56187\, United States
END:VEVENT
BEGIN:VEVENT
DTSTART;TZID=America/Chicago:20250328T080000
DTEND;TZID=America/Chicago:20250328T160000
DTSTAMP:20260422T022036
CREATED:20250115T182717Z
LAST-MODIFIED:20250415T173559Z
UID:10001460-1743148800-1743177600@porticohealthnet.org
SUMMARY:Worthington - Head Start Enrollment and Renewal Support
DESCRIPTION:Meet with Portico’s experienced MNsure Navigator for free health insurance enrollment and renewal assistance in partnership with MN Seeds of Justice and SMOC – Worthington\, MN! Register for this event by clicking the link below. Portico’s on-site services are funded in part by MNsure & the Blue Cross Blue Shield of Minnesota Foundation. \nREGISTER
URL:https://porticohealthnet.org/event/worthington-head-start-enrollment-and-renewal-support/2025-03-28/
LOCATION:Headstart\, 713 10th St.\, Worthington\, 56187\, United States
END:VEVENT
END:VCALENDAR