BEGIN:VCALENDAR
VERSION:2.0
PRODID:-//Portico Healthnet - ECPv6.15.13//NONSGML v1.0//EN
CALSCALE:GREGORIAN
METHOD:PUBLISH
X-ORIGINAL-URL:https://porticohealthnet.org
X-WR-CALDESC:Events for Portico Healthnet
REFRESH-INTERVAL;VALUE=DURATION:PT1H
X-Robots-Tag:noindex
X-PUBLISHED-TTL:PT1H
BEGIN:VTIMEZONE
TZID:America/Chicago
BEGIN:DAYLIGHT
TZOFFSETFROM:-0600
TZOFFSETTO:-0500
TZNAME:CDT
DTSTART:20240310T080000
END:DAYLIGHT
BEGIN:STANDARD
TZOFFSETFROM:-0500
TZOFFSETTO:-0600
TZNAME:CST
DTSTART:20241103T070000
END:STANDARD
BEGIN:DAYLIGHT
TZOFFSETFROM:-0600
TZOFFSETTO:-0500
TZNAME:CDT
DTSTART:20250309T080000
END:DAYLIGHT
BEGIN:STANDARD
TZOFFSETFROM:-0500
TZOFFSETTO:-0600
TZNAME:CST
DTSTART:20251102T070000
END:STANDARD
BEGIN:DAYLIGHT
TZOFFSETFROM:-0600
TZOFFSETTO:-0500
TZNAME:CDT
DTSTART:20260308T080000
END:DAYLIGHT
BEGIN:STANDARD
TZOFFSETFROM:-0500
TZOFFSETTO:-0600
TZNAME:CST
DTSTART:20261101T070000
END:STANDARD
END:VTIMEZONE
BEGIN:VEVENT
DTSTART;TZID=America/Chicago:20250731T090000
DTEND;TZID=America/Chicago:20250731T140000
DTSTAMP:20260421T211142
CREATED:20240320T184251Z
LAST-MODIFIED:20250102T154254Z
UID:10000334-1753952400-1753970400@porticohealthnet.org
SUMMARY:Shakopee Family Resource Center
DESCRIPTION:Portico’s experienced MNsure Navigators offer in-person appointments at several community locations. Appointments can be scheduled online through the links below or by calling us at 651.489.CARE (2273). Please schedule an appointment to ensure navigator availability. (Important: Appointments will take place at 1615 Weston Court\, Shakopee\, starting on January 9th\, 2025).  \n  \nSchedule An Appointment
URL:https://porticohealthnet.org/event/scott-county-workforce-center/2025-07-31/
LOCATION:Shakopee Family Resource Center\, 1615 Weston Court\, Shakopee\, 55379\, United States
CATEGORIES:Enrollment Events
END:VEVENT
BEGIN:VEVENT
DTSTART;TZID=America/Chicago:20250731T123000
DTEND;TZID=America/Chicago:20250731T163000
DTSTAMP:20260421T211142
CREATED:20250311T163554Z
LAST-MODIFIED:20250311T163554Z
UID:10001986-1753965000-1753979400@porticohealthnet.org
SUMMARY:Richfield Health Resource Center
DESCRIPTION:Portico’s experienced MNsure Navigators offer in-person appointments at several community locations. Appointments can be scheduled online through the links below or by calling us at 651.489.CARE (2273). Please schedule an appointment to ensure navigator availability. \n\nSchedule An Appointment \nPortico’s on-site services are made possible through a grant by the: \n\n  \n 
URL:https://porticohealthnet.org/event/richfield-health-resource-center-2/2025-07-31/
LOCATION:Richfield Health Resource Center at Richfield High School\, 7001 Harriet Avenue\, Door 13A\, Richfield\, MN\, 55423\, United States
CATEGORIES:Enrollment Events
END:VEVENT
BEGIN:VEVENT
DTSTART;TZID=America/Chicago:20250731T130000
DTEND;TZID=America/Chicago:20250731T170000
DTSTAMP:20260421T211142
CREATED:20240320T184509Z
LAST-MODIFIED:20240619T180824Z
UID:10000595-1753966800-1753981200@porticohealthnet.org
SUMMARY:Brooklyn Center Health Resource Center
DESCRIPTION:Portico’s experienced MNsure Navigators offer in-person appointments at several community locations. Appointments can be scheduled online through the links below or by calling us at 651.489.CARE (2273). Please schedule an appointment to ensure navigator availability. \n  \nSchedule An Appointment \n  \nPortico’s on-site services are made possible through grants by the: \n  
URL:https://porticohealthnet.org/event/brooklyn-center-health-resource-center/2025-07-31/
LOCATION:Brooklyn Center Health Resource Center at Brooklyn Center High School\, 6500 North Humboldt Avenue\, Brooklyn Center\, MN\, 55430\, United States
CATEGORIES:Enrollment Events
END:VEVENT
BEGIN:VEVENT
DTSTART;TZID=America/Chicago:20250801T080000
DTEND;TZID=America/Chicago:20250801T160000
DTSTAMP:20260421T211142
CREATED:20250115T182717Z
LAST-MODIFIED:20250415T173559Z
UID:10001494-1754035200-1754064000@porticohealthnet.org
SUMMARY:Worthington - Head Start Enrollment and Renewal Support
DESCRIPTION:Meet with Portico’s experienced MNsure Navigator for free health insurance enrollment and renewal assistance in partnership with MN Seeds of Justice and SMOC – Worthington\, MN! Register for this event by clicking the link below. Portico’s on-site services are funded in part by MNsure & the Blue Cross Blue Shield of Minnesota Foundation. \nREGISTER
URL:https://porticohealthnet.org/event/worthington-head-start-enrollment-and-renewal-support/2025-08-01/
LOCATION:Headstart\, 713 10th St.\, Worthington\, 56187\, United States
END:VEVENT
BEGIN:VEVENT
DTSTART;TZID=America/Chicago:20250804T080000
DTEND;TZID=America/Chicago:20250804T160000
DTSTAMP:20260421T211142
CREATED:20250115T182717Z
LAST-MODIFIED:20250415T173559Z
UID:10001495-1754294400-1754323200@porticohealthnet.org
SUMMARY:Worthington - Head Start Enrollment and Renewal Support
DESCRIPTION:Meet with Portico’s experienced MNsure Navigator for free health insurance enrollment and renewal assistance in partnership with MN Seeds of Justice and SMOC – Worthington\, MN! Register for this event by clicking the link below. Portico’s on-site services are funded in part by MNsure & the Blue Cross Blue Shield of Minnesota Foundation. \nREGISTER
URL:https://porticohealthnet.org/event/worthington-head-start-enrollment-and-renewal-support/2025-08-04/
LOCATION:Headstart\, 713 10th St.\, Worthington\, 56187\, United States
END:VEVENT
BEGIN:VEVENT
DTSTART;TZID=America/Chicago:20250804T100000
DTEND;TZID=America/Chicago:20250804T160000
DTSTAMP:20260421T211142
CREATED:20241113T191824Z
LAST-MODIFIED:20241114T145847Z
UID:10001162-1754301600-1754323200@porticohealthnet.org
SUMMARY:Ramsey County-Maplewood Service Center
DESCRIPTION:Ramsey County-Maplewood Service Center 3001 White Bear Avenue N.\, Suite 1034 Suite 1034 Maplewood\, Minnesota 55109. The closest parking lot to the Service Center entrance is between Macy’s and Barnes & Noble. \nPortico’s experienced MNsure Navigators offer in-person appointments at several community locations. Appointments can be scheduled online through the links below or by calling us at 651.489.CARE (2273). Please schedule an appointment to ensure navigator availability. \nSCHEDULE AN APPOINTMENT  \n  \n\n  \n  \nPortico’s on-site services are funded in part by Ramsey County\, Minnesota.
URL:https://porticohealthnet.org/event/ramsey-county-maplewood-service-center/2025-08-04/
LOCATION:Ramsey County-Maplewood Service Center\, 3001 White Bear Avenue N.\, Suite 1034 Suite 1034\, Maplewood\, MN\, 55109\, United States
END:VEVENT
BEGIN:VEVENT
DTSTART;TZID=America/Chicago:20250807T090000
DTEND;TZID=America/Chicago:20250807T140000
DTSTAMP:20260421T211142
CREATED:20240320T184251Z
LAST-MODIFIED:20250102T154254Z
UID:10000335-1754557200-1754575200@porticohealthnet.org
SUMMARY:Shakopee Family Resource Center
DESCRIPTION:Portico’s experienced MNsure Navigators offer in-person appointments at several community locations. Appointments can be scheduled online through the links below or by calling us at 651.489.CARE (2273). Please schedule an appointment to ensure navigator availability. (Important: Appointments will take place at 1615 Weston Court\, Shakopee\, starting on January 9th\, 2025).  \n  \nSchedule An Appointment
URL:https://porticohealthnet.org/event/scott-county-workforce-center/2025-08-07/
LOCATION:Shakopee Family Resource Center\, 1615 Weston Court\, Shakopee\, 55379\, United States
CATEGORIES:Enrollment Events
END:VEVENT
BEGIN:VEVENT
DTSTART;TZID=America/Chicago:20250807T123000
DTEND;TZID=America/Chicago:20250807T163000
DTSTAMP:20260421T211143
CREATED:20250311T163554Z
LAST-MODIFIED:20250311T163554Z
UID:10001987-1754569800-1754584200@porticohealthnet.org
SUMMARY:Richfield Health Resource Center
DESCRIPTION:Portico’s experienced MNsure Navigators offer in-person appointments at several community locations. Appointments can be scheduled online through the links below or by calling us at 651.489.CARE (2273). Please schedule an appointment to ensure navigator availability. \n\nSchedule An Appointment \nPortico’s on-site services are made possible through a grant by the: \n\n  \n 
URL:https://porticohealthnet.org/event/richfield-health-resource-center-2/2025-08-07/
LOCATION:Richfield Health Resource Center at Richfield High School\, 7001 Harriet Avenue\, Door 13A\, Richfield\, MN\, 55423\, United States
CATEGORIES:Enrollment Events
END:VEVENT
BEGIN:VEVENT
DTSTART;TZID=America/Chicago:20250807T130000
DTEND;TZID=America/Chicago:20250807T170000
DTSTAMP:20260421T211143
CREATED:20240320T184509Z
LAST-MODIFIED:20240619T180824Z
UID:10000596-1754571600-1754586000@porticohealthnet.org
SUMMARY:Brooklyn Center Health Resource Center
DESCRIPTION:Portico’s experienced MNsure Navigators offer in-person appointments at several community locations. Appointments can be scheduled online through the links below or by calling us at 651.489.CARE (2273). Please schedule an appointment to ensure navigator availability. \n  \nSchedule An Appointment \n  \nPortico’s on-site services are made possible through grants by the: \n  
URL:https://porticohealthnet.org/event/brooklyn-center-health-resource-center/2025-08-07/
LOCATION:Brooklyn Center Health Resource Center at Brooklyn Center High School\, 6500 North Humboldt Avenue\, Brooklyn Center\, MN\, 55430\, United States
CATEGORIES:Enrollment Events
END:VEVENT
BEGIN:VEVENT
DTSTART;TZID=America/Chicago:20250808T080000
DTEND;TZID=America/Chicago:20250808T160000
DTSTAMP:20260421T211143
CREATED:20250115T182717Z
LAST-MODIFIED:20250415T173559Z
UID:10001496-1754640000-1754668800@porticohealthnet.org
SUMMARY:Worthington - Head Start Enrollment and Renewal Support
DESCRIPTION:Meet with Portico’s experienced MNsure Navigator for free health insurance enrollment and renewal assistance in partnership with MN Seeds of Justice and SMOC – Worthington\, MN! Register for this event by clicking the link below. Portico’s on-site services are funded in part by MNsure & the Blue Cross Blue Shield of Minnesota Foundation. \nREGISTER
URL:https://porticohealthnet.org/event/worthington-head-start-enrollment-and-renewal-support/2025-08-08/
LOCATION:Headstart\, 713 10th St.\, Worthington\, 56187\, United States
END:VEVENT
BEGIN:VEVENT
DTSTART;TZID=America/Chicago:20250811T080000
DTEND;TZID=America/Chicago:20250811T160000
DTSTAMP:20260421T211143
CREATED:20250115T182717Z
LAST-MODIFIED:20250415T173559Z
UID:10001497-1754899200-1754928000@porticohealthnet.org
SUMMARY:Worthington - Head Start Enrollment and Renewal Support
DESCRIPTION:Meet with Portico’s experienced MNsure Navigator for free health insurance enrollment and renewal assistance in partnership with MN Seeds of Justice and SMOC – Worthington\, MN! Register for this event by clicking the link below. Portico’s on-site services are funded in part by MNsure & the Blue Cross Blue Shield of Minnesota Foundation. \nREGISTER
URL:https://porticohealthnet.org/event/worthington-head-start-enrollment-and-renewal-support/2025-08-11/
LOCATION:Headstart\, 713 10th St.\, Worthington\, 56187\, United States
END:VEVENT
BEGIN:VEVENT
DTSTART;TZID=America/Chicago:20250811T100000
DTEND;TZID=America/Chicago:20250811T160000
DTSTAMP:20260421T211143
CREATED:20241113T191824Z
LAST-MODIFIED:20241114T145847Z
UID:10001163-1754906400-1754928000@porticohealthnet.org
SUMMARY:Ramsey County-Maplewood Service Center
DESCRIPTION:Ramsey County-Maplewood Service Center 3001 White Bear Avenue N.\, Suite 1034 Suite 1034 Maplewood\, Minnesota 55109. The closest parking lot to the Service Center entrance is between Macy’s and Barnes & Noble. \nPortico’s experienced MNsure Navigators offer in-person appointments at several community locations. Appointments can be scheduled online through the links below or by calling us at 651.489.CARE (2273). Please schedule an appointment to ensure navigator availability. \nSCHEDULE AN APPOINTMENT  \n  \n\n  \n  \nPortico’s on-site services are funded in part by Ramsey County\, Minnesota.
URL:https://porticohealthnet.org/event/ramsey-county-maplewood-service-center/2025-08-11/
LOCATION:Ramsey County-Maplewood Service Center\, 3001 White Bear Avenue N.\, Suite 1034 Suite 1034\, Maplewood\, MN\, 55109\, United States
END:VEVENT
BEGIN:VEVENT
DTSTART;TZID=America/Chicago:20250812T120000
DTEND;TZID=America/Chicago:20250812T160000
DTSTAMP:20260421T211143
CREATED:20250722T180454Z
LAST-MODIFIED:20250806T225913Z
UID:10002268-1755000000-1755014400@porticohealthnet.org
SUMMARY:Health Commons East Health - Enrollment & Renewal Event
DESCRIPTION:Meet with Portico’s experienced MNsure Navigators for free health insurance enrollment and renewal assistance in partnership with Health Commons East and Minnesota Health Fairview! \nRegister for this event by clicking the link below. \nSCHEDULE AN APPOINTMENT  \n Portico’s on-site services are made possible through a grant by the:
URL:https://porticohealthnet.org/event/health-commons-east-health-enrollment-renewal-event/
LOCATION:Health Commons East\, 2090 Conway\, St. Paul\, 55119\, United States
CATEGORIES:Enrollment Events
END:VEVENT
BEGIN:VEVENT
DTSTART;TZID=America/Chicago:20250814T090000
DTEND;TZID=America/Chicago:20250814T140000
DTSTAMP:20260421T211143
CREATED:20240320T184251Z
LAST-MODIFIED:20250102T154254Z
UID:10000336-1755162000-1755180000@porticohealthnet.org
SUMMARY:Shakopee Family Resource Center
DESCRIPTION:Portico’s experienced MNsure Navigators offer in-person appointments at several community locations. Appointments can be scheduled online through the links below or by calling us at 651.489.CARE (2273). Please schedule an appointment to ensure navigator availability. (Important: Appointments will take place at 1615 Weston Court\, Shakopee\, starting on January 9th\, 2025).  \n  \nSchedule An Appointment
URL:https://porticohealthnet.org/event/scott-county-workforce-center/2025-08-14/
LOCATION:Shakopee Family Resource Center\, 1615 Weston Court\, Shakopee\, 55379\, United States
CATEGORIES:Enrollment Events
END:VEVENT
BEGIN:VEVENT
DTSTART;TZID=America/Chicago:20250814T123000
DTEND;TZID=America/Chicago:20250814T163000
DTSTAMP:20260421T211143
CREATED:20250311T163554Z
LAST-MODIFIED:20250311T163554Z
UID:10001988-1755174600-1755189000@porticohealthnet.org
SUMMARY:Richfield Health Resource Center
DESCRIPTION:Portico’s experienced MNsure Navigators offer in-person appointments at several community locations. Appointments can be scheduled online through the links below or by calling us at 651.489.CARE (2273). Please schedule an appointment to ensure navigator availability. \n\nSchedule An Appointment \nPortico’s on-site services are made possible through a grant by the: \n\n  \n 
URL:https://porticohealthnet.org/event/richfield-health-resource-center-2/2025-08-14/
LOCATION:Richfield Health Resource Center at Richfield High School\, 7001 Harriet Avenue\, Door 13A\, Richfield\, MN\, 55423\, United States
CATEGORIES:Enrollment Events
END:VEVENT
BEGIN:VEVENT
DTSTART;TZID=America/Chicago:20250814T130000
DTEND;TZID=America/Chicago:20250814T170000
DTSTAMP:20260421T211143
CREATED:20240320T184509Z
LAST-MODIFIED:20240619T180824Z
UID:10000597-1755176400-1755190800@porticohealthnet.org
SUMMARY:Brooklyn Center Health Resource Center
DESCRIPTION:Portico’s experienced MNsure Navigators offer in-person appointments at several community locations. Appointments can be scheduled online through the links below or by calling us at 651.489.CARE (2273). Please schedule an appointment to ensure navigator availability. \n  \nSchedule An Appointment \n  \nPortico’s on-site services are made possible through grants by the: \n  
URL:https://porticohealthnet.org/event/brooklyn-center-health-resource-center/2025-08-14/
LOCATION:Brooklyn Center Health Resource Center at Brooklyn Center High School\, 6500 North Humboldt Avenue\, Brooklyn Center\, MN\, 55430\, United States
CATEGORIES:Enrollment Events
END:VEVENT
BEGIN:VEVENT
DTSTART;TZID=America/Chicago:20250814T163000
DTEND;TZID=America/Chicago:20250814T193000
DTSTAMP:20260421T211143
CREATED:20250807T144710Z
LAST-MODIFIED:20250807T145427Z
UID:10002269-1755189000-1755199800@porticohealthnet.org
SUMMARY:Landfall Back-to-School Event
DESCRIPTION:Join Portico at the Landfall Back to School event Thursday August 14th from 4:30-7:30pm at Sunset Park (1-11 Aspen Way\, Landfall\, MN 55128). This event is a collaboration between the city of Landfall\, Washington County and Family Means. Join Portico and other great organizations for an evening of music\,  food\, community resources\, activities\, and back-to-school supplies! 
URL:https://porticohealthnet.org/event/landfall-back-to-school-event/
LOCATION:Sunset Park\, 1-11 Aspen Way\, Landfall\, MN\, 55128\, United States
CATEGORIES:Outreach Events
END:VEVENT
BEGIN:VEVENT
DTSTART;TZID=America/Chicago:20250815T080000
DTEND;TZID=America/Chicago:20250815T160000
DTSTAMP:20260421T211143
CREATED:20250115T182717Z
LAST-MODIFIED:20250415T173559Z
UID:10001498-1755244800-1755273600@porticohealthnet.org
SUMMARY:Worthington - Head Start Enrollment and Renewal Support
DESCRIPTION:Meet with Portico’s experienced MNsure Navigator for free health insurance enrollment and renewal assistance in partnership with MN Seeds of Justice and SMOC – Worthington\, MN! Register for this event by clicking the link below. Portico’s on-site services are funded in part by MNsure & the Blue Cross Blue Shield of Minnesota Foundation. \nREGISTER
URL:https://porticohealthnet.org/event/worthington-head-start-enrollment-and-renewal-support/2025-08-15/
LOCATION:Headstart\, 713 10th St.\, Worthington\, 56187\, United States
END:VEVENT
BEGIN:VEVENT
DTSTART;TZID=America/Chicago:20250815T140000
DTEND;TZID=America/Chicago:20250815T180000
DTSTAMP:20260421T211143
CREATED:20250807T173231Z
LAST-MODIFIED:20250807T173231Z
UID:10002270-1755266400-1755280800@porticohealthnet.org
SUMMARY:Diamondhead Education Center - Back-to-School Event
DESCRIPTION:Join Portico at the Diamondhead Education Center\, in partnership with the Burnsville District 191 for the 2025 back-to-school event! At this event\, you will find activities\, school supplies\, and great community resources.
URL:https://porticohealthnet.org/event/diamondhead-education-center-back-to-school-event/
LOCATION:Diamondhead Education Center\, 200 Burnsville Pkwy Suite 1023\, Burnsville\, MN\, 55337\, United States
CATEGORIES:Outreach Events
END:VEVENT
BEGIN:VEVENT
DTSTART;TZID=America/Chicago:20250818T080000
DTEND;TZID=America/Chicago:20250818T160000
DTSTAMP:20260421T211143
CREATED:20250115T182717Z
LAST-MODIFIED:20250415T173559Z
UID:10001499-1755504000-1755532800@porticohealthnet.org
SUMMARY:Worthington - Head Start Enrollment and Renewal Support
DESCRIPTION:Meet with Portico’s experienced MNsure Navigator for free health insurance enrollment and renewal assistance in partnership with MN Seeds of Justice and SMOC – Worthington\, MN! Register for this event by clicking the link below. Portico’s on-site services are funded in part by MNsure & the Blue Cross Blue Shield of Minnesota Foundation. \nREGISTER
URL:https://porticohealthnet.org/event/worthington-head-start-enrollment-and-renewal-support/2025-08-18/
LOCATION:Headstart\, 713 10th St.\, Worthington\, 56187\, United States
END:VEVENT
BEGIN:VEVENT
DTSTART;TZID=America/Chicago:20250818T100000
DTEND;TZID=America/Chicago:20250818T160000
DTSTAMP:20260421T211143
CREATED:20241113T191824Z
LAST-MODIFIED:20241114T145847Z
UID:10001164-1755511200-1755532800@porticohealthnet.org
SUMMARY:Ramsey County-Maplewood Service Center
DESCRIPTION:Ramsey County-Maplewood Service Center 3001 White Bear Avenue N.\, Suite 1034 Suite 1034 Maplewood\, Minnesota 55109. The closest parking lot to the Service Center entrance is between Macy’s and Barnes & Noble. \nPortico’s experienced MNsure Navigators offer in-person appointments at several community locations. Appointments can be scheduled online through the links below or by calling us at 651.489.CARE (2273). Please schedule an appointment to ensure navigator availability. \nSCHEDULE AN APPOINTMENT  \n  \n\n  \n  \nPortico’s on-site services are funded in part by Ramsey County\, Minnesota.
URL:https://porticohealthnet.org/event/ramsey-county-maplewood-service-center/2025-08-18/
LOCATION:Ramsey County-Maplewood Service Center\, 3001 White Bear Avenue N.\, Suite 1034 Suite 1034\, Maplewood\, MN\, 55109\, United States
END:VEVENT
BEGIN:VEVENT
DTSTART;TZID=America/Chicago:20250821T090000
DTEND;TZID=America/Chicago:20250821T140000
DTSTAMP:20260421T211143
CREATED:20240320T184251Z
LAST-MODIFIED:20250102T154254Z
UID:10000337-1755766800-1755784800@porticohealthnet.org
SUMMARY:Shakopee Family Resource Center
DESCRIPTION:Portico’s experienced MNsure Navigators offer in-person appointments at several community locations. Appointments can be scheduled online through the links below or by calling us at 651.489.CARE (2273). Please schedule an appointment to ensure navigator availability. (Important: Appointments will take place at 1615 Weston Court\, Shakopee\, starting on January 9th\, 2025).  \n  \nSchedule An Appointment
URL:https://porticohealthnet.org/event/scott-county-workforce-center/2025-08-21/
LOCATION:Shakopee Family Resource Center\, 1615 Weston Court\, Shakopee\, 55379\, United States
CATEGORIES:Enrollment Events
END:VEVENT
BEGIN:VEVENT
DTSTART;TZID=America/Chicago:20250821T123000
DTEND;TZID=America/Chicago:20250821T163000
DTSTAMP:20260421T211143
CREATED:20250311T163554Z
LAST-MODIFIED:20250311T163554Z
UID:10001989-1755779400-1755793800@porticohealthnet.org
SUMMARY:Richfield Health Resource Center
DESCRIPTION:Portico’s experienced MNsure Navigators offer in-person appointments at several community locations. Appointments can be scheduled online through the links below or by calling us at 651.489.CARE (2273). Please schedule an appointment to ensure navigator availability. \n\nSchedule An Appointment \nPortico’s on-site services are made possible through a grant by the: \n\n  \n 
URL:https://porticohealthnet.org/event/richfield-health-resource-center-2/2025-08-21/
LOCATION:Richfield Health Resource Center at Richfield High School\, 7001 Harriet Avenue\, Door 13A\, Richfield\, MN\, 55423\, United States
CATEGORIES:Enrollment Events
END:VEVENT
BEGIN:VEVENT
DTSTART;TZID=America/Chicago:20250821T130000
DTEND;TZID=America/Chicago:20250821T170000
DTSTAMP:20260421T211143
CREATED:20240320T184509Z
LAST-MODIFIED:20240619T180824Z
UID:10000598-1755781200-1755795600@porticohealthnet.org
SUMMARY:Brooklyn Center Health Resource Center
DESCRIPTION:Portico’s experienced MNsure Navigators offer in-person appointments at several community locations. Appointments can be scheduled online through the links below or by calling us at 651.489.CARE (2273). Please schedule an appointment to ensure navigator availability. \n  \nSchedule An Appointment \n  \nPortico’s on-site services are made possible through grants by the: \n  
URL:https://porticohealthnet.org/event/brooklyn-center-health-resource-center/2025-08-21/
LOCATION:Brooklyn Center Health Resource Center at Brooklyn Center High School\, 6500 North Humboldt Avenue\, Brooklyn Center\, MN\, 55430\, United States
CATEGORIES:Enrollment Events
END:VEVENT
BEGIN:VEVENT
DTSTART;TZID=America/Chicago:20250821T140000
DTEND;TZID=America/Chicago:20250821T170000
DTSTAMP:20260421T211143
CREATED:20250807T173742Z
LAST-MODIFIED:20250808T155616Z
UID:10002271-1755784800-1755795600@porticohealthnet.org
SUMMARY:Keystone Back-to-School Event
DESCRIPTION:Join Portico and Keystone at the annual Back-to-School event! This event will take place on Thursday\, August 21st from 2-5pm at the Merriam Park Community Center\, 2000 Saint Anthony Avenue Saint Paul MN 55104. At this event\, the Keystone Community Center Services staff will provide new\, free backpacks and school supplies to families! Don’t miss an opportunity to connect with incredible resources and receive free school supplies.
URL:https://porticohealthnet.org/event/keystone-back-to-school-event/
LOCATION:Merriam Park Community Center\,\, 2000 Saint Anthony Avenue\, St. Paul\, MN\, 55104\, United States
CATEGORIES:Outreach Events
END:VEVENT
BEGIN:VEVENT
DTSTART;TZID=America/Chicago:20250822T080000
DTEND;TZID=America/Chicago:20250822T160000
DTSTAMP:20260421T211143
CREATED:20250115T182717Z
LAST-MODIFIED:20250415T173559Z
UID:10001500-1755849600-1755878400@porticohealthnet.org
SUMMARY:Worthington - Head Start Enrollment and Renewal Support
DESCRIPTION:Meet with Portico’s experienced MNsure Navigator for free health insurance enrollment and renewal assistance in partnership with MN Seeds of Justice and SMOC – Worthington\, MN! Register for this event by clicking the link below. Portico’s on-site services are funded in part by MNsure & the Blue Cross Blue Shield of Minnesota Foundation. \nREGISTER
URL:https://porticohealthnet.org/event/worthington-head-start-enrollment-and-renewal-support/2025-08-22/
LOCATION:Headstart\, 713 10th St.\, Worthington\, 56187\, United States
END:VEVENT
BEGIN:VEVENT
DTSTART;TZID=America/Chicago:20250823T120000
DTEND;TZID=America/Chicago:20250823T150000
DTSTAMP:20260421T211143
CREATED:20250807T174717Z
LAST-MODIFIED:20250807T175710Z
UID:10002272-1755950400-1755961200@porticohealthnet.org
SUMMARY:JK Movement Back-to-School Event
DESCRIPTION:Join Portico and other incredible organizations at the JK Movement Back-to-School event – Backpack Giveaway & Ice Cream Social on Saturday\, August 23rd from 12:00 PM – 3:00 PM. The event will take place at The JK Movement/ Jimmy Lee Recreation Center in Saint Paul. \nJoin us and enjoy a fun afternoon of music\, ice cream\, and connection!
URL:https://porticohealthnet.org/event/jk-movement-back-to-school-event/
LOCATION:JK Movement\, 1063 Iglehart Ave\, St. Paul\, 55104\, United States
CATEGORIES:Outreach Events
END:VEVENT
BEGIN:VEVENT
DTSTART;TZID=America/Chicago:20250825T080000
DTEND;TZID=America/Chicago:20250825T160000
DTSTAMP:20260421T211143
CREATED:20250115T182717Z
LAST-MODIFIED:20250415T173559Z
UID:10001501-1756108800-1756137600@porticohealthnet.org
SUMMARY:Worthington - Head Start Enrollment and Renewal Support
DESCRIPTION:Meet with Portico’s experienced MNsure Navigator for free health insurance enrollment and renewal assistance in partnership with MN Seeds of Justice and SMOC – Worthington\, MN! Register for this event by clicking the link below. Portico’s on-site services are funded in part by MNsure & the Blue Cross Blue Shield of Minnesota Foundation. \nREGISTER
URL:https://porticohealthnet.org/event/worthington-head-start-enrollment-and-renewal-support/2025-08-25/
LOCATION:Headstart\, 713 10th St.\, Worthington\, 56187\, United States
END:VEVENT
BEGIN:VEVENT
DTSTART;TZID=America/Chicago:20250825T100000
DTEND;TZID=America/Chicago:20250825T160000
DTSTAMP:20260421T211143
CREATED:20250722T180057Z
LAST-MODIFIED:20250728T224626Z
UID:10002267-1756116000-1756137600@porticohealthnet.org
SUMMARY:Urban Ventures – Health Coverage Enrollment and Renewal Event
DESCRIPTION:Meet with Portico’s experienced MNsure Navigators for a free health insurance enrollment and renewal assistance in partnership with Urban Ventures! Register for this event by clicking the link below. \nREGISTER \n 
URL:https://porticohealthnet.org/event/urban-ventures-health-coverage-enrollment-and-renewal-event-5/
LOCATION:Urban Ventures\, 3023 4th Ave S\, Minneapolis\, MN\, 55408\, United States
CATEGORIES:Enrollment Events
END:VEVENT
BEGIN:VEVENT
DTSTART;TZID=America/Chicago:20250825T100000
DTEND;TZID=America/Chicago:20250825T160000
DTSTAMP:20260421T211143
CREATED:20241113T191824Z
LAST-MODIFIED:20241114T145847Z
UID:10001165-1756116000-1756137600@porticohealthnet.org
SUMMARY:Ramsey County-Maplewood Service Center
DESCRIPTION:Ramsey County-Maplewood Service Center 3001 White Bear Avenue N.\, Suite 1034 Suite 1034 Maplewood\, Minnesota 55109. The closest parking lot to the Service Center entrance is between Macy’s and Barnes & Noble. \nPortico’s experienced MNsure Navigators offer in-person appointments at several community locations. Appointments can be scheduled online through the links below or by calling us at 651.489.CARE (2273). Please schedule an appointment to ensure navigator availability. \nSCHEDULE AN APPOINTMENT  \n  \n\n  \n  \nPortico’s on-site services are funded in part by Ramsey County\, Minnesota.
URL:https://porticohealthnet.org/event/ramsey-county-maplewood-service-center/2025-08-25/
LOCATION:Ramsey County-Maplewood Service Center\, 3001 White Bear Avenue N.\, Suite 1034 Suite 1034\, Maplewood\, MN\, 55109\, United States
END:VEVENT
END:VCALENDAR