BEGIN:VCALENDAR
VERSION:2.0
PRODID:-//Portico Healthnet - ECPv6.15.13//NONSGML v1.0//EN
CALSCALE:GREGORIAN
METHOD:PUBLISH
X-ORIGINAL-URL:https://porticohealthnet.org
X-WR-CALDESC:Events for Portico Healthnet
REFRESH-INTERVAL;VALUE=DURATION:PT1H
X-Robots-Tag:noindex
X-PUBLISHED-TTL:PT1H
BEGIN:VTIMEZONE
TZID:America/Chicago
BEGIN:DAYLIGHT
TZOFFSETFROM:-0600
TZOFFSETTO:-0500
TZNAME:CDT
DTSTART:20240310T080000
END:DAYLIGHT
BEGIN:STANDARD
TZOFFSETFROM:-0500
TZOFFSETTO:-0600
TZNAME:CST
DTSTART:20241103T070000
END:STANDARD
BEGIN:DAYLIGHT
TZOFFSETFROM:-0600
TZOFFSETTO:-0500
TZNAME:CDT
DTSTART:20250309T080000
END:DAYLIGHT
BEGIN:STANDARD
TZOFFSETFROM:-0500
TZOFFSETTO:-0600
TZNAME:CST
DTSTART:20251102T070000
END:STANDARD
BEGIN:DAYLIGHT
TZOFFSETFROM:-0600
TZOFFSETTO:-0500
TZNAME:CDT
DTSTART:20260308T080000
END:DAYLIGHT
BEGIN:STANDARD
TZOFFSETFROM:-0500
TZOFFSETTO:-0600
TZNAME:CST
DTSTART:20261101T070000
END:STANDARD
END:VTIMEZONE
BEGIN:VEVENT
DTSTART;TZID=America/Chicago:20250131T080000
DTEND;TZID=America/Chicago:20250131T160000
DTSTAMP:20260420T232004
CREATED:20250115T182717Z
LAST-MODIFIED:20250415T173559Z
UID:10001445-1738310400-1738339200@porticohealthnet.org
SUMMARY:Worthington - Head Start Enrollment and Renewal Support
DESCRIPTION:Meet with Portico’s experienced MNsure Navigator for free health insurance enrollment and renewal assistance in partnership with MN Seeds of Justice and SMOC – Worthington\, MN! Register for this event by clicking the link below. Portico’s on-site services are funded in part by MNsure & the Blue Cross Blue Shield of Minnesota Foundation. \nREGISTER
URL:https://porticohealthnet.org/event/worthington-head-start-enrollment-and-renewal-support/2025-01-31/
LOCATION:Headstart\, 713 10th St.\, Worthington\, 56187\, United States
END:VEVENT
BEGIN:VEVENT
DTSTART;TZID=America/Chicago:20250203T080000
DTEND;TZID=America/Chicago:20250203T160000
DTSTAMP:20260420T232004
CREATED:20250115T182717Z
LAST-MODIFIED:20250415T173559Z
UID:10001446-1738569600-1738598400@porticohealthnet.org
SUMMARY:Worthington - Head Start Enrollment and Renewal Support
DESCRIPTION:Meet with Portico’s experienced MNsure Navigator for free health insurance enrollment and renewal assistance in partnership with MN Seeds of Justice and SMOC – Worthington\, MN! Register for this event by clicking the link below. Portico’s on-site services are funded in part by MNsure & the Blue Cross Blue Shield of Minnesota Foundation. \nREGISTER
URL:https://porticohealthnet.org/event/worthington-head-start-enrollment-and-renewal-support/2025-02-03/
LOCATION:Headstart\, 713 10th St.\, Worthington\, 56187\, United States
END:VEVENT
BEGIN:VEVENT
DTSTART;TZID=America/Chicago:20250203T100000
DTEND;TZID=America/Chicago:20250203T160000
DTSTAMP:20260420T232004
CREATED:20241113T191824Z
LAST-MODIFIED:20241114T145847Z
UID:10001138-1738576800-1738598400@porticohealthnet.org
SUMMARY:Ramsey County-Maplewood Service Center
DESCRIPTION:Ramsey County-Maplewood Service Center 3001 White Bear Avenue N.\, Suite 1034 Suite 1034 Maplewood\, Minnesota 55109. The closest parking lot to the Service Center entrance is between Macy’s and Barnes & Noble. \nPortico’s experienced MNsure Navigators offer in-person appointments at several community locations. Appointments can be scheduled online through the links below or by calling us at 651.489.CARE (2273). Please schedule an appointment to ensure navigator availability. \nSCHEDULE AN APPOINTMENT  \n  \n\n  \n  \nPortico’s on-site services are funded in part by Ramsey County\, Minnesota.
URL:https://porticohealthnet.org/event/ramsey-county-maplewood-service-center/2025-02-03/
LOCATION:Ramsey County-Maplewood Service Center\, 3001 White Bear Avenue N.\, Suite 1034 Suite 1034\, Maplewood\, MN\, 55109\, United States
END:VEVENT
BEGIN:VEVENT
DTSTART;TZID=America/Chicago:20250205T123000
DTEND;TZID=America/Chicago:20250205T163000
DTSTAMP:20260420T232004
CREATED:20240320T183938Z
LAST-MODIFIED:20241218T155235Z
UID:10000885-1738758600-1738773000@porticohealthnet.org
SUMMARY:Richfield Health Resource Center
DESCRIPTION:Portico’s experienced MNsure Navigators offer in-person appointments at several community locations. Appointments can be scheduled online through the links below or by calling us at 651.489.CARE (2273). Please schedule an appointment to ensure navigator availability. \n\nSchedule An Appointment \nPortico’s on-site services are made possible through a grant by the: \n\n  \n 
URL:https://porticohealthnet.org/event/richfield-health-resource-center/2025-02-05/
LOCATION:Richfield Health Resource Center at Richfield High School\, 7001 Harriet Avenue\, Door 13A\, Richfield\, MN\, 55423\, United States
CATEGORIES:Enrollment Events
END:VEVENT
BEGIN:VEVENT
DTSTART;TZID=America/Chicago:20250206T090000
DTEND;TZID=America/Chicago:20250206T140000
DTSTAMP:20260420T232004
CREATED:20240320T184251Z
LAST-MODIFIED:20250102T154254Z
UID:10000309-1738832400-1738850400@porticohealthnet.org
SUMMARY:Shakopee Family Resource Center
DESCRIPTION:Portico’s experienced MNsure Navigators offer in-person appointments at several community locations. Appointments can be scheduled online through the links below or by calling us at 651.489.CARE (2273). Please schedule an appointment to ensure navigator availability. (Important: Appointments will take place at 1615 Weston Court\, Shakopee\, starting on January 9th\, 2025).  \n  \nSchedule An Appointment
URL:https://porticohealthnet.org/event/scott-county-workforce-center/2025-02-06/
LOCATION:Shakopee Family Resource Center\, 1615 Weston Court\, Shakopee\, 55379\, United States
CATEGORIES:Enrollment Events
END:VEVENT
BEGIN:VEVENT
DTSTART;TZID=America/Chicago:20250206T130000
DTEND;TZID=America/Chicago:20250206T170000
DTSTAMP:20260420T232004
CREATED:20240320T184509Z
LAST-MODIFIED:20240619T180824Z
UID:10000570-1738846800-1738861200@porticohealthnet.org
SUMMARY:Brooklyn Center Health Resource Center
DESCRIPTION:Portico’s experienced MNsure Navigators offer in-person appointments at several community locations. Appointments can be scheduled online through the links below or by calling us at 651.489.CARE (2273). Please schedule an appointment to ensure navigator availability. \n  \nSchedule An Appointment \n  \nPortico’s on-site services are made possible through grants by the: \n  
URL:https://porticohealthnet.org/event/brooklyn-center-health-resource-center/2025-02-06/
LOCATION:Brooklyn Center Health Resource Center at Brooklyn Center High School\, 6500 North Humboldt Avenue\, Brooklyn Center\, MN\, 55430\, United States
CATEGORIES:Enrollment Events
END:VEVENT
BEGIN:VEVENT
DTSTART;TZID=America/Chicago:20250207T080000
DTEND;TZID=America/Chicago:20250207T160000
DTSTAMP:20260420T232004
CREATED:20250115T182717Z
LAST-MODIFIED:20250415T173559Z
UID:10001447-1738915200-1738944000@porticohealthnet.org
SUMMARY:Worthington - Head Start Enrollment and Renewal Support
DESCRIPTION:Meet with Portico’s experienced MNsure Navigator for free health insurance enrollment and renewal assistance in partnership with MN Seeds of Justice and SMOC – Worthington\, MN! Register for this event by clicking the link below. Portico’s on-site services are funded in part by MNsure & the Blue Cross Blue Shield of Minnesota Foundation. \nREGISTER
URL:https://porticohealthnet.org/event/worthington-head-start-enrollment-and-renewal-support/2025-02-07/
LOCATION:Headstart\, 713 10th St.\, Worthington\, 56187\, United States
END:VEVENT
BEGIN:VEVENT
DTSTART;TZID=America/Chicago:20250210T080000
DTEND;TZID=America/Chicago:20250210T160000
DTSTAMP:20260420T232004
CREATED:20250115T182717Z
LAST-MODIFIED:20250415T173559Z
UID:10001448-1739174400-1739203200@porticohealthnet.org
SUMMARY:Worthington - Head Start Enrollment and Renewal Support
DESCRIPTION:Meet with Portico’s experienced MNsure Navigator for free health insurance enrollment and renewal assistance in partnership with MN Seeds of Justice and SMOC – Worthington\, MN! Register for this event by clicking the link below. Portico’s on-site services are funded in part by MNsure & the Blue Cross Blue Shield of Minnesota Foundation. \nREGISTER
URL:https://porticohealthnet.org/event/worthington-head-start-enrollment-and-renewal-support/2025-02-10/
LOCATION:Headstart\, 713 10th St.\, Worthington\, 56187\, United States
END:VEVENT
BEGIN:VEVENT
DTSTART;TZID=America/Chicago:20250210T100000
DTEND;TZID=America/Chicago:20250210T160000
DTSTAMP:20260420T232004
CREATED:20250123T210015Z
LAST-MODIFIED:20250123T210015Z
UID:10001958-1739181600-1739203200@porticohealthnet.org
SUMMARY:Urban Ventures -Enrollment and Renewal Event
DESCRIPTION:Meet with Portico’s experienced MNsure Navigators for a free health insurance enrollment and renewal assistance in partnership with Urban Ventures! Register for this event by clicking the link below. \n REGISTER
URL:https://porticohealthnet.org/event/urban-ventures-enrollment-and-renewal-event/
LOCATION:Urban Ventures\, 3023 4th Ave S\, Minneapolis\, MN\, 55408\, United States
END:VEVENT
BEGIN:VEVENT
DTSTART;TZID=America/Chicago:20250210T100000
DTEND;TZID=America/Chicago:20250210T160000
DTSTAMP:20260420T232004
CREATED:20241113T191824Z
LAST-MODIFIED:20241114T145847Z
UID:10001139-1739181600-1739203200@porticohealthnet.org
SUMMARY:Ramsey County-Maplewood Service Center
DESCRIPTION:Ramsey County-Maplewood Service Center 3001 White Bear Avenue N.\, Suite 1034 Suite 1034 Maplewood\, Minnesota 55109. The closest parking lot to the Service Center entrance is between Macy’s and Barnes & Noble. \nPortico’s experienced MNsure Navigators offer in-person appointments at several community locations. Appointments can be scheduled online through the links below or by calling us at 651.489.CARE (2273). Please schedule an appointment to ensure navigator availability. \nSCHEDULE AN APPOINTMENT  \n  \n\n  \n  \nPortico’s on-site services are funded in part by Ramsey County\, Minnesota.
URL:https://porticohealthnet.org/event/ramsey-county-maplewood-service-center/2025-02-10/
LOCATION:Ramsey County-Maplewood Service Center\, 3001 White Bear Avenue N.\, Suite 1034 Suite 1034\, Maplewood\, MN\, 55109\, United States
END:VEVENT
BEGIN:VEVENT
DTSTART;TZID=America/Chicago:20250212T123000
DTEND;TZID=America/Chicago:20250212T163000
DTSTAMP:20260420T232004
CREATED:20240320T183938Z
LAST-MODIFIED:20241218T155235Z
UID:10000886-1739363400-1739377800@porticohealthnet.org
SUMMARY:Richfield Health Resource Center
DESCRIPTION:Portico’s experienced MNsure Navigators offer in-person appointments at several community locations. Appointments can be scheduled online through the links below or by calling us at 651.489.CARE (2273). Please schedule an appointment to ensure navigator availability. \n\nSchedule An Appointment \nPortico’s on-site services are made possible through a grant by the: \n\n  \n 
URL:https://porticohealthnet.org/event/richfield-health-resource-center/2025-02-12/
LOCATION:Richfield Health Resource Center at Richfield High School\, 7001 Harriet Avenue\, Door 13A\, Richfield\, MN\, 55423\, United States
CATEGORIES:Enrollment Events
END:VEVENT
BEGIN:VEVENT
DTSTART;TZID=America/Chicago:20250213T090000
DTEND;TZID=America/Chicago:20250213T140000
DTSTAMP:20260420T232004
CREATED:20250123T210614Z
LAST-MODIFIED:20250129T195840Z
UID:10001959-1739437200-1739455200@porticohealthnet.org
SUMMARY:VEAP - Enrollment and Renewal Event
DESCRIPTION:Meet with Portico’s experienced MNsure Navigators for a free health insurance enrollment and renewal assistance in partnership with VEAP! Register for this event by clicking the link below. \nREGISTER
URL:https://porticohealthnet.org/event/veap-enrollment-and-renewal-event/
LOCATION:VEAP\, 9600 Aldrich Ave S\, Bloomington\, MN\, 55420\, United States
END:VEVENT
BEGIN:VEVENT
DTSTART;TZID=America/Chicago:20250213T090000
DTEND;TZID=America/Chicago:20250213T140000
DTSTAMP:20260420T232004
CREATED:20240320T184251Z
LAST-MODIFIED:20250102T154254Z
UID:10000310-1739437200-1739455200@porticohealthnet.org
SUMMARY:Shakopee Family Resource Center
DESCRIPTION:Portico’s experienced MNsure Navigators offer in-person appointments at several community locations. Appointments can be scheduled online through the links below or by calling us at 651.489.CARE (2273). Please schedule an appointment to ensure navigator availability. (Important: Appointments will take place at 1615 Weston Court\, Shakopee\, starting on January 9th\, 2025).  \n  \nSchedule An Appointment
URL:https://porticohealthnet.org/event/scott-county-workforce-center/2025-02-13/
LOCATION:Shakopee Family Resource Center\, 1615 Weston Court\, Shakopee\, 55379\, United States
CATEGORIES:Enrollment Events
END:VEVENT
BEGIN:VEVENT
DTSTART;TZID=America/Chicago:20250213T130000
DTEND;TZID=America/Chicago:20250213T170000
DTSTAMP:20260420T232004
CREATED:20240320T184509Z
LAST-MODIFIED:20240619T180824Z
UID:10000571-1739451600-1739466000@porticohealthnet.org
SUMMARY:Brooklyn Center Health Resource Center
DESCRIPTION:Portico’s experienced MNsure Navigators offer in-person appointments at several community locations. Appointments can be scheduled online through the links below or by calling us at 651.489.CARE (2273). Please schedule an appointment to ensure navigator availability. \n  \nSchedule An Appointment \n  \nPortico’s on-site services are made possible through grants by the: \n  
URL:https://porticohealthnet.org/event/brooklyn-center-health-resource-center/2025-02-13/
LOCATION:Brooklyn Center Health Resource Center at Brooklyn Center High School\, 6500 North Humboldt Avenue\, Brooklyn Center\, MN\, 55430\, United States
CATEGORIES:Enrollment Events
END:VEVENT
BEGIN:VEVENT
DTSTART;TZID=America/Chicago:20250214T080000
DTEND;TZID=America/Chicago:20250214T160000
DTSTAMP:20260420T232004
CREATED:20250115T182717Z
LAST-MODIFIED:20250415T173559Z
UID:10001449-1739520000-1739548800@porticohealthnet.org
SUMMARY:Worthington - Head Start Enrollment and Renewal Support
DESCRIPTION:Meet with Portico’s experienced MNsure Navigator for free health insurance enrollment and renewal assistance in partnership with MN Seeds of Justice and SMOC – Worthington\, MN! Register for this event by clicking the link below. Portico’s on-site services are funded in part by MNsure & the Blue Cross Blue Shield of Minnesota Foundation. \nREGISTER
URL:https://porticohealthnet.org/event/worthington-head-start-enrollment-and-renewal-support/2025-02-14/
LOCATION:Headstart\, 713 10th St.\, Worthington\, 56187\, United States
END:VEVENT
BEGIN:VEVENT
DTSTART;TZID=America/Chicago:20250219T110000
DTEND;TZID=America/Chicago:20250219T140000
DTSTAMP:20260420T232004
CREATED:20250123T211537Z
LAST-MODIFIED:20250123T211537Z
UID:10001960-1739962800-1739973600@porticohealthnet.org
SUMMARY:Roseville Library - Enrollment and Renewal Event
DESCRIPTION:Meet with Portico’s experienced MNsure Navigators for free health insurance enrollment and renewal assistance in partnership with Ramsey County and the Roseville Library! Register for this event by clicking the link below. \nREGISTER \n\n  \n  \nPortico’s on-site services are funded in part by Ramsey County\, Minnesota.
URL:https://porticohealthnet.org/event/roseville-library-enrollment-and-renewal-event/
LOCATION:Roseville Library\, 2180 Hamline Ave N\, Roseville\, MN\, 55113\, United States
END:VEVENT
BEGIN:VEVENT
DTSTART;TZID=America/Chicago:20250219T123000
DTEND;TZID=America/Chicago:20250219T163000
DTSTAMP:20260420T232004
CREATED:20240320T183938Z
LAST-MODIFIED:20241218T155235Z
UID:10000887-1739968200-1739982600@porticohealthnet.org
SUMMARY:Richfield Health Resource Center
DESCRIPTION:Portico’s experienced MNsure Navigators offer in-person appointments at several community locations. Appointments can be scheduled online through the links below or by calling us at 651.489.CARE (2273). Please schedule an appointment to ensure navigator availability. \n\nSchedule An Appointment \nPortico’s on-site services are made possible through a grant by the: \n\n  \n 
URL:https://porticohealthnet.org/event/richfield-health-resource-center/2025-02-19/
LOCATION:Richfield Health Resource Center at Richfield High School\, 7001 Harriet Avenue\, Door 13A\, Richfield\, MN\, 55423\, United States
CATEGORIES:Enrollment Events
END:VEVENT
BEGIN:VEVENT
DTSTART;TZID=America/Chicago:20250220T090000
DTEND;TZID=America/Chicago:20250220T140000
DTSTAMP:20260420T232004
CREATED:20240320T184251Z
LAST-MODIFIED:20250102T154254Z
UID:10000311-1740042000-1740060000@porticohealthnet.org
SUMMARY:Shakopee Family Resource Center
DESCRIPTION:Portico’s experienced MNsure Navigators offer in-person appointments at several community locations. Appointments can be scheduled online through the links below or by calling us at 651.489.CARE (2273). Please schedule an appointment to ensure navigator availability. (Important: Appointments will take place at 1615 Weston Court\, Shakopee\, starting on January 9th\, 2025).  \n  \nSchedule An Appointment
URL:https://porticohealthnet.org/event/scott-county-workforce-center/2025-02-20/
LOCATION:Shakopee Family Resource Center\, 1615 Weston Court\, Shakopee\, 55379\, United States
CATEGORIES:Enrollment Events
END:VEVENT
BEGIN:VEVENT
DTSTART;TZID=America/Chicago:20250220T130000
DTEND;TZID=America/Chicago:20250220T170000
DTSTAMP:20260420T232004
CREATED:20240320T184509Z
LAST-MODIFIED:20240619T180824Z
UID:10000572-1740056400-1740070800@porticohealthnet.org
SUMMARY:Brooklyn Center Health Resource Center
DESCRIPTION:Portico’s experienced MNsure Navigators offer in-person appointments at several community locations. Appointments can be scheduled online through the links below or by calling us at 651.489.CARE (2273). Please schedule an appointment to ensure navigator availability. \n  \nSchedule An Appointment \n  \nPortico’s on-site services are made possible through grants by the: \n  
URL:https://porticohealthnet.org/event/brooklyn-center-health-resource-center/2025-02-20/
LOCATION:Brooklyn Center Health Resource Center at Brooklyn Center High School\, 6500 North Humboldt Avenue\, Brooklyn Center\, MN\, 55430\, United States
CATEGORIES:Enrollment Events
END:VEVENT
BEGIN:VEVENT
DTSTART;TZID=America/Chicago:20250221T080000
DTEND;TZID=America/Chicago:20250221T160000
DTSTAMP:20260420T232004
CREATED:20250115T182717Z
LAST-MODIFIED:20250415T173559Z
UID:10001450-1740124800-1740153600@porticohealthnet.org
SUMMARY:Worthington - Head Start Enrollment and Renewal Support
DESCRIPTION:Meet with Portico’s experienced MNsure Navigator for free health insurance enrollment and renewal assistance in partnership with MN Seeds of Justice and SMOC – Worthington\, MN! Register for this event by clicking the link below. Portico’s on-site services are funded in part by MNsure & the Blue Cross Blue Shield of Minnesota Foundation. \nREGISTER
URL:https://porticohealthnet.org/event/worthington-head-start-enrollment-and-renewal-support/2025-02-21/
LOCATION:Headstart\, 713 10th St.\, Worthington\, 56187\, United States
END:VEVENT
BEGIN:VEVENT
DTSTART;TZID=America/Chicago:20250224T080000
DTEND;TZID=America/Chicago:20250224T160000
DTSTAMP:20260420T232004
CREATED:20250115T182717Z
LAST-MODIFIED:20250415T173559Z
UID:10001451-1740384000-1740412800@porticohealthnet.org
SUMMARY:Worthington - Head Start Enrollment and Renewal Support
DESCRIPTION:Meet with Portico’s experienced MNsure Navigator for free health insurance enrollment and renewal assistance in partnership with MN Seeds of Justice and SMOC – Worthington\, MN! Register for this event by clicking the link below. Portico’s on-site services are funded in part by MNsure & the Blue Cross Blue Shield of Minnesota Foundation. \nREGISTER
URL:https://porticohealthnet.org/event/worthington-head-start-enrollment-and-renewal-support/2025-02-24/
LOCATION:Headstart\, 713 10th St.\, Worthington\, 56187\, United States
END:VEVENT
BEGIN:VEVENT
DTSTART;TZID=America/Chicago:20250224T100000
DTEND;TZID=America/Chicago:20250224T160000
DTSTAMP:20260420T232004
CREATED:20241113T191824Z
LAST-MODIFIED:20241114T145847Z
UID:10001140-1740391200-1740412800@porticohealthnet.org
SUMMARY:Ramsey County-Maplewood Service Center
DESCRIPTION:Ramsey County-Maplewood Service Center 3001 White Bear Avenue N.\, Suite 1034 Suite 1034 Maplewood\, Minnesota 55109. The closest parking lot to the Service Center entrance is between Macy’s and Barnes & Noble. \nPortico’s experienced MNsure Navigators offer in-person appointments at several community locations. Appointments can be scheduled online through the links below or by calling us at 651.489.CARE (2273). Please schedule an appointment to ensure navigator availability. \nSCHEDULE AN APPOINTMENT  \n  \n\n  \n  \nPortico’s on-site services are funded in part by Ramsey County\, Minnesota.
URL:https://porticohealthnet.org/event/ramsey-county-maplewood-service-center/2025-02-24/
LOCATION:Ramsey County-Maplewood Service Center\, 3001 White Bear Avenue N.\, Suite 1034 Suite 1034\, Maplewood\, MN\, 55109\, United States
END:VEVENT
BEGIN:VEVENT
DTSTART;TZID=America/Chicago:20250224T120000
DTEND;TZID=America/Chicago:20250224T160000
DTSTAMP:20260420T232004
CREATED:20250123T213020Z
LAST-MODIFIED:20250123T213437Z
UID:10001961-1740398400-1740412800@porticohealthnet.org
SUMMARY:Washington County Service Center - Cottage Grove_Enrollment and Renewal Event
DESCRIPTION:Meet with Portico’s experienced MNsure Navigators for a free health insurance enrollment and renewal assistance in partnership with Raices Latinas! Register for this event by clicking the link below. \nREGISTER
URL:https://porticohealthnet.org/event/washington-county-service-center-cottage-grove_enrollment-and-renewal-event/
LOCATION:Washington County Service Center – Cottage Grove\, 13000 Ravine Pkwy S\, Cottage Grove\, MN\, 55106\, United States
END:VEVENT
BEGIN:VEVENT
DTSTART;TZID=America/Chicago:20250226T123000
DTEND;TZID=America/Chicago:20250226T163000
DTSTAMP:20260420T232004
CREATED:20240320T183938Z
LAST-MODIFIED:20241218T155235Z
UID:10000888-1740573000-1740587400@porticohealthnet.org
SUMMARY:Richfield Health Resource Center
DESCRIPTION:Portico’s experienced MNsure Navigators offer in-person appointments at several community locations. Appointments can be scheduled online through the links below or by calling us at 651.489.CARE (2273). Please schedule an appointment to ensure navigator availability. \n\nSchedule An Appointment \nPortico’s on-site services are made possible through a grant by the: \n\n  \n 
URL:https://porticohealthnet.org/event/richfield-health-resource-center/2025-02-26/
LOCATION:Richfield Health Resource Center at Richfield High School\, 7001 Harriet Avenue\, Door 13A\, Richfield\, MN\, 55423\, United States
CATEGORIES:Enrollment Events
END:VEVENT
BEGIN:VEVENT
DTSTART;TZID=America/Chicago:20250227T090000
DTEND;TZID=America/Chicago:20250227T140000
DTSTAMP:20260420T232004
CREATED:20240320T184251Z
LAST-MODIFIED:20250102T154254Z
UID:10000312-1740646800-1740664800@porticohealthnet.org
SUMMARY:Shakopee Family Resource Center
DESCRIPTION:Portico’s experienced MNsure Navigators offer in-person appointments at several community locations. Appointments can be scheduled online through the links below or by calling us at 651.489.CARE (2273). Please schedule an appointment to ensure navigator availability. (Important: Appointments will take place at 1615 Weston Court\, Shakopee\, starting on January 9th\, 2025).  \n  \nSchedule An Appointment
URL:https://porticohealthnet.org/event/scott-county-workforce-center/2025-02-27/
LOCATION:Shakopee Family Resource Center\, 1615 Weston Court\, Shakopee\, 55379\, United States
CATEGORIES:Enrollment Events
END:VEVENT
BEGIN:VEVENT
DTSTART;TZID=America/Chicago:20250227T130000
DTEND;TZID=America/Chicago:20250227T170000
DTSTAMP:20260420T232004
CREATED:20240320T184509Z
LAST-MODIFIED:20240619T180824Z
UID:10000573-1740661200-1740675600@porticohealthnet.org
SUMMARY:Brooklyn Center Health Resource Center
DESCRIPTION:Portico’s experienced MNsure Navigators offer in-person appointments at several community locations. Appointments can be scheduled online through the links below or by calling us at 651.489.CARE (2273). Please schedule an appointment to ensure navigator availability. \n  \nSchedule An Appointment \n  \nPortico’s on-site services are made possible through grants by the: \n  
URL:https://porticohealthnet.org/event/brooklyn-center-health-resource-center/2025-02-27/
LOCATION:Brooklyn Center Health Resource Center at Brooklyn Center High School\, 6500 North Humboldt Avenue\, Brooklyn Center\, MN\, 55430\, United States
CATEGORIES:Enrollment Events
END:VEVENT
BEGIN:VEVENT
DTSTART;TZID=America/Chicago:20250228T080000
DTEND;TZID=America/Chicago:20250228T160000
DTSTAMP:20260420T232004
CREATED:20250115T182717Z
LAST-MODIFIED:20250415T173559Z
UID:10001452-1740729600-1740758400@porticohealthnet.org
SUMMARY:Worthington - Head Start Enrollment and Renewal Support
DESCRIPTION:Meet with Portico’s experienced MNsure Navigator for free health insurance enrollment and renewal assistance in partnership with MN Seeds of Justice and SMOC – Worthington\, MN! Register for this event by clicking the link below. Portico’s on-site services are funded in part by MNsure & the Blue Cross Blue Shield of Minnesota Foundation. \nREGISTER
URL:https://porticohealthnet.org/event/worthington-head-start-enrollment-and-renewal-support/2025-02-28/
LOCATION:Headstart\, 713 10th St.\, Worthington\, 56187\, United States
END:VEVENT
BEGIN:VEVENT
DTSTART;TZID=America/Chicago:20250303T080000
DTEND;TZID=America/Chicago:20250303T160000
DTSTAMP:20260420T232004
CREATED:20250115T182717Z
LAST-MODIFIED:20250415T173559Z
UID:10001453-1740988800-1741017600@porticohealthnet.org
SUMMARY:Worthington - Head Start Enrollment and Renewal Support
DESCRIPTION:Meet with Portico’s experienced MNsure Navigator for free health insurance enrollment and renewal assistance in partnership with MN Seeds of Justice and SMOC – Worthington\, MN! Register for this event by clicking the link below. Portico’s on-site services are funded in part by MNsure & the Blue Cross Blue Shield of Minnesota Foundation. \nREGISTER
URL:https://porticohealthnet.org/event/worthington-head-start-enrollment-and-renewal-support/2025-03-03/
LOCATION:Headstart\, 713 10th St.\, Worthington\, 56187\, United States
END:VEVENT
BEGIN:VEVENT
DTSTART;TZID=America/Chicago:20250303T100000
DTEND;TZID=America/Chicago:20250303T160000
DTSTAMP:20260420T232004
CREATED:20241113T191824Z
LAST-MODIFIED:20241114T145847Z
UID:10001141-1740996000-1741017600@porticohealthnet.org
SUMMARY:Ramsey County-Maplewood Service Center
DESCRIPTION:Ramsey County-Maplewood Service Center 3001 White Bear Avenue N.\, Suite 1034 Suite 1034 Maplewood\, Minnesota 55109. The closest parking lot to the Service Center entrance is between Macy’s and Barnes & Noble. \nPortico’s experienced MNsure Navigators offer in-person appointments at several community locations. Appointments can be scheduled online through the links below or by calling us at 651.489.CARE (2273). Please schedule an appointment to ensure navigator availability. \nSCHEDULE AN APPOINTMENT  \n  \n\n  \n  \nPortico’s on-site services are funded in part by Ramsey County\, Minnesota.
URL:https://porticohealthnet.org/event/ramsey-county-maplewood-service-center/2025-03-03/
LOCATION:Ramsey County-Maplewood Service Center\, 3001 White Bear Avenue N.\, Suite 1034 Suite 1034\, Maplewood\, MN\, 55109\, United States
END:VEVENT
BEGIN:VEVENT
DTSTART;TZID=America/Chicago:20250305T123000
DTEND;TZID=America/Chicago:20250305T163000
DTSTAMP:20260420T232004
CREATED:20240320T183938Z
LAST-MODIFIED:20241218T155235Z
UID:10000889-1741177800-1741192200@porticohealthnet.org
SUMMARY:Richfield Health Resource Center
DESCRIPTION:Portico’s experienced MNsure Navigators offer in-person appointments at several community locations. Appointments can be scheduled online through the links below or by calling us at 651.489.CARE (2273). Please schedule an appointment to ensure navigator availability. \n\nSchedule An Appointment \nPortico’s on-site services are made possible through a grant by the: \n\n  \n 
URL:https://porticohealthnet.org/event/richfield-health-resource-center/2025-03-05/
LOCATION:Richfield Health Resource Center at Richfield High School\, 7001 Harriet Avenue\, Door 13A\, Richfield\, MN\, 55423\, United States
CATEGORIES:Enrollment Events
END:VEVENT
END:VCALENDAR