BEGIN:VCALENDAR
VERSION:2.0
PRODID:-//Portico Healthnet - ECPv6.15.13//NONSGML v1.0//EN
CALSCALE:GREGORIAN
METHOD:PUBLISH
X-WR-CALNAME:Portico Healthnet
X-ORIGINAL-URL:https://porticohealthnet.org
X-WR-CALDESC:Events for Portico Healthnet
REFRESH-INTERVAL;VALUE=DURATION:PT1H
X-Robots-Tag:noindex
X-PUBLISHED-TTL:PT1H
BEGIN:VTIMEZONE
TZID:America/Chicago
BEGIN:DAYLIGHT
TZOFFSETFROM:-0600
TZOFFSETTO:-0500
TZNAME:CDT
DTSTART:20230312T080000
END:DAYLIGHT
BEGIN:STANDARD
TZOFFSETFROM:-0500
TZOFFSETTO:-0600
TZNAME:CST
DTSTART:20231105T070000
END:STANDARD
BEGIN:DAYLIGHT
TZOFFSETFROM:-0600
TZOFFSETTO:-0500
TZNAME:CDT
DTSTART:20240310T080000
END:DAYLIGHT
BEGIN:STANDARD
TZOFFSETFROM:-0500
TZOFFSETTO:-0600
TZNAME:CST
DTSTART:20241103T070000
END:STANDARD
BEGIN:DAYLIGHT
TZOFFSETFROM:-0600
TZOFFSETTO:-0500
TZNAME:CDT
DTSTART:20250309T080000
END:DAYLIGHT
BEGIN:STANDARD
TZOFFSETFROM:-0500
TZOFFSETTO:-0600
TZNAME:CST
DTSTART:20251102T070000
END:STANDARD
END:VTIMEZONE
BEGIN:VEVENT
DTSTART;TZID=America/Chicago:20241107T130000
DTEND;TZID=America/Chicago:20241107T170000
DTSTAMP:20260420T150831
CREATED:20240320T184509Z
LAST-MODIFIED:20240619T180824Z
UID:10000557-1730984400-1730998800@porticohealthnet.org
SUMMARY:Brooklyn Center Health Resource Center
DESCRIPTION:Portico’s experienced MNsure Navigators offer in-person appointments at several community locations. Appointments can be scheduled online through the links below or by calling us at 651.489.CARE (2273). Please schedule an appointment to ensure navigator availability. \n  \nSchedule An Appointment \n  \nPortico’s on-site services are made possible through grants by the: \n  
URL:https://porticohealthnet.org/event/brooklyn-center-health-resource-center/2024-11-07/
LOCATION:Brooklyn Center Health Resource Center at Brooklyn Center High School\, 6500 North Humboldt Avenue\, Brooklyn Center\, MN\, 55430\, United States
CATEGORIES:Enrollment Events
END:VEVENT
BEGIN:VEVENT
DTSTART;TZID=America/Chicago:20241112T093000
DTEND;TZID=America/Chicago:20241112T160000
DTSTAMP:20260420T150831
CREATED:20241014T155933Z
LAST-MODIFIED:20241014T155933Z
UID:10001126-1731403800-1731427200@porticohealthnet.org
SUMMARY:Keystone Community Food Center - Health Coverage Enrollment and Renewal Event
DESCRIPTION:Meet with Portico’s experienced MNsure Navigators for free health insurance enrollment and renewal assistance in partnership with the Keystone Community Food Center\, St. Paul! Register for this event by clicking the link below. \nRegister! 
URL:https://porticohealthnet.org/event/keystone-community-food-center-health-coverage-enrollment-and-renewal-event/
LOCATION:Keystone Community Food Center\, 1800 University Ave W\, St Paul\, 55104\, United States
END:VEVENT
BEGIN:VEVENT
DTSTART;TZID=America/Chicago:20241113T123000
DTEND;TZID=America/Chicago:20241113T163000
DTSTAMP:20260420T150831
CREATED:20240320T183938Z
LAST-MODIFIED:20241218T155235Z
UID:10000873-1731501000-1731515400@porticohealthnet.org
SUMMARY:Richfield Health Resource Center
DESCRIPTION:Portico’s experienced MNsure Navigators offer in-person appointments at several community locations. Appointments can be scheduled online through the links below or by calling us at 651.489.CARE (2273). Please schedule an appointment to ensure navigator availability. \n\nSchedule An Appointment \nPortico’s on-site services are made possible through a grant by the: \n\n  \n 
URL:https://porticohealthnet.org/event/richfield-health-resource-center/2024-11-13/
LOCATION:Richfield Health Resource Center at Richfield High School\, 7001 Harriet Avenue\, Door 13A\, Richfield\, MN\, 55423\, United States
CATEGORIES:Enrollment Events
END:VEVENT
BEGIN:VEVENT
DTSTART;TZID=America/Chicago:20241114T090000
DTEND;TZID=America/Chicago:20241114T140000
DTSTAMP:20260420T150831
CREATED:20240320T184251Z
LAST-MODIFIED:20250102T154254Z
UID:10000297-1731574800-1731592800@porticohealthnet.org
SUMMARY:Shakopee Family Resource Center
DESCRIPTION:Portico’s experienced MNsure Navigators offer in-person appointments at several community locations. Appointments can be scheduled online through the links below or by calling us at 651.489.CARE (2273). Please schedule an appointment to ensure navigator availability. (Important: Appointments will take place at 1615 Weston Court\, Shakopee\, starting on January 9th\, 2025).  \n  \nSchedule An Appointment
URL:https://porticohealthnet.org/event/scott-county-workforce-center/2024-11-14/
LOCATION:Shakopee Family Resource Center\, 1615 Weston Court\, Shakopee\, 55379\, United States
CATEGORIES:Enrollment Events
END:VEVENT
BEGIN:VEVENT
DTSTART;TZID=America/Chicago:20241114T130000
DTEND;TZID=America/Chicago:20241114T170000
DTSTAMP:20260420T150831
CREATED:20240320T184509Z
LAST-MODIFIED:20240619T180824Z
UID:10000558-1731589200-1731603600@porticohealthnet.org
SUMMARY:Brooklyn Center Health Resource Center
DESCRIPTION:Portico’s experienced MNsure Navigators offer in-person appointments at several community locations. Appointments can be scheduled online through the links below or by calling us at 651.489.CARE (2273). Please schedule an appointment to ensure navigator availability. \n  \nSchedule An Appointment \n  \nPortico’s on-site services are made possible through grants by the: \n  
URL:https://porticohealthnet.org/event/brooklyn-center-health-resource-center/2024-11-14/
LOCATION:Brooklyn Center Health Resource Center at Brooklyn Center High School\, 6500 North Humboldt Avenue\, Brooklyn Center\, MN\, 55430\, United States
CATEGORIES:Enrollment Events
END:VEVENT
BEGIN:VEVENT
DTSTART;TZID=America/Chicago:20241118T100000
DTEND;TZID=America/Chicago:20241118T160000
DTSTAMP:20260420T150831
CREATED:20241113T191824Z
LAST-MODIFIED:20241114T145847Z
UID:10001128-1731924000-1731945600@porticohealthnet.org
SUMMARY:Ramsey County-Maplewood Service Center
DESCRIPTION:Ramsey County-Maplewood Service Center 3001 White Bear Avenue N.\, Suite 1034 Suite 1034 Maplewood\, Minnesota 55109. The closest parking lot to the Service Center entrance is between Macy’s and Barnes & Noble. \nPortico’s experienced MNsure Navigators offer in-person appointments at several community locations. Appointments can be scheduled online through the links below or by calling us at 651.489.CARE (2273). Please schedule an appointment to ensure navigator availability. \nSCHEDULE AN APPOINTMENT  \n  \n\n  \n  \nPortico’s on-site services are funded in part by Ramsey County\, Minnesota.
URL:https://porticohealthnet.org/event/ramsey-county-maplewood-service-center/2024-11-18/
LOCATION:Ramsey County-Maplewood Service Center\, 3001 White Bear Avenue N.\, Suite 1034 Suite 1034\, Maplewood\, MN\, 55109\, United States
END:VEVENT
BEGIN:VEVENT
DTSTART;TZID=America/Chicago:20241118T130000
DTEND;TZID=America/Chicago:20241118T160000
DTSTAMP:20260420T150831
CREATED:20241014T204612Z
LAST-MODIFIED:20241014T204612Z
UID:10001127-1731934800-1731945600@porticohealthnet.org
SUMMARY:Urban Ventures - Health Coverage Enrollment and Renewal Event
DESCRIPTION:Meet with Portico’s experienced MNsure Navigators for free health insurance enrollment and renewal assistance in partnership with URBAN VENTURES! Register for this event by clicking the link below. \nREGISTER
URL:https://porticohealthnet.org/event/urban-ventures-health-coverage-enrollment-and-renewal-event-2/
LOCATION:Urban Ventures\, 3023 4th Ave S\, Minneapolis\, MN\, 55408\, United States
END:VEVENT
BEGIN:VEVENT
DTSTART;TZID=America/Chicago:20241120T090000
DTEND;TZID=America/Chicago:20241120T140000
DTSTAMP:20260420T150831
CREATED:20241014T155805Z
LAST-MODIFIED:20241014T155805Z
UID:10001125-1732093200-1732111200@porticohealthnet.org
SUMMARY:VEAP - Health Coverage Enrollment and Renewal Event
DESCRIPTION:Meet with Portico’s experienced MNsure Navigators for free health insurance enrollment and renewal assistance in partnership with VEAP – Bloomington! Register for this event by clicking the link below. \nREGISTER
URL:https://porticohealthnet.org/event/veap-health-coverage-enrollment-and-renewal-event-2/
LOCATION:VEAP\, 9600 Aldrich Ave S\, Bloomington\, MN\, 55420\, United States
END:VEVENT
BEGIN:VEVENT
DTSTART;TZID=America/Chicago:20241120T123000
DTEND;TZID=America/Chicago:20241120T163000
DTSTAMP:20260420T150831
CREATED:20240320T183938Z
LAST-MODIFIED:20241218T155235Z
UID:10000874-1732105800-1732120200@porticohealthnet.org
SUMMARY:Richfield Health Resource Center
DESCRIPTION:Portico’s experienced MNsure Navigators offer in-person appointments at several community locations. Appointments can be scheduled online through the links below or by calling us at 651.489.CARE (2273). Please schedule an appointment to ensure navigator availability. \n\nSchedule An Appointment \nPortico’s on-site services are made possible through a grant by the: \n\n  \n 
URL:https://porticohealthnet.org/event/richfield-health-resource-center/2024-11-20/
LOCATION:Richfield Health Resource Center at Richfield High School\, 7001 Harriet Avenue\, Door 13A\, Richfield\, MN\, 55423\, United States
CATEGORIES:Enrollment Events
END:VEVENT
BEGIN:VEVENT
DTSTART;TZID=America/Chicago:20241121T090000
DTEND;TZID=America/Chicago:20241121T140000
DTSTAMP:20260420T150831
CREATED:20240320T184251Z
LAST-MODIFIED:20250102T154254Z
UID:10000298-1732179600-1732197600@porticohealthnet.org
SUMMARY:Shakopee Family Resource Center
DESCRIPTION:Portico’s experienced MNsure Navigators offer in-person appointments at several community locations. Appointments can be scheduled online through the links below or by calling us at 651.489.CARE (2273). Please schedule an appointment to ensure navigator availability. (Important: Appointments will take place at 1615 Weston Court\, Shakopee\, starting on January 9th\, 2025).  \n  \nSchedule An Appointment
URL:https://porticohealthnet.org/event/scott-county-workforce-center/2024-11-21/
LOCATION:Shakopee Family Resource Center\, 1615 Weston Court\, Shakopee\, 55379\, United States
CATEGORIES:Enrollment Events
END:VEVENT
BEGIN:VEVENT
DTSTART;TZID=America/Chicago:20241121T130000
DTEND;TZID=America/Chicago:20241121T170000
DTSTAMP:20260420T150831
CREATED:20240320T184509Z
LAST-MODIFIED:20240619T180824Z
UID:10000559-1732194000-1732208400@porticohealthnet.org
SUMMARY:Brooklyn Center Health Resource Center
DESCRIPTION:Portico’s experienced MNsure Navigators offer in-person appointments at several community locations. Appointments can be scheduled online through the links below or by calling us at 651.489.CARE (2273). Please schedule an appointment to ensure navigator availability. \n  \nSchedule An Appointment \n  \nPortico’s on-site services are made possible through grants by the: \n  
URL:https://porticohealthnet.org/event/brooklyn-center-health-resource-center/2024-11-21/
LOCATION:Brooklyn Center Health Resource Center at Brooklyn Center High School\, 6500 North Humboldt Avenue\, Brooklyn Center\, MN\, 55430\, United States
CATEGORIES:Enrollment Events
END:VEVENT
BEGIN:VEVENT
DTSTART;TZID=America/Chicago:20241125T100000
DTEND;TZID=America/Chicago:20241125T160000
DTSTAMP:20260420T150831
CREATED:20241113T191824Z
LAST-MODIFIED:20241114T145847Z
UID:10001129-1732528800-1732550400@porticohealthnet.org
SUMMARY:Ramsey County-Maplewood Service Center
DESCRIPTION:Ramsey County-Maplewood Service Center 3001 White Bear Avenue N.\, Suite 1034 Suite 1034 Maplewood\, Minnesota 55109. The closest parking lot to the Service Center entrance is between Macy’s and Barnes & Noble. \nPortico’s experienced MNsure Navigators offer in-person appointments at several community locations. Appointments can be scheduled online through the links below or by calling us at 651.489.CARE (2273). Please schedule an appointment to ensure navigator availability. \nSCHEDULE AN APPOINTMENT  \n  \n\n  \n  \nPortico’s on-site services are funded in part by Ramsey County\, Minnesota.
URL:https://porticohealthnet.org/event/ramsey-county-maplewood-service-center/2024-11-25/
LOCATION:Ramsey County-Maplewood Service Center\, 3001 White Bear Avenue N.\, Suite 1034 Suite 1034\, Maplewood\, MN\, 55109\, United States
END:VEVENT
BEGIN:VEVENT
DTSTART;TZID=America/Chicago:20241127T123000
DTEND;TZID=America/Chicago:20241127T163000
DTSTAMP:20260420T150831
CREATED:20240320T183938Z
LAST-MODIFIED:20241218T155235Z
UID:10000875-1732710600-1732725000@porticohealthnet.org
SUMMARY:Richfield Health Resource Center
DESCRIPTION:Portico’s experienced MNsure Navigators offer in-person appointments at several community locations. Appointments can be scheduled online through the links below or by calling us at 651.489.CARE (2273). Please schedule an appointment to ensure navigator availability. \n\nSchedule An Appointment \nPortico’s on-site services are made possible through a grant by the: \n\n  \n 
URL:https://porticohealthnet.org/event/richfield-health-resource-center/2024-11-27/
LOCATION:Richfield Health Resource Center at Richfield High School\, 7001 Harriet Avenue\, Door 13A\, Richfield\, MN\, 55423\, United States
CATEGORIES:Enrollment Events
END:VEVENT
BEGIN:VEVENT
DTSTART;TZID=America/Chicago:20241128T090000
DTEND;TZID=America/Chicago:20241128T140000
DTSTAMP:20260420T150831
CREATED:20240320T184251Z
LAST-MODIFIED:20250102T154254Z
UID:10000299-1732784400-1732802400@porticohealthnet.org
SUMMARY:Shakopee Family Resource Center
DESCRIPTION:Portico’s experienced MNsure Navigators offer in-person appointments at several community locations. Appointments can be scheduled online through the links below or by calling us at 651.489.CARE (2273). Please schedule an appointment to ensure navigator availability. (Important: Appointments will take place at 1615 Weston Court\, Shakopee\, starting on January 9th\, 2025).  \n  \nSchedule An Appointment
URL:https://porticohealthnet.org/event/scott-county-workforce-center/2024-11-28/
LOCATION:Shakopee Family Resource Center\, 1615 Weston Court\, Shakopee\, 55379\, United States
CATEGORIES:Enrollment Events
END:VEVENT
BEGIN:VEVENT
DTSTART;TZID=America/Chicago:20241128T130000
DTEND;TZID=America/Chicago:20241128T170000
DTSTAMP:20260420T150831
CREATED:20240320T184509Z
LAST-MODIFIED:20240619T180824Z
UID:10000560-1732798800-1732813200@porticohealthnet.org
SUMMARY:Brooklyn Center Health Resource Center
DESCRIPTION:Portico’s experienced MNsure Navigators offer in-person appointments at several community locations. Appointments can be scheduled online through the links below or by calling us at 651.489.CARE (2273). Please schedule an appointment to ensure navigator availability. \n  \nSchedule An Appointment \n  \nPortico’s on-site services are made possible through grants by the: \n  
URL:https://porticohealthnet.org/event/brooklyn-center-health-resource-center/2024-11-28/
LOCATION:Brooklyn Center Health Resource Center at Brooklyn Center High School\, 6500 North Humboldt Avenue\, Brooklyn Center\, MN\, 55430\, United States
CATEGORIES:Enrollment Events
END:VEVENT
BEGIN:VEVENT
DTSTART;TZID=America/Chicago:20241202T100000
DTEND;TZID=America/Chicago:20241202T160000
DTSTAMP:20260420T150831
CREATED:20241113T191824Z
LAST-MODIFIED:20241114T145847Z
UID:10001130-1733133600-1733155200@porticohealthnet.org
SUMMARY:Ramsey County-Maplewood Service Center
DESCRIPTION:Ramsey County-Maplewood Service Center 3001 White Bear Avenue N.\, Suite 1034 Suite 1034 Maplewood\, Minnesota 55109. The closest parking lot to the Service Center entrance is between Macy’s and Barnes & Noble. \nPortico’s experienced MNsure Navigators offer in-person appointments at several community locations. Appointments can be scheduled online through the links below or by calling us at 651.489.CARE (2273). Please schedule an appointment to ensure navigator availability. \nSCHEDULE AN APPOINTMENT  \n  \n\n  \n  \nPortico’s on-site services are funded in part by Ramsey County\, Minnesota.
URL:https://porticohealthnet.org/event/ramsey-county-maplewood-service-center/2024-12-02/
LOCATION:Ramsey County-Maplewood Service Center\, 3001 White Bear Avenue N.\, Suite 1034 Suite 1034\, Maplewood\, MN\, 55109\, United States
END:VEVENT
BEGIN:VEVENT
DTSTART;TZID=America/Chicago:20241204T123000
DTEND;TZID=America/Chicago:20241204T163000
DTSTAMP:20260420T150831
CREATED:20240320T183938Z
LAST-MODIFIED:20241218T155235Z
UID:10000876-1733315400-1733329800@porticohealthnet.org
SUMMARY:Richfield Health Resource Center
DESCRIPTION:Portico’s experienced MNsure Navigators offer in-person appointments at several community locations. Appointments can be scheduled online through the links below or by calling us at 651.489.CARE (2273). Please schedule an appointment to ensure navigator availability. \n\nSchedule An Appointment \nPortico’s on-site services are made possible through a grant by the: \n\n  \n 
URL:https://porticohealthnet.org/event/richfield-health-resource-center/2024-12-04/
LOCATION:Richfield Health Resource Center at Richfield High School\, 7001 Harriet Avenue\, Door 13A\, Richfield\, MN\, 55423\, United States
CATEGORIES:Enrollment Events
END:VEVENT
BEGIN:VEVENT
DTSTART;TZID=America/Chicago:20241205T090000
DTEND;TZID=America/Chicago:20241205T140000
DTSTAMP:20260420T150831
CREATED:20240320T184251Z
LAST-MODIFIED:20250102T154254Z
UID:10000300-1733389200-1733407200@porticohealthnet.org
SUMMARY:Shakopee Family Resource Center
DESCRIPTION:Portico’s experienced MNsure Navigators offer in-person appointments at several community locations. Appointments can be scheduled online through the links below or by calling us at 651.489.CARE (2273). Please schedule an appointment to ensure navigator availability. (Important: Appointments will take place at 1615 Weston Court\, Shakopee\, starting on January 9th\, 2025).  \n  \nSchedule An Appointment
URL:https://porticohealthnet.org/event/scott-county-workforce-center/2024-12-05/
LOCATION:Shakopee Family Resource Center\, 1615 Weston Court\, Shakopee\, 55379\, United States
CATEGORIES:Enrollment Events
END:VEVENT
BEGIN:VEVENT
DTSTART;TZID=America/Chicago:20241205T130000
DTEND;TZID=America/Chicago:20241205T170000
DTSTAMP:20260420T150831
CREATED:20240320T184509Z
LAST-MODIFIED:20240619T180824Z
UID:10000561-1733403600-1733418000@porticohealthnet.org
SUMMARY:Brooklyn Center Health Resource Center
DESCRIPTION:Portico’s experienced MNsure Navigators offer in-person appointments at several community locations. Appointments can be scheduled online through the links below or by calling us at 651.489.CARE (2273). Please schedule an appointment to ensure navigator availability. \n  \nSchedule An Appointment \n  \nPortico’s on-site services are made possible through grants by the: \n  
URL:https://porticohealthnet.org/event/brooklyn-center-health-resource-center/2024-12-05/
LOCATION:Brooklyn Center Health Resource Center at Brooklyn Center High School\, 6500 North Humboldt Avenue\, Brooklyn Center\, MN\, 55430\, United States
CATEGORIES:Enrollment Events
END:VEVENT
BEGIN:VEVENT
DTSTART;TZID=America/Chicago:20241206T080000
DTEND;TZID=America/Chicago:20241206T153000
DTSTAMP:20260420T150831
CREATED:20241121T181901Z
LAST-MODIFIED:20250114T220853Z
UID:10001388-1733472000-1733499000@porticohealthnet.org
SUMMARY:Head Start\, Worthington\, MN - Health Coverage Enrollment and Renewal Event
DESCRIPTION:Meet with Portico’s experienced MNsure Navigators for free health insurance enrollment and renewal assistance in partnership with MN Seeds of Justice and SMOC – Worthington\, MN! Register for this event by clicking the link below. \nREGISTER \nPortico’s on-site services are funded in part by MNsure & the Blue Cross Blue Shield of Minnesota Foundation.
URL:https://porticohealthnet.org/event/head-start-worthington-mn-health-coverage-enrollment-and-renewal-event/
LOCATION:Headstart\, 713 10th St.\, Worthington\, 56187\, United States
END:VEVENT
BEGIN:VEVENT
DTSTART;TZID=America/Chicago:20241209T100000
DTEND;TZID=America/Chicago:20241209T160000
DTSTAMP:20260420T150831
CREATED:20241113T191824Z
LAST-MODIFIED:20241114T145847Z
UID:10001131-1733738400-1733760000@porticohealthnet.org
SUMMARY:Ramsey County-Maplewood Service Center
DESCRIPTION:Ramsey County-Maplewood Service Center 3001 White Bear Avenue N.\, Suite 1034 Suite 1034 Maplewood\, Minnesota 55109. The closest parking lot to the Service Center entrance is between Macy’s and Barnes & Noble. \nPortico’s experienced MNsure Navigators offer in-person appointments at several community locations. Appointments can be scheduled online through the links below or by calling us at 651.489.CARE (2273). Please schedule an appointment to ensure navigator availability. \nSCHEDULE AN APPOINTMENT  \n  \n\n  \n  \nPortico’s on-site services are funded in part by Ramsey County\, Minnesota.
URL:https://porticohealthnet.org/event/ramsey-county-maplewood-service-center/2024-12-09/
LOCATION:Ramsey County-Maplewood Service Center\, 3001 White Bear Avenue N.\, Suite 1034 Suite 1034\, Maplewood\, MN\, 55109\, United States
END:VEVENT
BEGIN:VEVENT
DTSTART;TZID=America/Chicago:20241210T093000
DTEND;TZID=America/Chicago:20241210T160000
DTSTAMP:20260420T150831
CREATED:20241120T160456Z
LAST-MODIFIED:20241120T160456Z
UID:10001385-1733823000-1733846400@porticohealthnet.org
SUMMARY:Keystone Community Food Center - Health Coverage Enrollment and Renewal Event
DESCRIPTION:Meet with Portico’s experienced MNsure Navigators for free health insurance enrollment and renewal assistance in partnership with the Keystone Community Food Center\, St. Paul! Register for this event by clicking the link below. \nRegister! 
URL:https://porticohealthnet.org/event/keystone-community-food-center-health-coverage-enrollment-and-renewal-event-2/
LOCATION:Keystone Community Food Center\, 1800 University Ave W\, St Paul\, 55104\, United States
END:VEVENT
BEGIN:VEVENT
DTSTART;TZID=America/Chicago:20241211T123000
DTEND;TZID=America/Chicago:20241211T163000
DTSTAMP:20260420T150831
CREATED:20240320T183938Z
LAST-MODIFIED:20241218T155235Z
UID:10000877-1733920200-1733934600@porticohealthnet.org
SUMMARY:Richfield Health Resource Center
DESCRIPTION:Portico’s experienced MNsure Navigators offer in-person appointments at several community locations. Appointments can be scheduled online through the links below or by calling us at 651.489.CARE (2273). Please schedule an appointment to ensure navigator availability. \n\nSchedule An Appointment \nPortico’s on-site services are made possible through a grant by the: \n\n  \n 
URL:https://porticohealthnet.org/event/richfield-health-resource-center/2024-12-11/
LOCATION:Richfield Health Resource Center at Richfield High School\, 7001 Harriet Avenue\, Door 13A\, Richfield\, MN\, 55423\, United States
CATEGORIES:Enrollment Events
END:VEVENT
BEGIN:VEVENT
DTSTART;TZID=America/Chicago:20241212T090000
DTEND;TZID=America/Chicago:20241212T140000
DTSTAMP:20260420T150831
CREATED:20241120T161654Z
LAST-MODIFIED:20241126T143848Z
UID:10001387-1733994000-1734012000@porticohealthnet.org
SUMMARY:VEAP - Health Coverage Enrollment and Renewal Event
DESCRIPTION:Meet with Portico’s experienced MNsure Navigators for free health insurance enrollment and renewal assistance in partnership with VEAP – Bloomington! Register for this event by clicking the link below. \nREGISTER
URL:https://porticohealthnet.org/event/veap-health-coverage-enrollment-and-renewal-event-3/
LOCATION:VEAP\, 9600 Aldrich Ave S\, Bloomington\, MN\, 55420\, United States
END:VEVENT
BEGIN:VEVENT
DTSTART;TZID=America/Chicago:20241212T090000
DTEND;TZID=America/Chicago:20241212T140000
DTSTAMP:20260420T150831
CREATED:20240320T184251Z
LAST-MODIFIED:20250102T154254Z
UID:10000301-1733994000-1734012000@porticohealthnet.org
SUMMARY:Shakopee Family Resource Center
DESCRIPTION:Portico’s experienced MNsure Navigators offer in-person appointments at several community locations. Appointments can be scheduled online through the links below or by calling us at 651.489.CARE (2273). Please schedule an appointment to ensure navigator availability. (Important: Appointments will take place at 1615 Weston Court\, Shakopee\, starting on January 9th\, 2025).  \n  \nSchedule An Appointment
URL:https://porticohealthnet.org/event/scott-county-workforce-center/2024-12-12/
LOCATION:Shakopee Family Resource Center\, 1615 Weston Court\, Shakopee\, 55379\, United States
CATEGORIES:Enrollment Events
END:VEVENT
BEGIN:VEVENT
DTSTART;TZID=America/Chicago:20241212T130000
DTEND;TZID=America/Chicago:20241212T170000
DTSTAMP:20260420T150831
CREATED:20240320T184509Z
LAST-MODIFIED:20240619T180824Z
UID:10000562-1734008400-1734022800@porticohealthnet.org
SUMMARY:Brooklyn Center Health Resource Center
DESCRIPTION:Portico’s experienced MNsure Navigators offer in-person appointments at several community locations. Appointments can be scheduled online through the links below or by calling us at 651.489.CARE (2273). Please schedule an appointment to ensure navigator availability. \n  \nSchedule An Appointment \n  \nPortico’s on-site services are made possible through grants by the: \n  
URL:https://porticohealthnet.org/event/brooklyn-center-health-resource-center/2024-12-12/
LOCATION:Brooklyn Center Health Resource Center at Brooklyn Center High School\, 6500 North Humboldt Avenue\, Brooklyn Center\, MN\, 55430\, United States
CATEGORIES:Enrollment Events
END:VEVENT
BEGIN:VEVENT
DTSTART;TZID=America/Chicago:20241216T100000
DTEND;TZID=America/Chicago:20241216T160000
DTSTAMP:20260420T150831
CREATED:20241120T160704Z
LAST-MODIFIED:20241202T145859Z
UID:10001386-1734343200-1734364800@porticohealthnet.org
SUMMARY:Urban Ventures - Health Coverage Enrollment and Renewal Event
DESCRIPTION:Meet with Portico’s experienced MNsure Navigators for free health insurance enrollment and renewal assistance in partnership with URBAN VENTURES! Register for this event by clicking the link below. \nREGISTER
URL:https://porticohealthnet.org/event/urban-ventures-health-coverage-enrollment-and-renewal-event-3/
LOCATION:Urban Ventures\, 3023 4th Ave S\, Minneapolis\, MN\, 55408\, United States
END:VEVENT
BEGIN:VEVENT
DTSTART;TZID=America/Chicago:20241216T100000
DTEND;TZID=America/Chicago:20241216T160000
DTSTAMP:20260420T150831
CREATED:20241113T191824Z
LAST-MODIFIED:20241114T145847Z
UID:10001132-1734343200-1734364800@porticohealthnet.org
SUMMARY:Ramsey County-Maplewood Service Center
DESCRIPTION:Ramsey County-Maplewood Service Center 3001 White Bear Avenue N.\, Suite 1034 Suite 1034 Maplewood\, Minnesota 55109. The closest parking lot to the Service Center entrance is between Macy’s and Barnes & Noble. \nPortico’s experienced MNsure Navigators offer in-person appointments at several community locations. Appointments can be scheduled online through the links below or by calling us at 651.489.CARE (2273). Please schedule an appointment to ensure navigator availability. \nSCHEDULE AN APPOINTMENT  \n  \n\n  \n  \nPortico’s on-site services are funded in part by Ramsey County\, Minnesota.
URL:https://porticohealthnet.org/event/ramsey-county-maplewood-service-center/2024-12-16/
LOCATION:Ramsey County-Maplewood Service Center\, 3001 White Bear Avenue N.\, Suite 1034 Suite 1034\, Maplewood\, MN\, 55109\, United States
END:VEVENT
BEGIN:VEVENT
DTSTART;TZID=America/Chicago:20241218T090000
DTEND;TZID=America/Chicago:20241218T160000
DTSTAMP:20260420T150831
CREATED:20240729T170459Z
LAST-MODIFIED:20241216T150045Z
UID:10000838-1734512400-1734537600@porticohealthnet.org
SUMMARY:CEAP -  Health Coverage Enrollment & Renewal Event
DESCRIPTION:Meet with Portico’s experienced MNsure Navigators for a free health insurance enrollment and renewal assistance in partnership with CEAP – Brooklyn Center! Register for this event by clicking the link below. \nREGISTER
URL:https://porticohealthnet.org/event/ceap-back-to-school-coverage-enrollment-renewal-event/
LOCATION:CEAP\, 7051 Brooklyn Blvd\, Brooklyn Center\, 55429\, United States
END:VEVENT
BEGIN:VEVENT
DTSTART;TZID=America/Chicago:20241218T123000
DTEND;TZID=America/Chicago:20241218T163000
DTSTAMP:20260420T150831
CREATED:20240320T183938Z
LAST-MODIFIED:20241218T155235Z
UID:10000878-1734525000-1734539400@porticohealthnet.org
SUMMARY:Richfield Health Resource Center
DESCRIPTION:Portico’s experienced MNsure Navigators offer in-person appointments at several community locations. Appointments can be scheduled online through the links below or by calling us at 651.489.CARE (2273). Please schedule an appointment to ensure navigator availability. \n\nSchedule An Appointment \nPortico’s on-site services are made possible through a grant by the: \n\n  \n 
URL:https://porticohealthnet.org/event/richfield-health-resource-center/2024-12-18/
LOCATION:Richfield Health Resource Center at Richfield High School\, 7001 Harriet Avenue\, Door 13A\, Richfield\, MN\, 55423\, United States
CATEGORIES:Enrollment Events
END:VEVENT
END:VCALENDAR