BEGIN:VCALENDAR
VERSION:2.0
PRODID:-//Portico Healthnet - ECPv6.15.13//NONSGML v1.0//EN
CALSCALE:GREGORIAN
METHOD:PUBLISH
X-WR-CALNAME:Portico Healthnet
X-ORIGINAL-URL:https://porticohealthnet.org
X-WR-CALDESC:Events for Portico Healthnet
REFRESH-INTERVAL;VALUE=DURATION:PT1H
X-Robots-Tag:noindex
X-PUBLISHED-TTL:PT1H
BEGIN:VTIMEZONE
TZID:America/Chicago
BEGIN:DAYLIGHT
TZOFFSETFROM:-0600
TZOFFSETTO:-0500
TZNAME:CDT
DTSTART:20230312T080000
END:DAYLIGHT
BEGIN:STANDARD
TZOFFSETFROM:-0500
TZOFFSETTO:-0600
TZNAME:CST
DTSTART:20231105T070000
END:STANDARD
BEGIN:DAYLIGHT
TZOFFSETFROM:-0600
TZOFFSETTO:-0500
TZNAME:CDT
DTSTART:20240310T080000
END:DAYLIGHT
BEGIN:STANDARD
TZOFFSETFROM:-0500
TZOFFSETTO:-0600
TZNAME:CST
DTSTART:20241103T070000
END:STANDARD
BEGIN:DAYLIGHT
TZOFFSETFROM:-0600
TZOFFSETTO:-0500
TZNAME:CDT
DTSTART:20250309T080000
END:DAYLIGHT
BEGIN:STANDARD
TZOFFSETFROM:-0500
TZOFFSETTO:-0600
TZNAME:CST
DTSTART:20251102T070000
END:STANDARD
END:VTIMEZONE
BEGIN:VEVENT
DTSTART;TZID=America/Chicago:20240410T123000
DTEND;TZID=America/Chicago:20240410T163000
DTSTAMP:20260421T213449
CREATED:20240320T183938Z
LAST-MODIFIED:20241218T155235Z
UID:10000843-1712752200-1712766600@porticohealthnet.org
SUMMARY:Richfield Health Resource Center
DESCRIPTION:Portico’s experienced MNsure Navigators offer in-person appointments at several community locations. Appointments can be scheduled online through the links below or by calling us at 651.489.CARE (2273). Please schedule an appointment to ensure navigator availability. \n\nSchedule An Appointment \nPortico’s on-site services are made possible through a grant by the: \n\n  \n 
URL:https://porticohealthnet.org/event/richfield-health-resource-center/2024-04-10/
LOCATION:Richfield Health Resource Center at Richfield High School\, 7001 Harriet Avenue\, Door 13A\, Richfield\, MN\, 55423\, United States
CATEGORIES:Enrollment Events
END:VEVENT
BEGIN:VEVENT
DTSTART;TZID=America/Chicago:20240404T130000
DTEND;TZID=America/Chicago:20240404T170000
DTSTAMP:20260421T213449
CREATED:20240320T184509Z
LAST-MODIFIED:20240619T180824Z
UID:10000526-1712235600-1712250000@porticohealthnet.org
SUMMARY:Brooklyn Center Health Resource Center
DESCRIPTION:Portico’s experienced MNsure Navigators offer in-person appointments at several community locations. Appointments can be scheduled online through the links below or by calling us at 651.489.CARE (2273). Please schedule an appointment to ensure navigator availability. \n  \nSchedule An Appointment \n  \nPortico’s on-site services are made possible through grants by the: \n  
URL:https://porticohealthnet.org/event/brooklyn-center-health-resource-center/2024-04-04/
LOCATION:Brooklyn Center Health Resource Center at Brooklyn Center High School\, 6500 North Humboldt Avenue\, Brooklyn Center\, MN\, 55430\, United States
CATEGORIES:Enrollment Events
END:VEVENT
BEGIN:VEVENT
DTSTART;TZID=America/Chicago:20240404T090000
DTEND;TZID=America/Chicago:20240404T140000
DTSTAMP:20260421T213449
CREATED:20240320T184251Z
LAST-MODIFIED:20250102T154254Z
UID:10000265-1712221200-1712239200@porticohealthnet.org
SUMMARY:Shakopee Family Resource Center
DESCRIPTION:Portico’s experienced MNsure Navigators offer in-person appointments at several community locations. Appointments can be scheduled online through the links below or by calling us at 651.489.CARE (2273). Please schedule an appointment to ensure navigator availability. (Important: Appointments will take place at 1615 Weston Court\, Shakopee\, starting on January 9th\, 2025).  \n  \nSchedule An Appointment
URL:https://porticohealthnet.org/event/scott-county-workforce-center/2024-04-04/
LOCATION:Shakopee Family Resource Center\, 1615 Weston Court\, Shakopee\, 55379\, United States
CATEGORIES:Enrollment Events
END:VEVENT
BEGIN:VEVENT
DTSTART;TZID=America/Chicago:20240403T123000
DTEND;TZID=America/Chicago:20240403T163000
DTSTAMP:20260421T213449
CREATED:20240320T183938Z
LAST-MODIFIED:20241218T155235Z
UID:10000842-1712147400-1712161800@porticohealthnet.org
SUMMARY:Richfield Health Resource Center
DESCRIPTION:Portico’s experienced MNsure Navigators offer in-person appointments at several community locations. Appointments can be scheduled online through the links below or by calling us at 651.489.CARE (2273). Please schedule an appointment to ensure navigator availability. \n\nSchedule An Appointment \nPortico’s on-site services are made possible through a grant by the: \n\n  \n 
URL:https://porticohealthnet.org/event/richfield-health-resource-center/2024-04-03/
LOCATION:Richfield Health Resource Center at Richfield High School\, 7001 Harriet Avenue\, Door 13A\, Richfield\, MN\, 55423\, United States
CATEGORIES:Enrollment Events
END:VEVENT
BEGIN:VEVENT
DTSTART;TZID=America/Chicago:20240328T130000
DTEND;TZID=America/Chicago:20240328T170000
DTSTAMP:20260421T213449
CREATED:20240320T184509Z
LAST-MODIFIED:20240619T180824Z
UID:10000525-1711630800-1711645200@porticohealthnet.org
SUMMARY:Brooklyn Center Health Resource Center
DESCRIPTION:Portico’s experienced MNsure Navigators offer in-person appointments at several community locations. Appointments can be scheduled online through the links below or by calling us at 651.489.CARE (2273). Please schedule an appointment to ensure navigator availability. \n  \nSchedule An Appointment \n  \nPortico’s on-site services are made possible through grants by the: \n  
URL:https://porticohealthnet.org/event/brooklyn-center-health-resource-center/2024-03-28/
LOCATION:Brooklyn Center Health Resource Center at Brooklyn Center High School\, 6500 North Humboldt Avenue\, Brooklyn Center\, MN\, 55430\, United States
CATEGORIES:Enrollment Events
END:VEVENT
BEGIN:VEVENT
DTSTART;TZID=America/Chicago:20240328T090000
DTEND;TZID=America/Chicago:20240328T140000
DTSTAMP:20260421T213449
CREATED:20240320T184251Z
LAST-MODIFIED:20250102T154254Z
UID:10000264-1711616400-1711634400@porticohealthnet.org
SUMMARY:Shakopee Family Resource Center
DESCRIPTION:Portico’s experienced MNsure Navigators offer in-person appointments at several community locations. Appointments can be scheduled online through the links below or by calling us at 651.489.CARE (2273). Please schedule an appointment to ensure navigator availability. (Important: Appointments will take place at 1615 Weston Court\, Shakopee\, starting on January 9th\, 2025).  \n  \nSchedule An Appointment
URL:https://porticohealthnet.org/event/scott-county-workforce-center/2024-03-28/
LOCATION:Shakopee Family Resource Center\, 1615 Weston Court\, Shakopee\, 55379\, United States
CATEGORIES:Enrollment Events
END:VEVENT
BEGIN:VEVENT
DTSTART;TZID=America/Chicago:20240327T123000
DTEND;TZID=America/Chicago:20240327T163000
DTSTAMP:20260421T213449
CREATED:20240320T183938Z
LAST-MODIFIED:20241218T155235Z
UID:10000841-1711542600-1711557000@porticohealthnet.org
SUMMARY:Richfield Health Resource Center
DESCRIPTION:Portico’s experienced MNsure Navigators offer in-person appointments at several community locations. Appointments can be scheduled online through the links below or by calling us at 651.489.CARE (2273). Please schedule an appointment to ensure navigator availability. \n\nSchedule An Appointment \nPortico’s on-site services are made possible through a grant by the: \n\n  \n 
URL:https://porticohealthnet.org/event/richfield-health-resource-center/2024-03-27/
LOCATION:Richfield Health Resource Center at Richfield High School\, 7001 Harriet Avenue\, Door 13A\, Richfield\, MN\, 55423\, United States
CATEGORIES:Enrollment Events
END:VEVENT
BEGIN:VEVENT
DTSTART;TZID=America/Chicago:20240321T130000
DTEND;TZID=America/Chicago:20240321T170000
DTSTAMP:20260421T213449
CREATED:20240320T184509Z
LAST-MODIFIED:20240619T180824Z
UID:10000524-1711026000-1711040400@porticohealthnet.org
SUMMARY:Brooklyn Center Health Resource Center
DESCRIPTION:Portico’s experienced MNsure Navigators offer in-person appointments at several community locations. Appointments can be scheduled online through the links below or by calling us at 651.489.CARE (2273). Please schedule an appointment to ensure navigator availability. \n  \nSchedule An Appointment \n  \nPortico’s on-site services are made possible through grants by the: \n  
URL:https://porticohealthnet.org/event/brooklyn-center-health-resource-center/2024-03-21/
LOCATION:Brooklyn Center Health Resource Center at Brooklyn Center High School\, 6500 North Humboldt Avenue\, Brooklyn Center\, MN\, 55430\, United States
CATEGORIES:Enrollment Events
END:VEVENT
BEGIN:VEVENT
DTSTART;TZID=America/Chicago:20240321T090000
DTEND;TZID=America/Chicago:20240321T140000
DTSTAMP:20260421T213449
CREATED:20240320T184251Z
LAST-MODIFIED:20250102T154254Z
UID:10000263-1711011600-1711029600@porticohealthnet.org
SUMMARY:Shakopee Family Resource Center
DESCRIPTION:Portico’s experienced MNsure Navigators offer in-person appointments at several community locations. Appointments can be scheduled online through the links below or by calling us at 651.489.CARE (2273). Please schedule an appointment to ensure navigator availability. (Important: Appointments will take place at 1615 Weston Court\, Shakopee\, starting on January 9th\, 2025).  \n  \nSchedule An Appointment
URL:https://porticohealthnet.org/event/scott-county-workforce-center/2024-03-21/
LOCATION:Shakopee Family Resource Center\, 1615 Weston Court\, Shakopee\, 55379\, United States
CATEGORIES:Enrollment Events
END:VEVENT
BEGIN:VEVENT
DTSTART;TZID=America/Chicago:20240320T123000
DTEND;TZID=America/Chicago:20240320T163000
DTSTAMP:20260421T213449
CREATED:20240320T183938Z
LAST-MODIFIED:20241218T155235Z
UID:10000840-1710937800-1710952200@porticohealthnet.org
SUMMARY:Richfield Health Resource Center
DESCRIPTION:Portico’s experienced MNsure Navigators offer in-person appointments at several community locations. Appointments can be scheduled online through the links below or by calling us at 651.489.CARE (2273). Please schedule an appointment to ensure navigator availability. \n\nSchedule An Appointment \nPortico’s on-site services are made possible through a grant by the: \n\n  \n 
URL:https://porticohealthnet.org/event/richfield-health-resource-center/2024-03-20/
LOCATION:Richfield Health Resource Center at Richfield High School\, 7001 Harriet Avenue\, Door 13A\, Richfield\, MN\, 55423\, United States
CATEGORIES:Enrollment Events
END:VEVENT
END:VCALENDAR