BEGIN:VCALENDAR
VERSION:2.0
PRODID:-//Portico Healthnet - ECPv6.15.13//NONSGML v1.0//EN
CALSCALE:GREGORIAN
METHOD:PUBLISH
X-ORIGINAL-URL:https://porticohealthnet.org
X-WR-CALDESC:Events for Portico Healthnet
REFRESH-INTERVAL;VALUE=DURATION:PT1H
X-Robots-Tag:noindex
X-PUBLISHED-TTL:PT1H
BEGIN:VTIMEZONE
TZID:America/Chicago
BEGIN:DAYLIGHT
TZOFFSETFROM:-0600
TZOFFSETTO:-0500
TZNAME:CDT
DTSTART:20240310T080000
END:DAYLIGHT
BEGIN:STANDARD
TZOFFSETFROM:-0500
TZOFFSETTO:-0600
TZNAME:CST
DTSTART:20241103T070000
END:STANDARD
BEGIN:DAYLIGHT
TZOFFSETFROM:-0600
TZOFFSETTO:-0500
TZNAME:CDT
DTSTART:20250309T080000
END:DAYLIGHT
BEGIN:STANDARD
TZOFFSETFROM:-0500
TZOFFSETTO:-0600
TZNAME:CST
DTSTART:20251102T070000
END:STANDARD
BEGIN:DAYLIGHT
TZOFFSETFROM:-0600
TZOFFSETTO:-0500
TZNAME:CDT
DTSTART:20260308T080000
END:DAYLIGHT
BEGIN:STANDARD
TZOFFSETFROM:-0500
TZOFFSETTO:-0600
TZNAME:CST
DTSTART:20261101T070000
END:STANDARD
END:VTIMEZONE
BEGIN:VEVENT
DTSTART;TZID=America/Chicago:20250925T123000
DTEND;TZID=America/Chicago:20250925T163000
DTSTAMP:20260420T142238
CREATED:20250311T163554Z
LAST-MODIFIED:20250311T163554Z
UID:10001994-1758803400-1758817800@porticohealthnet.org
SUMMARY:Richfield Health Resource Center
DESCRIPTION:Portico’s experienced MNsure Navigators offer in-person appointments at several community locations. Appointments can be scheduled online through the links below or by calling us at 651.489.CARE (2273). Please schedule an appointment to ensure navigator availability. \n\nSchedule An Appointment \nPortico’s on-site services are made possible through a grant by the: \n\n  \n 
URL:https://porticohealthnet.org/event/richfield-health-resource-center-2/2025-09-25/
LOCATION:Richfield Health Resource Center at Richfield High School\, 7001 Harriet Avenue\, Door 13A\, Richfield\, MN\, 55423\, United States
CATEGORIES:Enrollment Events
END:VEVENT
BEGIN:VEVENT
DTSTART;TZID=America/Chicago:20250925T090000
DTEND;TZID=America/Chicago:20250925T140000
DTSTAMP:20260420T142238
CREATED:20240320T184251Z
LAST-MODIFIED:20250102T154254Z
UID:10000342-1758790800-1758808800@porticohealthnet.org
SUMMARY:Shakopee Family Resource Center
DESCRIPTION:Portico’s experienced MNsure Navigators offer in-person appointments at several community locations. Appointments can be scheduled online through the links below or by calling us at 651.489.CARE (2273). Please schedule an appointment to ensure navigator availability. (Important: Appointments will take place at 1615 Weston Court\, Shakopee\, starting on January 9th\, 2025).  \n  \nSchedule An Appointment
URL:https://porticohealthnet.org/event/scott-county-workforce-center/2025-09-25/
LOCATION:Shakopee Family Resource Center\, 1615 Weston Court\, Shakopee\, 55379\, United States
CATEGORIES:Enrollment Events
END:VEVENT
BEGIN:VEVENT
DTSTART;TZID=America/Chicago:20250923T080000
DTEND;TZID=America/Chicago:20250923T160000
DTSTAMP:20260420T142238
CREATED:20250827T141006Z
LAST-MODIFIED:20251103T210706Z
UID:10002279-1758614400-1758643200@porticohealthnet.org
SUMMARY:Ramsey County - Metro Square Service Center
DESCRIPTION:Ramsey County – Metro Square Service Center 121 Seventh Place E. Saint Paul\, Minnesota 55101. Free parking is available across the street at the Block 19 parking ramp (145 E. 7th St.) – a voucher for two hours of free parking will be provided for visitors to the Service Center. Walk-ins are welcome.  \nPortico’s experienced MNsure Navigators offer in-person appointments at several community locations. Appointments can be scheduled below or by calling us at 651.489.CARE (2273) \nREGISTER \n\n\n  \n  \nPortico’s on-site services are funded in part by Ramsey County\, Minnesota.
URL:https://porticohealthnet.org/event/ramsey-county-metro-square-service-center/2025-09-23/
LOCATION:Ramsey County – Metro Square Service Center\, 121 7th Place East skyway level - Suite 2500\, St. Paul\, 55101\, United States
CATEGORIES:Enrollment Events
END:VEVENT
BEGIN:VEVENT
DTSTART;TZID=America/Chicago:20250918T130000
DTEND;TZID=America/Chicago:20250918T170000
DTSTAMP:20260420T142238
CREATED:20240320T184509Z
LAST-MODIFIED:20240619T180824Z
UID:10000602-1758200400-1758214800@porticohealthnet.org
SUMMARY:Brooklyn Center Health Resource Center
DESCRIPTION:Portico’s experienced MNsure Navigators offer in-person appointments at several community locations. Appointments can be scheduled online through the links below or by calling us at 651.489.CARE (2273). Please schedule an appointment to ensure navigator availability. \n  \nSchedule An Appointment \n  \nPortico’s on-site services are made possible through grants by the: \n  
URL:https://porticohealthnet.org/event/brooklyn-center-health-resource-center/2025-09-18/
LOCATION:Brooklyn Center Health Resource Center at Brooklyn Center High School\, 6500 North Humboldt Avenue\, Brooklyn Center\, MN\, 55430\, United States
CATEGORIES:Enrollment Events
END:VEVENT
BEGIN:VEVENT
DTSTART;TZID=America/Chicago:20250918T123000
DTEND;TZID=America/Chicago:20250918T163000
DTSTAMP:20260420T142238
CREATED:20250311T163554Z
LAST-MODIFIED:20250311T163554Z
UID:10001993-1758198600-1758213000@porticohealthnet.org
SUMMARY:Richfield Health Resource Center
DESCRIPTION:Portico’s experienced MNsure Navigators offer in-person appointments at several community locations. Appointments can be scheduled online through the links below or by calling us at 651.489.CARE (2273). Please schedule an appointment to ensure navigator availability. \n\nSchedule An Appointment \nPortico’s on-site services are made possible through a grant by the: \n\n  \n 
URL:https://porticohealthnet.org/event/richfield-health-resource-center-2/2025-09-18/
LOCATION:Richfield Health Resource Center at Richfield High School\, 7001 Harriet Avenue\, Door 13A\, Richfield\, MN\, 55423\, United States
CATEGORIES:Enrollment Events
END:VEVENT
BEGIN:VEVENT
DTSTART;TZID=America/Chicago:20250918T090000
DTEND;TZID=America/Chicago:20250918T140000
DTSTAMP:20260420T142238
CREATED:20240320T184251Z
LAST-MODIFIED:20250102T154254Z
UID:10000341-1758186000-1758204000@porticohealthnet.org
SUMMARY:Shakopee Family Resource Center
DESCRIPTION:Portico’s experienced MNsure Navigators offer in-person appointments at several community locations. Appointments can be scheduled online through the links below or by calling us at 651.489.CARE (2273). Please schedule an appointment to ensure navigator availability. (Important: Appointments will take place at 1615 Weston Court\, Shakopee\, starting on January 9th\, 2025).  \n  \nSchedule An Appointment
URL:https://porticohealthnet.org/event/scott-county-workforce-center/2025-09-18/
LOCATION:Shakopee Family Resource Center\, 1615 Weston Court\, Shakopee\, 55379\, United States
CATEGORIES:Enrollment Events
END:VEVENT
BEGIN:VEVENT
DTSTART;TZID=America/Chicago:20250916T080000
DTEND;TZID=America/Chicago:20250916T160000
DTSTAMP:20260420T142238
CREATED:20250827T141006Z
LAST-MODIFIED:20251103T210706Z
UID:10002278-1758009600-1758038400@porticohealthnet.org
SUMMARY:Ramsey County - Metro Square Service Center
DESCRIPTION:Ramsey County – Metro Square Service Center 121 Seventh Place E. Saint Paul\, Minnesota 55101. Free parking is available across the street at the Block 19 parking ramp (145 E. 7th St.) – a voucher for two hours of free parking will be provided for visitors to the Service Center. Walk-ins are welcome.  \nPortico’s experienced MNsure Navigators offer in-person appointments at several community locations. Appointments can be scheduled below or by calling us at 651.489.CARE (2273) \nREGISTER \n\n\n  \n  \nPortico’s on-site services are funded in part by Ramsey County\, Minnesota.
URL:https://porticohealthnet.org/event/ramsey-county-metro-square-service-center/2025-09-16/
LOCATION:Ramsey County – Metro Square Service Center\, 121 7th Place East skyway level - Suite 2500\, St. Paul\, 55101\, United States
CATEGORIES:Enrollment Events
END:VEVENT
BEGIN:VEVENT
DTSTART;TZID=America/Chicago:20250915T100000
DTEND;TZID=America/Chicago:20250915T160000
DTSTAMP:20260420T142238
CREATED:20250826T185306Z
LAST-MODIFIED:20250827T185039Z
UID:10002274-1757930400-1757952000@porticohealthnet.org
SUMMARY:Urban Ventures - Enrollment and Renewal Event
DESCRIPTION:Meet with Portico’s experienced MNsure Navigators for free health insurance enrollment and renewal assistance in partnership with Urban Ventures! Register for this event by clicking the link below. \nREGISTER
URL:https://porticohealthnet.org/event/urban-ventures-enrollment-and-renewal-event-5/
LOCATION:Urban Ventures\, 3023 4th Ave S\, Minneapolis\, MN\, 55408\, United States
CATEGORIES:Enrollment Events
END:VEVENT
BEGIN:VEVENT
DTSTART;TZID=America/Chicago:20250911T130000
DTEND;TZID=America/Chicago:20250911T170000
DTSTAMP:20260420T142238
CREATED:20240320T184509Z
LAST-MODIFIED:20240619T180824Z
UID:10000601-1757595600-1757610000@porticohealthnet.org
SUMMARY:Brooklyn Center Health Resource Center
DESCRIPTION:Portico’s experienced MNsure Navigators offer in-person appointments at several community locations. Appointments can be scheduled online through the links below or by calling us at 651.489.CARE (2273). Please schedule an appointment to ensure navigator availability. \n  \nSchedule An Appointment \n  \nPortico’s on-site services are made possible through grants by the: \n  
URL:https://porticohealthnet.org/event/brooklyn-center-health-resource-center/2025-09-11/
LOCATION:Brooklyn Center Health Resource Center at Brooklyn Center High School\, 6500 North Humboldt Avenue\, Brooklyn Center\, MN\, 55430\, United States
CATEGORIES:Enrollment Events
END:VEVENT
BEGIN:VEVENT
DTSTART;TZID=America/Chicago:20250911T123000
DTEND;TZID=America/Chicago:20250911T163000
DTSTAMP:20260420T142238
CREATED:20250311T163554Z
LAST-MODIFIED:20250311T163554Z
UID:10001992-1757593800-1757608200@porticohealthnet.org
SUMMARY:Richfield Health Resource Center
DESCRIPTION:Portico’s experienced MNsure Navigators offer in-person appointments at several community locations. Appointments can be scheduled online through the links below or by calling us at 651.489.CARE (2273). Please schedule an appointment to ensure navigator availability. \n\nSchedule An Appointment \nPortico’s on-site services are made possible through a grant by the: \n\n  \n 
URL:https://porticohealthnet.org/event/richfield-health-resource-center-2/2025-09-11/
LOCATION:Richfield Health Resource Center at Richfield High School\, 7001 Harriet Avenue\, Door 13A\, Richfield\, MN\, 55423\, United States
CATEGORIES:Enrollment Events
END:VEVENT
BEGIN:VEVENT
DTSTART;TZID=America/Chicago:20250911T090000
DTEND;TZID=America/Chicago:20250911T140000
DTSTAMP:20260420T142238
CREATED:20240320T184251Z
LAST-MODIFIED:20250102T154254Z
UID:10000340-1757581200-1757599200@porticohealthnet.org
SUMMARY:Shakopee Family Resource Center
DESCRIPTION:Portico’s experienced MNsure Navigators offer in-person appointments at several community locations. Appointments can be scheduled online through the links below or by calling us at 651.489.CARE (2273). Please schedule an appointment to ensure navigator availability. (Important: Appointments will take place at 1615 Weston Court\, Shakopee\, starting on January 9th\, 2025).  \n  \nSchedule An Appointment
URL:https://porticohealthnet.org/event/scott-county-workforce-center/2025-09-11/
LOCATION:Shakopee Family Resource Center\, 1615 Weston Court\, Shakopee\, 55379\, United States
CATEGORIES:Enrollment Events
END:VEVENT
BEGIN:VEVENT
DTSTART;TZID=America/Chicago:20250909T120000
DTEND;TZID=America/Chicago:20250909T160000
DTSTAMP:20260420T142238
CREATED:20250826T185448Z
LAST-MODIFIED:20260225T155511Z
UID:10002275-1757419200-1757433600@porticohealthnet.org
SUMMARY:Health Commons East Health – Enrollment & Renewal Event
DESCRIPTION:Meet with Portico’s experienced MNsure Navigators for free health insurance enrollment and renewal assistance in partnership with Health Commons East and Minnesota Health Fairview! \nRegister for this event by clicking the link below. \nSCHEDULE AN APPOINTMENT  \n 
URL:https://porticohealthnet.org/event/health-commons-east-health-enrollment-renewal-event-2/
LOCATION:Health Commons East\, 2090 Conway\, St. Paul\, 55119\, United States
CATEGORIES:Enrollment Events
END:VEVENT
BEGIN:VEVENT
DTSTART;TZID=America/Chicago:20250909T080000
DTEND;TZID=America/Chicago:20250909T160000
DTSTAMP:20260420T142238
CREATED:20250827T141006Z
LAST-MODIFIED:20251103T210706Z
UID:10002277-1757404800-1757433600@porticohealthnet.org
SUMMARY:Ramsey County - Metro Square Service Center
DESCRIPTION:Ramsey County – Metro Square Service Center 121 Seventh Place E. Saint Paul\, Minnesota 55101. Free parking is available across the street at the Block 19 parking ramp (145 E. 7th St.) – a voucher for two hours of free parking will be provided for visitors to the Service Center. Walk-ins are welcome.  \nPortico’s experienced MNsure Navigators offer in-person appointments at several community locations. Appointments can be scheduled below or by calling us at 651.489.CARE (2273) \nREGISTER \n\n\n  \n  \nPortico’s on-site services are funded in part by Ramsey County\, Minnesota.
URL:https://porticohealthnet.org/event/ramsey-county-metro-square-service-center/2025-09-09/
LOCATION:Ramsey County – Metro Square Service Center\, 121 7th Place East skyway level - Suite 2500\, St. Paul\, 55101\, United States
CATEGORIES:Enrollment Events
END:VEVENT
BEGIN:VEVENT
DTSTART;TZID=America/Chicago:20250904T130000
DTEND;TZID=America/Chicago:20250904T170000
DTSTAMP:20260420T142238
CREATED:20240320T184509Z
LAST-MODIFIED:20240619T180824Z
UID:10000600-1756990800-1757005200@porticohealthnet.org
SUMMARY:Brooklyn Center Health Resource Center
DESCRIPTION:Portico’s experienced MNsure Navigators offer in-person appointments at several community locations. Appointments can be scheduled online through the links below or by calling us at 651.489.CARE (2273). Please schedule an appointment to ensure navigator availability. \n  \nSchedule An Appointment \n  \nPortico’s on-site services are made possible through grants by the: \n  
URL:https://porticohealthnet.org/event/brooklyn-center-health-resource-center/2025-09-04/
LOCATION:Brooklyn Center Health Resource Center at Brooklyn Center High School\, 6500 North Humboldt Avenue\, Brooklyn Center\, MN\, 55430\, United States
CATEGORIES:Enrollment Events
END:VEVENT
BEGIN:VEVENT
DTSTART;TZID=America/Chicago:20250904T123000
DTEND;TZID=America/Chicago:20250904T163000
DTSTAMP:20260420T142238
CREATED:20250311T163554Z
LAST-MODIFIED:20250311T163554Z
UID:10001991-1756989000-1757003400@porticohealthnet.org
SUMMARY:Richfield Health Resource Center
DESCRIPTION:Portico’s experienced MNsure Navigators offer in-person appointments at several community locations. Appointments can be scheduled online through the links below or by calling us at 651.489.CARE (2273). Please schedule an appointment to ensure navigator availability. \n\nSchedule An Appointment \nPortico’s on-site services are made possible through a grant by the: \n\n  \n 
URL:https://porticohealthnet.org/event/richfield-health-resource-center-2/2025-09-04/
LOCATION:Richfield Health Resource Center at Richfield High School\, 7001 Harriet Avenue\, Door 13A\, Richfield\, MN\, 55423\, United States
CATEGORIES:Enrollment Events
END:VEVENT
BEGIN:VEVENT
DTSTART;TZID=America/Chicago:20250904T090000
DTEND;TZID=America/Chicago:20250904T140000
DTSTAMP:20260420T142238
CREATED:20240320T184251Z
LAST-MODIFIED:20250102T154254Z
UID:10000339-1756976400-1756994400@porticohealthnet.org
SUMMARY:Shakopee Family Resource Center
DESCRIPTION:Portico’s experienced MNsure Navigators offer in-person appointments at several community locations. Appointments can be scheduled online through the links below or by calling us at 651.489.CARE (2273). Please schedule an appointment to ensure navigator availability. (Important: Appointments will take place at 1615 Weston Court\, Shakopee\, starting on January 9th\, 2025).  \n  \nSchedule An Appointment
URL:https://porticohealthnet.org/event/scott-county-workforce-center/2025-09-04/
LOCATION:Shakopee Family Resource Center\, 1615 Weston Court\, Shakopee\, 55379\, United States
CATEGORIES:Enrollment Events
END:VEVENT
BEGIN:VEVENT
DTSTART;TZID=America/Chicago:20250902T080000
DTEND;TZID=America/Chicago:20250902T160000
DTSTAMP:20260420T142238
CREATED:20250827T141006Z
LAST-MODIFIED:20251103T210706Z
UID:10002276-1756800000-1756828800@porticohealthnet.org
SUMMARY:Ramsey County - Metro Square Service Center
DESCRIPTION:Ramsey County – Metro Square Service Center 121 Seventh Place E. Saint Paul\, Minnesota 55101. Free parking is available across the street at the Block 19 parking ramp (145 E. 7th St.) – a voucher for two hours of free parking will be provided for visitors to the Service Center. Walk-ins are welcome.  \nPortico’s experienced MNsure Navigators offer in-person appointments at several community locations. Appointments can be scheduled below or by calling us at 651.489.CARE (2273) \nREGISTER \n\n\n  \n  \nPortico’s on-site services are funded in part by Ramsey County\, Minnesota.
URL:https://porticohealthnet.org/event/ramsey-county-metro-square-service-center/2025-09-02/
LOCATION:Ramsey County – Metro Square Service Center\, 121 7th Place East skyway level - Suite 2500\, St. Paul\, 55101\, United States
CATEGORIES:Enrollment Events
END:VEVENT
BEGIN:VEVENT
DTSTART;TZID=America/Chicago:20250828T130000
DTEND;TZID=America/Chicago:20250828T170000
DTSTAMP:20260420T142238
CREATED:20240320T184509Z
LAST-MODIFIED:20240619T180824Z
UID:10000599-1756386000-1756400400@porticohealthnet.org
SUMMARY:Brooklyn Center Health Resource Center
DESCRIPTION:Portico’s experienced MNsure Navigators offer in-person appointments at several community locations. Appointments can be scheduled online through the links below or by calling us at 651.489.CARE (2273). Please schedule an appointment to ensure navigator availability. \n  \nSchedule An Appointment \n  \nPortico’s on-site services are made possible through grants by the: \n  
URL:https://porticohealthnet.org/event/brooklyn-center-health-resource-center/2025-08-28/
LOCATION:Brooklyn Center Health Resource Center at Brooklyn Center High School\, 6500 North Humboldt Avenue\, Brooklyn Center\, MN\, 55430\, United States
CATEGORIES:Enrollment Events
END:VEVENT
BEGIN:VEVENT
DTSTART;TZID=America/Chicago:20250828T123000
DTEND;TZID=America/Chicago:20250828T163000
DTSTAMP:20260420T142238
CREATED:20250311T163554Z
LAST-MODIFIED:20250311T163554Z
UID:10001990-1756384200-1756398600@porticohealthnet.org
SUMMARY:Richfield Health Resource Center
DESCRIPTION:Portico’s experienced MNsure Navigators offer in-person appointments at several community locations. Appointments can be scheduled online through the links below or by calling us at 651.489.CARE (2273). Please schedule an appointment to ensure navigator availability. \n\nSchedule An Appointment \nPortico’s on-site services are made possible through a grant by the: \n\n  \n 
URL:https://porticohealthnet.org/event/richfield-health-resource-center-2/2025-08-28/
LOCATION:Richfield Health Resource Center at Richfield High School\, 7001 Harriet Avenue\, Door 13A\, Richfield\, MN\, 55423\, United States
CATEGORIES:Enrollment Events
END:VEVENT
BEGIN:VEVENT
DTSTART;TZID=America/Chicago:20250828T090000
DTEND;TZID=America/Chicago:20250828T140000
DTSTAMP:20260420T142238
CREATED:20240320T184251Z
LAST-MODIFIED:20250102T154254Z
UID:10000338-1756371600-1756389600@porticohealthnet.org
SUMMARY:Shakopee Family Resource Center
DESCRIPTION:Portico’s experienced MNsure Navigators offer in-person appointments at several community locations. Appointments can be scheduled online through the links below or by calling us at 651.489.CARE (2273). Please schedule an appointment to ensure navigator availability. (Important: Appointments will take place at 1615 Weston Court\, Shakopee\, starting on January 9th\, 2025).  \n  \nSchedule An Appointment
URL:https://porticohealthnet.org/event/scott-county-workforce-center/2025-08-28/
LOCATION:Shakopee Family Resource Center\, 1615 Weston Court\, Shakopee\, 55379\, United States
CATEGORIES:Enrollment Events
END:VEVENT
BEGIN:VEVENT
DTSTART;TZID=America/Chicago:20250825T100000
DTEND;TZID=America/Chicago:20250825T160000
DTSTAMP:20260420T142238
CREATED:20250722T180057Z
LAST-MODIFIED:20250728T224626Z
UID:10002267-1756116000-1756137600@porticohealthnet.org
SUMMARY:Urban Ventures – Health Coverage Enrollment and Renewal Event
DESCRIPTION:Meet with Portico’s experienced MNsure Navigators for a free health insurance enrollment and renewal assistance in partnership with Urban Ventures! Register for this event by clicking the link below. \nREGISTER \n 
URL:https://porticohealthnet.org/event/urban-ventures-health-coverage-enrollment-and-renewal-event-5/
LOCATION:Urban Ventures\, 3023 4th Ave S\, Minneapolis\, MN\, 55408\, United States
CATEGORIES:Enrollment Events
END:VEVENT
BEGIN:VEVENT
DTSTART;TZID=America/Chicago:20250821T130000
DTEND;TZID=America/Chicago:20250821T170000
DTSTAMP:20260420T142238
CREATED:20240320T184509Z
LAST-MODIFIED:20240619T180824Z
UID:10000598-1755781200-1755795600@porticohealthnet.org
SUMMARY:Brooklyn Center Health Resource Center
DESCRIPTION:Portico’s experienced MNsure Navigators offer in-person appointments at several community locations. Appointments can be scheduled online through the links below or by calling us at 651.489.CARE (2273). Please schedule an appointment to ensure navigator availability. \n  \nSchedule An Appointment \n  \nPortico’s on-site services are made possible through grants by the: \n  
URL:https://porticohealthnet.org/event/brooklyn-center-health-resource-center/2025-08-21/
LOCATION:Brooklyn Center Health Resource Center at Brooklyn Center High School\, 6500 North Humboldt Avenue\, Brooklyn Center\, MN\, 55430\, United States
CATEGORIES:Enrollment Events
END:VEVENT
BEGIN:VEVENT
DTSTART;TZID=America/Chicago:20250821T123000
DTEND;TZID=America/Chicago:20250821T163000
DTSTAMP:20260420T142238
CREATED:20250311T163554Z
LAST-MODIFIED:20250311T163554Z
UID:10001989-1755779400-1755793800@porticohealthnet.org
SUMMARY:Richfield Health Resource Center
DESCRIPTION:Portico’s experienced MNsure Navigators offer in-person appointments at several community locations. Appointments can be scheduled online through the links below or by calling us at 651.489.CARE (2273). Please schedule an appointment to ensure navigator availability. \n\nSchedule An Appointment \nPortico’s on-site services are made possible through a grant by the: \n\n  \n 
URL:https://porticohealthnet.org/event/richfield-health-resource-center-2/2025-08-21/
LOCATION:Richfield Health Resource Center at Richfield High School\, 7001 Harriet Avenue\, Door 13A\, Richfield\, MN\, 55423\, United States
CATEGORIES:Enrollment Events
END:VEVENT
BEGIN:VEVENT
DTSTART;TZID=America/Chicago:20250821T090000
DTEND;TZID=America/Chicago:20250821T140000
DTSTAMP:20260420T142238
CREATED:20240320T184251Z
LAST-MODIFIED:20250102T154254Z
UID:10000337-1755766800-1755784800@porticohealthnet.org
SUMMARY:Shakopee Family Resource Center
DESCRIPTION:Portico’s experienced MNsure Navigators offer in-person appointments at several community locations. Appointments can be scheduled online through the links below or by calling us at 651.489.CARE (2273). Please schedule an appointment to ensure navigator availability. (Important: Appointments will take place at 1615 Weston Court\, Shakopee\, starting on January 9th\, 2025).  \n  \nSchedule An Appointment
URL:https://porticohealthnet.org/event/scott-county-workforce-center/2025-08-21/
LOCATION:Shakopee Family Resource Center\, 1615 Weston Court\, Shakopee\, 55379\, United States
CATEGORIES:Enrollment Events
END:VEVENT
BEGIN:VEVENT
DTSTART;TZID=America/Chicago:20250814T130000
DTEND;TZID=America/Chicago:20250814T170000
DTSTAMP:20260420T142238
CREATED:20240320T184509Z
LAST-MODIFIED:20240619T180824Z
UID:10000597-1755176400-1755190800@porticohealthnet.org
SUMMARY:Brooklyn Center Health Resource Center
DESCRIPTION:Portico’s experienced MNsure Navigators offer in-person appointments at several community locations. Appointments can be scheduled online through the links below or by calling us at 651.489.CARE (2273). Please schedule an appointment to ensure navigator availability. \n  \nSchedule An Appointment \n  \nPortico’s on-site services are made possible through grants by the: \n  
URL:https://porticohealthnet.org/event/brooklyn-center-health-resource-center/2025-08-14/
LOCATION:Brooklyn Center Health Resource Center at Brooklyn Center High School\, 6500 North Humboldt Avenue\, Brooklyn Center\, MN\, 55430\, United States
CATEGORIES:Enrollment Events
END:VEVENT
BEGIN:VEVENT
DTSTART;TZID=America/Chicago:20250814T123000
DTEND;TZID=America/Chicago:20250814T163000
DTSTAMP:20260420T142238
CREATED:20250311T163554Z
LAST-MODIFIED:20250311T163554Z
UID:10001988-1755174600-1755189000@porticohealthnet.org
SUMMARY:Richfield Health Resource Center
DESCRIPTION:Portico’s experienced MNsure Navigators offer in-person appointments at several community locations. Appointments can be scheduled online through the links below or by calling us at 651.489.CARE (2273). Please schedule an appointment to ensure navigator availability. \n\nSchedule An Appointment \nPortico’s on-site services are made possible through a grant by the: \n\n  \n 
URL:https://porticohealthnet.org/event/richfield-health-resource-center-2/2025-08-14/
LOCATION:Richfield Health Resource Center at Richfield High School\, 7001 Harriet Avenue\, Door 13A\, Richfield\, MN\, 55423\, United States
CATEGORIES:Enrollment Events
END:VEVENT
BEGIN:VEVENT
DTSTART;TZID=America/Chicago:20250814T090000
DTEND;TZID=America/Chicago:20250814T140000
DTSTAMP:20260420T142238
CREATED:20240320T184251Z
LAST-MODIFIED:20250102T154254Z
UID:10000336-1755162000-1755180000@porticohealthnet.org
SUMMARY:Shakopee Family Resource Center
DESCRIPTION:Portico’s experienced MNsure Navigators offer in-person appointments at several community locations. Appointments can be scheduled online through the links below or by calling us at 651.489.CARE (2273). Please schedule an appointment to ensure navigator availability. (Important: Appointments will take place at 1615 Weston Court\, Shakopee\, starting on January 9th\, 2025).  \n  \nSchedule An Appointment
URL:https://porticohealthnet.org/event/scott-county-workforce-center/2025-08-14/
LOCATION:Shakopee Family Resource Center\, 1615 Weston Court\, Shakopee\, 55379\, United States
CATEGORIES:Enrollment Events
END:VEVENT
BEGIN:VEVENT
DTSTART;TZID=America/Chicago:20250812T120000
DTEND;TZID=America/Chicago:20250812T160000
DTSTAMP:20260420T142238
CREATED:20250722T180454Z
LAST-MODIFIED:20250806T225913Z
UID:10002268-1755000000-1755014400@porticohealthnet.org
SUMMARY:Health Commons East Health - Enrollment & Renewal Event
DESCRIPTION:Meet with Portico’s experienced MNsure Navigators for free health insurance enrollment and renewal assistance in partnership with Health Commons East and Minnesota Health Fairview! \nRegister for this event by clicking the link below. \nSCHEDULE AN APPOINTMENT  \n Portico’s on-site services are made possible through a grant by the:
URL:https://porticohealthnet.org/event/health-commons-east-health-enrollment-renewal-event/
LOCATION:Health Commons East\, 2090 Conway\, St. Paul\, 55119\, United States
CATEGORIES:Enrollment Events
END:VEVENT
BEGIN:VEVENT
DTSTART;TZID=America/Chicago:20250807T130000
DTEND;TZID=America/Chicago:20250807T170000
DTSTAMP:20260420T142238
CREATED:20240320T184509Z
LAST-MODIFIED:20240619T180824Z
UID:10000596-1754571600-1754586000@porticohealthnet.org
SUMMARY:Brooklyn Center Health Resource Center
DESCRIPTION:Portico’s experienced MNsure Navigators offer in-person appointments at several community locations. Appointments can be scheduled online through the links below or by calling us at 651.489.CARE (2273). Please schedule an appointment to ensure navigator availability. \n  \nSchedule An Appointment \n  \nPortico’s on-site services are made possible through grants by the: \n  
URL:https://porticohealthnet.org/event/brooklyn-center-health-resource-center/2025-08-07/
LOCATION:Brooklyn Center Health Resource Center at Brooklyn Center High School\, 6500 North Humboldt Avenue\, Brooklyn Center\, MN\, 55430\, United States
CATEGORIES:Enrollment Events
END:VEVENT
BEGIN:VEVENT
DTSTART;TZID=America/Chicago:20250807T123000
DTEND;TZID=America/Chicago:20250807T163000
DTSTAMP:20260420T142238
CREATED:20250311T163554Z
LAST-MODIFIED:20250311T163554Z
UID:10001987-1754569800-1754584200@porticohealthnet.org
SUMMARY:Richfield Health Resource Center
DESCRIPTION:Portico’s experienced MNsure Navigators offer in-person appointments at several community locations. Appointments can be scheduled online through the links below or by calling us at 651.489.CARE (2273). Please schedule an appointment to ensure navigator availability. \n\nSchedule An Appointment \nPortico’s on-site services are made possible through a grant by the: \n\n  \n 
URL:https://porticohealthnet.org/event/richfield-health-resource-center-2/2025-08-07/
LOCATION:Richfield Health Resource Center at Richfield High School\, 7001 Harriet Avenue\, Door 13A\, Richfield\, MN\, 55423\, United States
CATEGORIES:Enrollment Events
END:VEVENT
END:VCALENDAR