BEGIN:VCALENDAR
VERSION:2.0
PRODID:-//Portico Healthnet - ECPv6.15.13//NONSGML v1.0//EN
CALSCALE:GREGORIAN
METHOD:PUBLISH
X-WR-CALNAME:Portico Healthnet
X-ORIGINAL-URL:https://porticohealthnet.org
X-WR-CALDESC:Events for Portico Healthnet
REFRESH-INTERVAL;VALUE=DURATION:PT1H
X-Robots-Tag:noindex
X-PUBLISHED-TTL:PT1H
BEGIN:VTIMEZONE
TZID:America/Chicago
BEGIN:DAYLIGHT
TZOFFSETFROM:-0600
TZOFFSETTO:-0500
TZNAME:CDT
DTSTART:20230312T080000
END:DAYLIGHT
BEGIN:STANDARD
TZOFFSETFROM:-0500
TZOFFSETTO:-0600
TZNAME:CST
DTSTART:20231105T070000
END:STANDARD
BEGIN:DAYLIGHT
TZOFFSETFROM:-0600
TZOFFSETTO:-0500
TZNAME:CDT
DTSTART:20240310T080000
END:DAYLIGHT
BEGIN:STANDARD
TZOFFSETFROM:-0500
TZOFFSETTO:-0600
TZNAME:CST
DTSTART:20241103T070000
END:STANDARD
BEGIN:DAYLIGHT
TZOFFSETFROM:-0600
TZOFFSETTO:-0500
TZNAME:CDT
DTSTART:20250309T080000
END:DAYLIGHT
BEGIN:STANDARD
TZOFFSETFROM:-0500
TZOFFSETTO:-0600
TZNAME:CST
DTSTART:20251102T070000
END:STANDARD
END:VTIMEZONE
BEGIN:VEVENT
DTSTART;TZID=America/Chicago:20240606T090000
DTEND;TZID=America/Chicago:20240606T140000
DTSTAMP:20260421T084633
CREATED:20240320T184251Z
LAST-MODIFIED:20250102T154254Z
UID:10000274-1717664400-1717682400@porticohealthnet.org
SUMMARY:Shakopee Family Resource Center
DESCRIPTION:Portico’s experienced MNsure Navigators offer in-person appointments at several community locations. Appointments can be scheduled online through the links below or by calling us at 651.489.CARE (2273). Please schedule an appointment to ensure navigator availability. (Important: Appointments will take place at 1615 Weston Court\, Shakopee\, starting on January 9th\, 2025).  \n  \nSchedule An Appointment
URL:https://porticohealthnet.org/event/scott-county-workforce-center/2024-06-06/
LOCATION:Shakopee Family Resource Center\, 1615 Weston Court\, Shakopee\, 55379\, United States
CATEGORIES:Enrollment Events
END:VEVENT
BEGIN:VEVENT
DTSTART;TZID=America/Chicago:20240606T130000
DTEND;TZID=America/Chicago:20240606T170000
DTSTAMP:20260421T084633
CREATED:20240320T184509Z
LAST-MODIFIED:20240619T180824Z
UID:10000535-1717678800-1717693200@porticohealthnet.org
SUMMARY:Brooklyn Center Health Resource Center
DESCRIPTION:Portico’s experienced MNsure Navigators offer in-person appointments at several community locations. Appointments can be scheduled online through the links below or by calling us at 651.489.CARE (2273). Please schedule an appointment to ensure navigator availability. \n  \nSchedule An Appointment \n  \nPortico’s on-site services are made possible through grants by the: \n  
URL:https://porticohealthnet.org/event/brooklyn-center-health-resource-center/2024-06-06/
LOCATION:Brooklyn Center Health Resource Center at Brooklyn Center High School\, 6500 North Humboldt Avenue\, Brooklyn Center\, MN\, 55430\, United States
CATEGORIES:Enrollment Events
END:VEVENT
BEGIN:VEVENT
DTSTART;TZID=America/Chicago:20240612T123000
DTEND;TZID=America/Chicago:20240612T163000
DTSTAMP:20260421T084633
CREATED:20240320T183938Z
LAST-MODIFIED:20241218T155235Z
UID:10000852-1718195400-1718209800@porticohealthnet.org
SUMMARY:Richfield Health Resource Center
DESCRIPTION:Portico’s experienced MNsure Navigators offer in-person appointments at several community locations. Appointments can be scheduled online through the links below or by calling us at 651.489.CARE (2273). Please schedule an appointment to ensure navigator availability. \n\nSchedule An Appointment \nPortico’s on-site services are made possible through a grant by the: \n\n  \n 
URL:https://porticohealthnet.org/event/richfield-health-resource-center/2024-06-12/
LOCATION:Richfield Health Resource Center at Richfield High School\, 7001 Harriet Avenue\, Door 13A\, Richfield\, MN\, 55423\, United States
CATEGORIES:Enrollment Events
END:VEVENT
BEGIN:VEVENT
DTSTART;TZID=America/Chicago:20240613T090000
DTEND;TZID=America/Chicago:20240613T140000
DTSTAMP:20260421T084633
CREATED:20240320T184251Z
LAST-MODIFIED:20250102T154254Z
UID:10000275-1718269200-1718287200@porticohealthnet.org
SUMMARY:Shakopee Family Resource Center
DESCRIPTION:Portico’s experienced MNsure Navigators offer in-person appointments at several community locations. Appointments can be scheduled online through the links below or by calling us at 651.489.CARE (2273). Please schedule an appointment to ensure navigator availability. (Important: Appointments will take place at 1615 Weston Court\, Shakopee\, starting on January 9th\, 2025).  \n  \nSchedule An Appointment
URL:https://porticohealthnet.org/event/scott-county-workforce-center/2024-06-13/
LOCATION:Shakopee Family Resource Center\, 1615 Weston Court\, Shakopee\, 55379\, United States
CATEGORIES:Enrollment Events
END:VEVENT
BEGIN:VEVENT
DTSTART;TZID=America/Chicago:20240613T130000
DTEND;TZID=America/Chicago:20240613T170000
DTSTAMP:20260421T084633
CREATED:20240320T184509Z
LAST-MODIFIED:20240619T180824Z
UID:10000536-1718283600-1718298000@porticohealthnet.org
SUMMARY:Brooklyn Center Health Resource Center
DESCRIPTION:Portico’s experienced MNsure Navigators offer in-person appointments at several community locations. Appointments can be scheduled online through the links below or by calling us at 651.489.CARE (2273). Please schedule an appointment to ensure navigator availability. \n  \nSchedule An Appointment \n  \nPortico’s on-site services are made possible through grants by the: \n  
URL:https://porticohealthnet.org/event/brooklyn-center-health-resource-center/2024-06-13/
LOCATION:Brooklyn Center Health Resource Center at Brooklyn Center High School\, 6500 North Humboldt Avenue\, Brooklyn Center\, MN\, 55430\, United States
CATEGORIES:Enrollment Events
END:VEVENT
BEGIN:VEVENT
DTSTART;TZID=America/Chicago:20240619T123000
DTEND;TZID=America/Chicago:20240619T163000
DTSTAMP:20260421T084633
CREATED:20240320T183938Z
LAST-MODIFIED:20241218T155235Z
UID:10001392-1718800200-1718814600@porticohealthnet.org
SUMMARY:Richfield Health Resource Center
DESCRIPTION:Portico’s experienced MNsure Navigators offer in-person appointments at several community locations. Appointments can be scheduled online through the links below or by calling us at 651.489.CARE (2273). Please schedule an appointment to ensure navigator availability. \n\nSchedule An Appointment \nPortico’s on-site services are made possible through a grant by the: \n\n  \n 
URL:https://porticohealthnet.org/event/richfield-health-resource-center/2024-06-19/
LOCATION:Richfield Health Resource Center at Richfield High School\, 7001 Harriet Avenue\, Door 13A\, Richfield\, MN\, 55423\, United States
CATEGORIES:Enrollment Events
END:VEVENT
BEGIN:VEVENT
DTSTART;TZID=America/Chicago:20240620T090000
DTEND;TZID=America/Chicago:20240620T140000
DTSTAMP:20260421T084633
CREATED:20240320T184251Z
LAST-MODIFIED:20250102T154254Z
UID:10000276-1718874000-1718892000@porticohealthnet.org
SUMMARY:Shakopee Family Resource Center
DESCRIPTION:Portico’s experienced MNsure Navigators offer in-person appointments at several community locations. Appointments can be scheduled online through the links below or by calling us at 651.489.CARE (2273). Please schedule an appointment to ensure navigator availability. (Important: Appointments will take place at 1615 Weston Court\, Shakopee\, starting on January 9th\, 2025).  \n  \nSchedule An Appointment
URL:https://porticohealthnet.org/event/scott-county-workforce-center/2024-06-20/
LOCATION:Shakopee Family Resource Center\, 1615 Weston Court\, Shakopee\, 55379\, United States
CATEGORIES:Enrollment Events
END:VEVENT
BEGIN:VEVENT
DTSTART;TZID=America/Chicago:20240620T130000
DTEND;TZID=America/Chicago:20240620T170000
DTSTAMP:20260421T084633
CREATED:20240320T184509Z
LAST-MODIFIED:20240619T180824Z
UID:10000537-1718888400-1718902800@porticohealthnet.org
SUMMARY:Brooklyn Center Health Resource Center
DESCRIPTION:Portico’s experienced MNsure Navigators offer in-person appointments at several community locations. Appointments can be scheduled online through the links below or by calling us at 651.489.CARE (2273). Please schedule an appointment to ensure navigator availability. \n  \nSchedule An Appointment \n  \nPortico’s on-site services are made possible through grants by the: \n  
URL:https://porticohealthnet.org/event/brooklyn-center-health-resource-center/2024-06-20/
LOCATION:Brooklyn Center Health Resource Center at Brooklyn Center High School\, 6500 North Humboldt Avenue\, Brooklyn Center\, MN\, 55430\, United States
CATEGORIES:Enrollment Events
END:VEVENT
BEGIN:VEVENT
DTSTART;TZID=America/Chicago:20240626T123000
DTEND;TZID=America/Chicago:20240626T163000
DTSTAMP:20260421T084633
CREATED:20240320T183938Z
LAST-MODIFIED:20241218T155235Z
UID:10000853-1719405000-1719419400@porticohealthnet.org
SUMMARY:Richfield Health Resource Center
DESCRIPTION:Portico’s experienced MNsure Navigators offer in-person appointments at several community locations. Appointments can be scheduled online through the links below or by calling us at 651.489.CARE (2273). Please schedule an appointment to ensure navigator availability. \n\nSchedule An Appointment \nPortico’s on-site services are made possible through a grant by the: \n\n  \n 
URL:https://porticohealthnet.org/event/richfield-health-resource-center/2024-06-26/
LOCATION:Richfield Health Resource Center at Richfield High School\, 7001 Harriet Avenue\, Door 13A\, Richfield\, MN\, 55423\, United States
CATEGORIES:Enrollment Events
END:VEVENT
BEGIN:VEVENT
DTSTART;TZID=America/Chicago:20240627T090000
DTEND;TZID=America/Chicago:20240627T140000
DTSTAMP:20260421T084633
CREATED:20240320T184251Z
LAST-MODIFIED:20250102T154254Z
UID:10000277-1719478800-1719496800@porticohealthnet.org
SUMMARY:Shakopee Family Resource Center
DESCRIPTION:Portico’s experienced MNsure Navigators offer in-person appointments at several community locations. Appointments can be scheduled online through the links below or by calling us at 651.489.CARE (2273). Please schedule an appointment to ensure navigator availability. (Important: Appointments will take place at 1615 Weston Court\, Shakopee\, starting on January 9th\, 2025).  \n  \nSchedule An Appointment
URL:https://porticohealthnet.org/event/scott-county-workforce-center/2024-06-27/
LOCATION:Shakopee Family Resource Center\, 1615 Weston Court\, Shakopee\, 55379\, United States
CATEGORIES:Enrollment Events
END:VEVENT
BEGIN:VEVENT
DTSTART;TZID=America/Chicago:20240627T130000
DTEND;TZID=America/Chicago:20240627T170000
DTSTAMP:20260421T084633
CREATED:20240320T184509Z
LAST-MODIFIED:20240619T180824Z
UID:10000538-1719493200-1719507600@porticohealthnet.org
SUMMARY:Brooklyn Center Health Resource Center
DESCRIPTION:Portico’s experienced MNsure Navigators offer in-person appointments at several community locations. Appointments can be scheduled online through the links below or by calling us at 651.489.CARE (2273). Please schedule an appointment to ensure navigator availability. \n  \nSchedule An Appointment \n  \nPortico’s on-site services are made possible through grants by the: \n  
URL:https://porticohealthnet.org/event/brooklyn-center-health-resource-center/2024-06-27/
LOCATION:Brooklyn Center Health Resource Center at Brooklyn Center High School\, 6500 North Humboldt Avenue\, Brooklyn Center\, MN\, 55430\, United States
CATEGORIES:Enrollment Events
END:VEVENT
BEGIN:VEVENT
DTSTART;TZID=America/Chicago:20240703T123000
DTEND;TZID=America/Chicago:20240703T163000
DTSTAMP:20260421T084633
CREATED:20240320T183938Z
LAST-MODIFIED:20241218T155235Z
UID:10000854-1720009800-1720024200@porticohealthnet.org
SUMMARY:Richfield Health Resource Center
DESCRIPTION:Portico’s experienced MNsure Navigators offer in-person appointments at several community locations. Appointments can be scheduled online through the links below or by calling us at 651.489.CARE (2273). Please schedule an appointment to ensure navigator availability. \n\nSchedule An Appointment \nPortico’s on-site services are made possible through a grant by the: \n\n  \n 
URL:https://porticohealthnet.org/event/richfield-health-resource-center/2024-07-03/
LOCATION:Richfield Health Resource Center at Richfield High School\, 7001 Harriet Avenue\, Door 13A\, Richfield\, MN\, 55423\, United States
CATEGORIES:Enrollment Events
END:VEVENT
BEGIN:VEVENT
DTSTART;TZID=America/Chicago:20240704T090000
DTEND;TZID=America/Chicago:20240704T140000
DTSTAMP:20260421T084633
CREATED:20240320T184251Z
LAST-MODIFIED:20250102T154254Z
UID:10000278-1720083600-1720101600@porticohealthnet.org
SUMMARY:Shakopee Family Resource Center
DESCRIPTION:Portico’s experienced MNsure Navigators offer in-person appointments at several community locations. Appointments can be scheduled online through the links below or by calling us at 651.489.CARE (2273). Please schedule an appointment to ensure navigator availability. (Important: Appointments will take place at 1615 Weston Court\, Shakopee\, starting on January 9th\, 2025).  \n  \nSchedule An Appointment
URL:https://porticohealthnet.org/event/scott-county-workforce-center/2024-07-04/
LOCATION:Shakopee Family Resource Center\, 1615 Weston Court\, Shakopee\, 55379\, United States
CATEGORIES:Enrollment Events
END:VEVENT
BEGIN:VEVENT
DTSTART;TZID=America/Chicago:20240704T130000
DTEND;TZID=America/Chicago:20240704T170000
DTSTAMP:20260421T084633
CREATED:20240320T184509Z
LAST-MODIFIED:20240619T180824Z
UID:10000539-1720098000-1720112400@porticohealthnet.org
SUMMARY:Brooklyn Center Health Resource Center
DESCRIPTION:Portico’s experienced MNsure Navigators offer in-person appointments at several community locations. Appointments can be scheduled online through the links below or by calling us at 651.489.CARE (2273). Please schedule an appointment to ensure navigator availability. \n  \nSchedule An Appointment \n  \nPortico’s on-site services are made possible through grants by the: \n  
URL:https://porticohealthnet.org/event/brooklyn-center-health-resource-center/2024-07-04/
LOCATION:Brooklyn Center Health Resource Center at Brooklyn Center High School\, 6500 North Humboldt Avenue\, Brooklyn Center\, MN\, 55430\, United States
CATEGORIES:Enrollment Events
END:VEVENT
BEGIN:VEVENT
DTSTART;TZID=America/Chicago:20240710T123000
DTEND;TZID=America/Chicago:20240710T163000
DTSTAMP:20260421T084633
CREATED:20240320T183938Z
LAST-MODIFIED:20241218T155235Z
UID:10000855-1720614600-1720629000@porticohealthnet.org
SUMMARY:Richfield Health Resource Center
DESCRIPTION:Portico’s experienced MNsure Navigators offer in-person appointments at several community locations. Appointments can be scheduled online through the links below or by calling us at 651.489.CARE (2273). Please schedule an appointment to ensure navigator availability. \n\nSchedule An Appointment \nPortico’s on-site services are made possible through a grant by the: \n\n  \n 
URL:https://porticohealthnet.org/event/richfield-health-resource-center/2024-07-10/
LOCATION:Richfield Health Resource Center at Richfield High School\, 7001 Harriet Avenue\, Door 13A\, Richfield\, MN\, 55423\, United States
CATEGORIES:Enrollment Events
END:VEVENT
BEGIN:VEVENT
DTSTART;TZID=America/Chicago:20240711T090000
DTEND;TZID=America/Chicago:20240711T140000
DTSTAMP:20260421T084633
CREATED:20240320T184251Z
LAST-MODIFIED:20250102T154254Z
UID:10000279-1720688400-1720706400@porticohealthnet.org
SUMMARY:Shakopee Family Resource Center
DESCRIPTION:Portico’s experienced MNsure Navigators offer in-person appointments at several community locations. Appointments can be scheduled online through the links below or by calling us at 651.489.CARE (2273). Please schedule an appointment to ensure navigator availability. (Important: Appointments will take place at 1615 Weston Court\, Shakopee\, starting on January 9th\, 2025).  \n  \nSchedule An Appointment
URL:https://porticohealthnet.org/event/scott-county-workforce-center/2024-07-11/
LOCATION:Shakopee Family Resource Center\, 1615 Weston Court\, Shakopee\, 55379\, United States
CATEGORIES:Enrollment Events
END:VEVENT
BEGIN:VEVENT
DTSTART;TZID=America/Chicago:20240711T130000
DTEND;TZID=America/Chicago:20240711T170000
DTSTAMP:20260421T084633
CREATED:20240320T184509Z
LAST-MODIFIED:20240619T180824Z
UID:10000540-1720702800-1720717200@porticohealthnet.org
SUMMARY:Brooklyn Center Health Resource Center
DESCRIPTION:Portico’s experienced MNsure Navigators offer in-person appointments at several community locations. Appointments can be scheduled online through the links below or by calling us at 651.489.CARE (2273). Please schedule an appointment to ensure navigator availability. \n  \nSchedule An Appointment \n  \nPortico’s on-site services are made possible through grants by the: \n  
URL:https://porticohealthnet.org/event/brooklyn-center-health-resource-center/2024-07-11/
LOCATION:Brooklyn Center Health Resource Center at Brooklyn Center High School\, 6500 North Humboldt Avenue\, Brooklyn Center\, MN\, 55430\, United States
CATEGORIES:Enrollment Events
END:VEVENT
BEGIN:VEVENT
DTSTART;TZID=America/Chicago:20240717T123000
DTEND;TZID=America/Chicago:20240717T163000
DTSTAMP:20260421T084633
CREATED:20240320T183938Z
LAST-MODIFIED:20241218T155235Z
UID:10000856-1721219400-1721233800@porticohealthnet.org
SUMMARY:Richfield Health Resource Center
DESCRIPTION:Portico’s experienced MNsure Navigators offer in-person appointments at several community locations. Appointments can be scheduled online through the links below or by calling us at 651.489.CARE (2273). Please schedule an appointment to ensure navigator availability. \n\nSchedule An Appointment \nPortico’s on-site services are made possible through a grant by the: \n\n  \n 
URL:https://porticohealthnet.org/event/richfield-health-resource-center/2024-07-17/
LOCATION:Richfield Health Resource Center at Richfield High School\, 7001 Harriet Avenue\, Door 13A\, Richfield\, MN\, 55423\, United States
CATEGORIES:Enrollment Events
END:VEVENT
BEGIN:VEVENT
DTSTART;TZID=America/Chicago:20240718T090000
DTEND;TZID=America/Chicago:20240718T140000
DTSTAMP:20260421T084633
CREATED:20240320T184251Z
LAST-MODIFIED:20250102T154254Z
UID:10000280-1721293200-1721311200@porticohealthnet.org
SUMMARY:Shakopee Family Resource Center
DESCRIPTION:Portico’s experienced MNsure Navigators offer in-person appointments at several community locations. Appointments can be scheduled online through the links below or by calling us at 651.489.CARE (2273). Please schedule an appointment to ensure navigator availability. (Important: Appointments will take place at 1615 Weston Court\, Shakopee\, starting on January 9th\, 2025).  \n  \nSchedule An Appointment
URL:https://porticohealthnet.org/event/scott-county-workforce-center/2024-07-18/
LOCATION:Shakopee Family Resource Center\, 1615 Weston Court\, Shakopee\, 55379\, United States
CATEGORIES:Enrollment Events
END:VEVENT
BEGIN:VEVENT
DTSTART;TZID=America/Chicago:20240718T130000
DTEND;TZID=America/Chicago:20240718T170000
DTSTAMP:20260421T084633
CREATED:20240320T184509Z
LAST-MODIFIED:20240619T180824Z
UID:10000541-1721307600-1721322000@porticohealthnet.org
SUMMARY:Brooklyn Center Health Resource Center
DESCRIPTION:Portico’s experienced MNsure Navigators offer in-person appointments at several community locations. Appointments can be scheduled online through the links below or by calling us at 651.489.CARE (2273). Please schedule an appointment to ensure navigator availability. \n  \nSchedule An Appointment \n  \nPortico’s on-site services are made possible through grants by the: \n  
URL:https://porticohealthnet.org/event/brooklyn-center-health-resource-center/2024-07-18/
LOCATION:Brooklyn Center Health Resource Center at Brooklyn Center High School\, 6500 North Humboldt Avenue\, Brooklyn Center\, MN\, 55430\, United States
CATEGORIES:Enrollment Events
END:VEVENT
BEGIN:VEVENT
DTSTART;TZID=America/Chicago:20240724T123000
DTEND;TZID=America/Chicago:20240724T163000
DTSTAMP:20260421T084633
CREATED:20240320T183938Z
LAST-MODIFIED:20241218T155235Z
UID:10000857-1721824200-1721838600@porticohealthnet.org
SUMMARY:Richfield Health Resource Center
DESCRIPTION:Portico’s experienced MNsure Navigators offer in-person appointments at several community locations. Appointments can be scheduled online through the links below or by calling us at 651.489.CARE (2273). Please schedule an appointment to ensure navigator availability. \n\nSchedule An Appointment \nPortico’s on-site services are made possible through a grant by the: \n\n  \n 
URL:https://porticohealthnet.org/event/richfield-health-resource-center/2024-07-24/
LOCATION:Richfield Health Resource Center at Richfield High School\, 7001 Harriet Avenue\, Door 13A\, Richfield\, MN\, 55423\, United States
CATEGORIES:Enrollment Events
END:VEVENT
BEGIN:VEVENT
DTSTART;TZID=America/Chicago:20240725T090000
DTEND;TZID=America/Chicago:20240725T140000
DTSTAMP:20260421T084633
CREATED:20240320T184251Z
LAST-MODIFIED:20250102T154254Z
UID:10000281-1721898000-1721916000@porticohealthnet.org
SUMMARY:Shakopee Family Resource Center
DESCRIPTION:Portico’s experienced MNsure Navigators offer in-person appointments at several community locations. Appointments can be scheduled online through the links below or by calling us at 651.489.CARE (2273). Please schedule an appointment to ensure navigator availability. (Important: Appointments will take place at 1615 Weston Court\, Shakopee\, starting on January 9th\, 2025).  \n  \nSchedule An Appointment
URL:https://porticohealthnet.org/event/scott-county-workforce-center/2024-07-25/
LOCATION:Shakopee Family Resource Center\, 1615 Weston Court\, Shakopee\, 55379\, United States
CATEGORIES:Enrollment Events
END:VEVENT
BEGIN:VEVENT
DTSTART;TZID=America/Chicago:20240725T130000
DTEND;TZID=America/Chicago:20240725T170000
DTSTAMP:20260421T084633
CREATED:20240320T184509Z
LAST-MODIFIED:20240619T180824Z
UID:10000542-1721912400-1721926800@porticohealthnet.org
SUMMARY:Brooklyn Center Health Resource Center
DESCRIPTION:Portico’s experienced MNsure Navigators offer in-person appointments at several community locations. Appointments can be scheduled online through the links below or by calling us at 651.489.CARE (2273). Please schedule an appointment to ensure navigator availability. \n  \nSchedule An Appointment \n  \nPortico’s on-site services are made possible through grants by the: \n  
URL:https://porticohealthnet.org/event/brooklyn-center-health-resource-center/2024-07-25/
LOCATION:Brooklyn Center Health Resource Center at Brooklyn Center High School\, 6500 North Humboldt Avenue\, Brooklyn Center\, MN\, 55430\, United States
CATEGORIES:Enrollment Events
END:VEVENT
BEGIN:VEVENT
DTSTART;TZID=America/Chicago:20240731T123000
DTEND;TZID=America/Chicago:20240731T163000
DTSTAMP:20260421T084633
CREATED:20240320T183938Z
LAST-MODIFIED:20241218T155235Z
UID:10000858-1722429000-1722443400@porticohealthnet.org
SUMMARY:Richfield Health Resource Center
DESCRIPTION:Portico’s experienced MNsure Navigators offer in-person appointments at several community locations. Appointments can be scheduled online through the links below or by calling us at 651.489.CARE (2273). Please schedule an appointment to ensure navigator availability. \n\nSchedule An Appointment \nPortico’s on-site services are made possible through a grant by the: \n\n  \n 
URL:https://porticohealthnet.org/event/richfield-health-resource-center/2024-07-31/
LOCATION:Richfield Health Resource Center at Richfield High School\, 7001 Harriet Avenue\, Door 13A\, Richfield\, MN\, 55423\, United States
CATEGORIES:Enrollment Events
END:VEVENT
BEGIN:VEVENT
DTSTART;TZID=America/Chicago:20240801T090000
DTEND;TZID=America/Chicago:20240801T140000
DTSTAMP:20260421T084633
CREATED:20240320T184251Z
LAST-MODIFIED:20250102T154254Z
UID:10000282-1722502800-1722520800@porticohealthnet.org
SUMMARY:Shakopee Family Resource Center
DESCRIPTION:Portico’s experienced MNsure Navigators offer in-person appointments at several community locations. Appointments can be scheduled online through the links below or by calling us at 651.489.CARE (2273). Please schedule an appointment to ensure navigator availability. (Important: Appointments will take place at 1615 Weston Court\, Shakopee\, starting on January 9th\, 2025).  \n  \nSchedule An Appointment
URL:https://porticohealthnet.org/event/scott-county-workforce-center/2024-08-01/
LOCATION:Shakopee Family Resource Center\, 1615 Weston Court\, Shakopee\, 55379\, United States
CATEGORIES:Enrollment Events
END:VEVENT
BEGIN:VEVENT
DTSTART;TZID=America/Chicago:20240801T130000
DTEND;TZID=America/Chicago:20240801T170000
DTSTAMP:20260421T084633
CREATED:20240320T184509Z
LAST-MODIFIED:20240619T180824Z
UID:10000543-1722517200-1722531600@porticohealthnet.org
SUMMARY:Brooklyn Center Health Resource Center
DESCRIPTION:Portico’s experienced MNsure Navigators offer in-person appointments at several community locations. Appointments can be scheduled online through the links below or by calling us at 651.489.CARE (2273). Please schedule an appointment to ensure navigator availability. \n  \nSchedule An Appointment \n  \nPortico’s on-site services are made possible through grants by the: \n  
URL:https://porticohealthnet.org/event/brooklyn-center-health-resource-center/2024-08-01/
LOCATION:Brooklyn Center Health Resource Center at Brooklyn Center High School\, 6500 North Humboldt Avenue\, Brooklyn Center\, MN\, 55430\, United States
CATEGORIES:Enrollment Events
END:VEVENT
BEGIN:VEVENT
DTSTART;TZID=America/Chicago:20240807T123000
DTEND;TZID=America/Chicago:20240807T163000
DTSTAMP:20260421T084633
CREATED:20240320T183938Z
LAST-MODIFIED:20241218T155235Z
UID:10000859-1723033800-1723048200@porticohealthnet.org
SUMMARY:Richfield Health Resource Center
DESCRIPTION:Portico’s experienced MNsure Navigators offer in-person appointments at several community locations. Appointments can be scheduled online through the links below or by calling us at 651.489.CARE (2273). Please schedule an appointment to ensure navigator availability. \n\nSchedule An Appointment \nPortico’s on-site services are made possible through a grant by the: \n\n  \n 
URL:https://porticohealthnet.org/event/richfield-health-resource-center/2024-08-07/
LOCATION:Richfield Health Resource Center at Richfield High School\, 7001 Harriet Avenue\, Door 13A\, Richfield\, MN\, 55423\, United States
CATEGORIES:Enrollment Events
END:VEVENT
BEGIN:VEVENT
DTSTART;TZID=America/Chicago:20240808T090000
DTEND;TZID=America/Chicago:20240808T140000
DTSTAMP:20260421T084633
CREATED:20240320T184251Z
LAST-MODIFIED:20250102T154254Z
UID:10000283-1723107600-1723125600@porticohealthnet.org
SUMMARY:Shakopee Family Resource Center
DESCRIPTION:Portico’s experienced MNsure Navigators offer in-person appointments at several community locations. Appointments can be scheduled online through the links below or by calling us at 651.489.CARE (2273). Please schedule an appointment to ensure navigator availability. (Important: Appointments will take place at 1615 Weston Court\, Shakopee\, starting on January 9th\, 2025).  \n  \nSchedule An Appointment
URL:https://porticohealthnet.org/event/scott-county-workforce-center/2024-08-08/
LOCATION:Shakopee Family Resource Center\, 1615 Weston Court\, Shakopee\, 55379\, United States
CATEGORIES:Enrollment Events
END:VEVENT
BEGIN:VEVENT
DTSTART;TZID=America/Chicago:20240808T130000
DTEND;TZID=America/Chicago:20240808T170000
DTSTAMP:20260421T084633
CREATED:20240320T184509Z
LAST-MODIFIED:20240619T180824Z
UID:10000544-1723122000-1723136400@porticohealthnet.org
SUMMARY:Brooklyn Center Health Resource Center
DESCRIPTION:Portico’s experienced MNsure Navigators offer in-person appointments at several community locations. Appointments can be scheduled online through the links below or by calling us at 651.489.CARE (2273). Please schedule an appointment to ensure navigator availability. \n  \nSchedule An Appointment \n  \nPortico’s on-site services are made possible through grants by the: \n  
URL:https://porticohealthnet.org/event/brooklyn-center-health-resource-center/2024-08-08/
LOCATION:Brooklyn Center Health Resource Center at Brooklyn Center High School\, 6500 North Humboldt Avenue\, Brooklyn Center\, MN\, 55430\, United States
CATEGORIES:Enrollment Events
END:VEVENT
BEGIN:VEVENT
DTSTART;TZID=America/Chicago:20240814T123000
DTEND;TZID=America/Chicago:20240814T163000
DTSTAMP:20260421T084634
CREATED:20240320T183938Z
LAST-MODIFIED:20241218T155235Z
UID:10000860-1723638600-1723653000@porticohealthnet.org
SUMMARY:Richfield Health Resource Center
DESCRIPTION:Portico’s experienced MNsure Navigators offer in-person appointments at several community locations. Appointments can be scheduled online through the links below or by calling us at 651.489.CARE (2273). Please schedule an appointment to ensure navigator availability. \n\nSchedule An Appointment \nPortico’s on-site services are made possible through a grant by the: \n\n  \n 
URL:https://porticohealthnet.org/event/richfield-health-resource-center/2024-08-14/
LOCATION:Richfield Health Resource Center at Richfield High School\, 7001 Harriet Avenue\, Door 13A\, Richfield\, MN\, 55423\, United States
CATEGORIES:Enrollment Events
END:VEVENT
END:VCALENDAR